BEGIN:VCALENDAR
VERSION:2.0
PRODID:-//Dorfgemeinschaft Weiss - ECPv6.15.20//NONSGML v1.0//EN
CALSCALE:GREGORIAN
METHOD:PUBLISH
X-WR-CALNAME:Dorfgemeinschaft Weiss
X-ORIGINAL-URL:https://mein-weiss.de
X-WR-CALDESC:Veranstaltungen für Dorfgemeinschaft Weiss
REFRESH-INTERVAL;VALUE=DURATION:PT1H
X-Robots-Tag:noindex
X-PUBLISHED-TTL:PT1H
BEGIN:VTIMEZONE
TZID:Europe/Berlin
BEGIN:DAYLIGHT
TZOFFSETFROM:+0100
TZOFFSETTO:+0200
TZNAME:CEST
DTSTART:20260329T010000
END:DAYLIGHT
BEGIN:STANDARD
TZOFFSETFROM:+0200
TZOFFSETTO:+0100
TZNAME:CET
DTSTART:20261025T010000
END:STANDARD
BEGIN:DAYLIGHT
TZOFFSETFROM:+0100
TZOFFSETTO:+0200
TZNAME:CEST
DTSTART:20270328T010000
END:DAYLIGHT
BEGIN:STANDARD
TZOFFSETFROM:+0200
TZOFFSETTO:+0100
TZNAME:CET
DTSTART:20271031T010000
END:STANDARD
BEGIN:DAYLIGHT
TZOFFSETFROM:+0100
TZOFFSETTO:+0200
TZNAME:CEST
DTSTART:20280326T010000
END:DAYLIGHT
BEGIN:STANDARD
TZOFFSETFROM:+0200
TZOFFSETTO:+0100
TZNAME:CET
DTSTART:20281029T010000
END:STANDARD
END:VTIMEZONE
BEGIN:VEVENT
DTSTART;TZID=Europe/Berlin:20270106T180000
DTEND;TZID=Europe/Berlin:20270107T003000
DTSTAMP:20260421T024530
CREATED:20260319T100043Z
LAST-MODIFIED:20260319T100043Z
UID:6577-1799258400-1799281800@mein-weiss.de
SUMMARY:JECKE SITZUNG *NEU*
DESCRIPTION:Premiere bei der KG: Die JECKE SITZUNG ! \nDas brandneues Format voller kölscher Stimmung – mit echten Größen des Kölner Karnevals:\nBläck Fööss\, Guido Cantz\, Kasalla\, Martin Schopps\, Klüngelköpp\, „Der Sitzungspräsident“ Volker Weininger\, Paveier\, das Tanzcorps Colonia Rut-Wiess\, Druckluft mit der Karnevalsmaus und mehr! \nVorhang auf\, für die erste KG-Sitzung im ehrwürdigen Festsaal des Hotel Maritim. \nBildquelle: KGKR \n\nDieser Eintrag wird Ihnen zur Verfügung gestellt vom Kölner BilderBogen – eines der beliebtesten Stadtmagazine in Köln. Ihr Termin fehlt? Einfach kostenlos einreichen: www.bilderbogen.de/eventeintrag
URL:https://mein-weiss.de/event/jecke-sitzung-neu/
LOCATION:Maritim Hotel Köln\, Heumarkt 20\, Köln\, NRW\, 50667
ATTACH;FMTTYPE=image/jpeg:https://mein-weiss.de/wp-content/uploads/2026/03/JECKESITZUNG-720x1024-1.jpeg
END:VEVENT
BEGIN:VEVENT
DTSTART;TZID=Europe/Berlin:20270109T170000
DTEND;TZID=Europe/Berlin:20270110T000000
DTSTAMP:20260421T024530
CREATED:20260319T100046Z
LAST-MODIFIED:20260319T110041Z
UID:6581-1799514000-1799539200@mein-weiss.de
SUMMARY:Jeck in Hellblau
DESCRIPTION:Die fünfte Auflage der „Jeck in Hellblau“\, unter dem Motto Singe\, Danze\, Höppe\, findet wie immer im gesamten Erdgeschoss des Dorint Hotels\, der Hofburg des Kölner Dreigestirns\, statt. \nDie Hellblauen werden wieder ein karnevalistisches Feuerwerk zünden\, so erwartet die bunt kostümierten Gäste ein Spitzen-Programm ab 17:00h mit Klüngelköpp\, Domstürmer\, die Höhner\, Bläck Fööss\, Kasalla und das ehrenwerte Kölner Dreigestirn. \nWenn Karneval auf Party trifft\, dann heißt es: Jeck in Hellblau! \nBildquelle: KGKR \n\nDieser Eintrag wird Ihnen zur Verfügung gestellt vom Kölner BilderBogen – eines der beliebtesten Stadtmagazine in Köln. Ihr Termin fehlt? Einfach kostenlos einreichen: www.bilderbogen.de/eventeintrag
URL:https://mein-weiss.de/event/jeck-in-hellblau/
LOCATION:Hotel Dorint am Heumarkt\, Pipinstraße 1\, Köln\, NRW\, 50667
ATTACH;FMTTYPE=image/png:https://mein-weiss.de/wp-content/uploads/2026/03/JiH2027-4x5-1-819x1024-1.png
END:VEVENT
BEGIN:VEVENT
DTSTART;TZID=Europe/Berlin:20270123T160000
DTEND;TZID=Europe/Berlin:20270124T003000
DTSTAMP:20260421T024530
CREATED:20260319T110044Z
LAST-MODIFIED:20260319T110044Z
UID:6585-1800720000-1800750600@mein-weiss.de
SUMMARY:JECKEDANZ em Reissdorf
DESCRIPTION:Die erste Ausgabe der JECKEDANZ in der neuen Location\, der Privatbrauerei Heinrich Reissdorf in Rodenkirchen\, war in 5 Minuten ausverkauft und lieferte ein grandioses Fest mit bester Unterhaltung\, einen sensationeller Abend mit 1.800 fantastischen Gästen. \nDas wird auch 2027 wieder ein legendäres Fest\, mit absoluten Highlights des Kölner Karnevals:\nQuerbeat\, Höhner\, Kasalla\, Klüngelköpp\, Brings\, King Loui\, Kempes Feinest und vielen anderen. \nMehr – geht nicht! \nBildquelle: KGKR \n\nDieser Eintrag wird Ihnen zur Verfügung gestellt vom Kölner BilderBogen – eines der beliebtesten Stadtmagazine in Köln. Ihr Termin fehlt? Einfach kostenlos einreichen: www.bilderbogen.de/eventeintrag
URL:https://mein-weiss.de/event/jeckedanz-em-reissdorf/
LOCATION:Festhalle Reissdorf Brauerei\, Emil-Hoffmann-Str. 4-10\, Köln\, 50996
ATTACH;FMTTYPE=image/png:https://mein-weiss.de/wp-content/uploads/2026/03/JECKEDANZ-2027-5X4.png
END:VEVENT
BEGIN:VEVENT
DTSTART;TZID=Europe/Berlin:20270129T190000
DTEND;TZID=Europe/Berlin:20270129T230000
DTSTAMP:20260421T024530
CREATED:20260302T100107Z
LAST-MODIFIED:20260302T100107Z
UID:6464-1801249200-1801263600@mein-weiss.de
SUMMARY:Sing met
DESCRIPTION:Save the Date \nMusikabend mit neuen Hits der Session\, kölsche Klassiker und jede Menge Stimmung \nBand 10\,00 € \nVVK läuft\, Erlös Spende \nBändchen gibt es unter SDEM@KNORR.online \n  \n\nDieser Eintrag wird Ihnen zur Verfügung gestellt vom Kölner BilderBogen – eines der beliebtesten Stadtmagazine in Köln. Ihr Termin fehlt? Einfach kostenlos einreichen: www.bilderbogen.de/eventeintrag
URL:https://mein-weiss.de/event/sing-met/
LOCATION:Haus Schmitz\, Rheinstraße 6\, Köln\, NRW\, 50996\, Deutschland
END:VEVENT
BEGIN:VEVENT
DTSTART;TZID=Europe/Berlin:20270131T130000
DTEND;TZID=Europe/Berlin:20270131T170000
DTSTAMP:20260421T024530
CREATED:20260319T110047Z
LAST-MODIFIED:20260319T110047Z
UID:6587-1801400400-1801414800@mein-weiss.de
SUMMARY:Pänz-und Familich FasteLOVEnd
DESCRIPTION:Ur-Format unter den Veranstaltungen der KG\, findet wieder am Sonntag vor der Strassen-Karnevalswoche statt. Die bunt geschmückten OSK (Offene Schule Köln) wird auch 2027 die Bühne für den Nachwuchs zur Verfügung stellen. \nPänz-Elferrat\, Eisstand\, Kinderschminken und ganz viel Programm wird wieder dabei sein\, die KG freut sich auf einen schönen „Nohmidaach met Pänz“. \nBildquelle: KGKR \n\nDieser Eintrag wird Ihnen zur Verfügung gestellt vom Kölner BilderBogen – eines der beliebtesten Stadtmagazine in Köln. Ihr Termin fehlt? Einfach kostenlos einreichen: www.bilderbogen.de/eventeintrag
URL:https://mein-weiss.de/event/paenz-und-familich-fastelovend/
LOCATION:Offene Schule Köln (OSK)\, Sürther Straße 199\, Köln\, NRW\, 50999\, Deutschland
ATTACH;FMTTYPE=image/png:https://mein-weiss.de/wp-content/uploads/2026/03/PuF-2027-4x3-1.png
END:VEVENT
END:VCALENDAR