BEGIN:VCALENDAR
VERSION:2.0
PRODID:-//Dorfgemeinschaft Weiss - ECPv6.15.20//NONSGML v1.0//EN
CALSCALE:GREGORIAN
METHOD:PUBLISH
X-WR-CALNAME:Dorfgemeinschaft Weiss
X-ORIGINAL-URL:https://mein-weiss.de
X-WR-CALDESC:Veranstaltungen für Dorfgemeinschaft Weiss
REFRESH-INTERVAL;VALUE=DURATION:PT1H
X-Robots-Tag:noindex
X-PUBLISHED-TTL:PT1H
BEGIN:VTIMEZONE
TZID:Europe/Berlin
BEGIN:DAYLIGHT
TZOFFSETFROM:+0100
TZOFFSETTO:+0200
TZNAME:CEST
DTSTART:20250330T010000
END:DAYLIGHT
BEGIN:STANDARD
TZOFFSETFROM:+0200
TZOFFSETTO:+0100
TZNAME:CET
DTSTART:20251026T010000
END:STANDARD
BEGIN:DAYLIGHT
TZOFFSETFROM:+0100
TZOFFSETTO:+0200
TZNAME:CEST
DTSTART:20260329T010000
END:DAYLIGHT
BEGIN:STANDARD
TZOFFSETFROM:+0200
TZOFFSETTO:+0100
TZNAME:CET
DTSTART:20261025T010000
END:STANDARD
BEGIN:DAYLIGHT
TZOFFSETFROM:+0100
TZOFFSETTO:+0200
TZNAME:CEST
DTSTART:20270328T010000
END:DAYLIGHT
BEGIN:STANDARD
TZOFFSETFROM:+0200
TZOFFSETTO:+0100
TZNAME:CET
DTSTART:20271031T010000
END:STANDARD
END:VTIMEZONE
BEGIN:VEVENT
DTSTART;TZID=Europe/Berlin:20260628T110000
DTEND;TZID=Europe/Berlin:20260628T130000
DTSTAMP:20260420T163330
CREATED:20260107T190044Z
LAST-MODIFIED:20260107T190044Z
UID:5996-1782644400-1782651600@mein-weiss.de
SUMMARY:Martin Sasse – Solopiano
DESCRIPTION:Martin Sasse gilt als Koryphäe des Jazz. Der Pianist\, Keyboarder und Komponist zählt zu den wichtigsten\nJazzpianisten des Landes\, auch sein internationaler Ruhm ist beträchtlich.\nSeine Piano-Sprache wird bestimmt von Groove\, Swing\, Energie\, Virtuosität\,\nEinfallsreichtum\, hoher Improvisationskunst und einer sagenhaften Spielfreude\,\ndie vor allem bei Live-Auftritten zu Sasses unverwechselbaren Kennzeichen gehört. \nNeben seinen Soloauftritten spielt er in verschiedenen Formationen\, hat Stars\nwie Sting\, Chris de Burgh\, Jose Carreras\, Placido Domingo und Luciano Pavarotti\nbegleitet und trat mit Helge Schneider\, Udo Jürgens und Udo Lindenberg auf. \nBei Konzerten\, ob Solo oder mit anderen Musizierenden\, glänzt Martin Sasse\nmit faszinierender Vortragsweise\, die nahbare Art und der leidenschaftliche\nAusdruck in seiner Musik machen seine Konzerte zu wahren Erlebnissen.\nwww.martinsasse.de \nEintritt frei – eine Spende ist gerne willkommen ! \nVeranstaltungsort:\nRuder-und Tennisklub RTK Germania e.V.\nAlfred-Schütte-Allee 163\n51105 Köln-Poll\nwww.rtk-germania.de\nRTK-Germania-Musik@t-online.de \nBildquelle: martinsasse.de / ©Lena Semmelroggen \n\nDieser Eintrag wird Ihnen zur Verfügung gestellt vom Kölner BilderBogen – eines der beliebtesten Stadtmagazine in Köln. Ihr Termin fehlt? Einfach kostenlos einreichen: www.bilderbogen.de/eventeintrag
URL:https://mein-weiss.de/event/martin-sasse-solopiano/
LOCATION:RTK Germania Köln-Poll\, Alfred-Schütte-Allee 163
ATTACH;FMTTYPE=image/jpeg:https://mein-weiss.de/wp-content/uploads/2026/01/Foto-Martin-Sasse-1024x990-1.jpg
END:VEVENT
END:VCALENDAR