BEGIN:VCALENDAR
VERSION:2.0
PRODID:-//Dorfgemeinschaft Weiss - ECPv6.15.20//NONSGML v1.0//EN
CALSCALE:GREGORIAN
METHOD:PUBLISH
X-ORIGINAL-URL:https://mein-weiss.de
X-WR-CALDESC:Veranstaltungen für Dorfgemeinschaft Weiss
REFRESH-INTERVAL;VALUE=DURATION:PT1H
X-Robots-Tag:noindex
X-PUBLISHED-TTL:PT1H
BEGIN:VTIMEZONE
TZID:Europe/Berlin
BEGIN:DAYLIGHT
TZOFFSETFROM:+0100
TZOFFSETTO:+0200
TZNAME:CEST
DTSTART:20250330T010000
END:DAYLIGHT
BEGIN:STANDARD
TZOFFSETFROM:+0200
TZOFFSETTO:+0100
TZNAME:CET
DTSTART:20251026T010000
END:STANDARD
BEGIN:DAYLIGHT
TZOFFSETFROM:+0100
TZOFFSETTO:+0200
TZNAME:CEST
DTSTART:20260329T010000
END:DAYLIGHT
BEGIN:STANDARD
TZOFFSETFROM:+0200
TZOFFSETTO:+0100
TZNAME:CET
DTSTART:20261025T010000
END:STANDARD
BEGIN:DAYLIGHT
TZOFFSETFROM:+0100
TZOFFSETTO:+0200
TZNAME:CEST
DTSTART:20270328T010000
END:DAYLIGHT
BEGIN:STANDARD
TZOFFSETFROM:+0200
TZOFFSETTO:+0100
TZNAME:CET
DTSTART:20271031T010000
END:STANDARD
END:VTIMEZONE
BEGIN:VEVENT
DTSTART;TZID=Europe/Berlin:20260619T100000
DTEND;TZID=Europe/Berlin:20260619T120000
DTSTAMP:20260420T164417
CREATED:20260417T120109Z
LAST-MODIFIED:20260417T130106Z
UID:6790-1781863200-1781870400@mein-weiss.de
SUMMARY:Tischtennis
DESCRIPTION:Unser inklusives Tischtennisangebot lädt ein zum freudeorientierten Spielen – ohne Leistungsdruck\, aber mit ganz viel Herz! \nBildquelle: AWO \n\nDieser Eintrag wird Ihnen zur Verfügung gestellt vom Kölner BilderBogen – eines der beliebtesten Stadtmagazine in Köln. Ihr Termin fehlt? Einfach kostenlos einreichen: www.bilderbogen.de/eventeintrag
URL:https://mein-weiss.de/event/tischtennis-8/
LOCATION:Villa AWO\, Walther-Rathenau-Str. 9\, Köln\, NRW\, 50996\, Deutschland
ATTACH;FMTTYPE=image/png:https://mein-weiss.de/wp-content/uploads/2026/04/Tischtennis-724x1024-1.png
END:VEVENT
BEGIN:VEVENT
DTSTART;TZID=Europe/Berlin:20260619T190000
DTEND;TZID=Europe/Berlin:20260619T210000
DTSTAMP:20260420T164417
CREATED:20260413T100105Z
LAST-MODIFIED:20260413T100105Z
UID:6725-1781895600-1781902800@mein-weiss.de
SUMMARY:Was du schon immer über das Leben wissen wolltest
DESCRIPTION:Zwei Stunden\, die dein Leben verändern können_\nmit Gurudev Sri Sri Ravi Shankar \nErlebe Gurudev Sri Sri Ravi Shankar\, einen der renommiertesten Friedensbotschafter und spirituellen Lehrer unserer Zeit\, live! \nIn nur zwei Stunden erhältst du tiefgehende Einblicke in den Geist\, Glück\, Beziehungen und den Sinn des Lebens – nicht als Theorie\, sondern als lebendige\, praktische Erfahrung. \n🧘‍♀️ Geführte Meditation\nEgal ob Anfänger oder Fortgeschrittener – du wirst mühelos tiefe Entspannung erfahren. \n💡 Transformierende Impulse\nErhalte Inspirationen\, die nachhaltige positive Veränderungen in deinem Alltag bewirken können. \n⁉️ Fragen & Antworten\nBekomme Antworten auf deine Fragen durch praktische\, oft humorvolle Weisheit. \n🎟️ Sichere dir jetzt dein Ticket! \nBildquelle: Art of Living e.V. \nbit.ly/gurudevkoeln \n\nDieser Eintrag wird Ihnen zur Verfügung gestellt vom Kölner BilderBogen – eines der beliebtesten Stadtmagazine in Köln. Ihr Termin fehlt? Einfach kostenlos einreichen: www.bilderbogen.de/eventeintrag
URL:https://mein-weiss.de/event/was-du-schon-immer-ueber-das-leben-wissen-wolltest/
LOCATION:Maritim Hotel Köln\, Heumarkt 20\, Köln\, NRW\, 50667
ATTACH;FMTTYPE=image/jpeg:https://mein-weiss.de/wp-content/uploads/2026/04/1b33d32b-535b-41f7-a27c-cade705a6afd-1024x536-1.jpg
END:VEVENT
END:VCALENDAR