BEGIN:VCALENDAR
VERSION:2.0
PRODID:-//Dorfgemeinschaft Weiss - ECPv6.15.20//NONSGML v1.0//EN
CALSCALE:GREGORIAN
METHOD:PUBLISH
X-WR-CALNAME:Dorfgemeinschaft Weiss
X-ORIGINAL-URL:https://mein-weiss.de
X-WR-CALDESC:Veranstaltungen für Dorfgemeinschaft Weiss
REFRESH-INTERVAL;VALUE=DURATION:PT1H
X-Robots-Tag:noindex
X-PUBLISHED-TTL:PT1H
BEGIN:VTIMEZONE
TZID:Europe/Berlin
BEGIN:DAYLIGHT
TZOFFSETFROM:+0100
TZOFFSETTO:+0200
TZNAME:CEST
DTSTART:20250330T010000
END:DAYLIGHT
BEGIN:STANDARD
TZOFFSETFROM:+0200
TZOFFSETTO:+0100
TZNAME:CET
DTSTART:20251026T010000
END:STANDARD
BEGIN:DAYLIGHT
TZOFFSETFROM:+0100
TZOFFSETTO:+0200
TZNAME:CEST
DTSTART:20260329T010000
END:DAYLIGHT
BEGIN:STANDARD
TZOFFSETFROM:+0200
TZOFFSETTO:+0100
TZNAME:CET
DTSTART:20261025T010000
END:STANDARD
BEGIN:DAYLIGHT
TZOFFSETFROM:+0100
TZOFFSETTO:+0200
TZNAME:CEST
DTSTART:20270328T010000
END:DAYLIGHT
BEGIN:STANDARD
TZOFFSETFROM:+0200
TZOFFSETTO:+0100
TZNAME:CET
DTSTART:20271031T010000
END:STANDARD
END:VTIMEZONE
BEGIN:VEVENT
DTSTART;TZID=Europe/Berlin:20260610T103000
DTEND;TZID=Europe/Berlin:20260610T120000
DTSTAMP:20260422T120930
CREATED:20260420T200109Z
LAST-MODIFIED:20260420T200109Z
UID:6852-1781087400-1781092800@mein-weiss.de
SUMMARY:Eltern-Kind-Gruppe
DESCRIPTION:Sie suchen keine Betreuung\, sondern Spielgefährten für Ihr Kind? Und Sie möchten dabei andere Eltern kennenlernen\, sich austauschen und neue Kontakte knüpfen?\nDann sind Sie in der Villa AWO genau richtig!\nUnsere Eltern-Kind-Gruppe richtet sich an Kinder ab etwa 6 Monaten und ihre Eltern. \nBildquelle: AWO \n\nDieser Eintrag wird Ihnen zur Verfügung gestellt vom Kölner BilderBogen – eines der beliebtesten Stadtmagazine in Köln. Ihr Termin fehlt? Einfach kostenlos einreichen: www.bilderbogen.de/eventeintrag
URL:https://mein-weiss.de/event/eltern-kind-gruppe-9/
LOCATION:Villa AWO\, Walther-Rathenau-Str. 9\, Köln\, NRW\, 50996\, Deutschland
ATTACH;FMTTYPE=image/png:https://mein-weiss.de/wp-content/uploads/2026/04/Eltern-Kind-Gruppe-Villa-10-724x1024-1.png
END:VEVENT
BEGIN:VEVENT
DTSTART;TZID=Europe/Berlin:20260610T140000
DTEND;TZID=Europe/Berlin:20260610T153000
DTSTAMP:20260422T120930
CREATED:20260420T210057Z
LAST-MODIFIED:20260420T220112Z
UID:6854-1781100000-1781105400@mein-weiss.de
SUMMARY:DIGITAL FIT – die Villa AWO hilft in jedem Alter. Kurs mit Anmeldung.
DESCRIPTION:Die Villa AWO hilft in jedem Alter. Kurs mit Anmeldung. \nTechnik muss nicht kompliziert sein.\nOb Smartphone\, Tablet oder Laptop – wir unterstützen Sie geduldig und verständlich bei Ihren ersten Schritten oder individuellen Fragen. \nBildquelle: AWO \n\nDieser Eintrag wird Ihnen zur Verfügung gestellt vom Kölner BilderBogen – eines der beliebtesten Stadtmagazine in Köln. Ihr Termin fehlt? Einfach kostenlos einreichen: www.bilderbogen.de/eventeintrag
URL:https://mein-weiss.de/event/digital-fit-die-villa-awo-hilft-in-jedem-alter-kurs-mit-anmeldung-7/
LOCATION:Villa AWO\, Walther-Rathenau-Str. 9\, Köln\, NRW\, 50996\, Deutschland
ATTACH;FMTTYPE=image/png:https://mein-weiss.de/wp-content/uploads/2026/04/Digital-FIT-die-Villa-AWO-hilft-in-jedem-Alter-1-724x1024-1.png
END:VEVENT
BEGIN:VEVENT
DTSTART;TZID=Europe/Berlin:20260610T190000
DTEND;TZID=Europe/Berlin:20260610T200000
DTSTAMP:20260422T120930
CREATED:20260420T210059Z
LAST-MODIFIED:20260420T210059Z
UID:6855-1781118000-1781121600@mein-weiss.de
SUMMARY:Power Pilates
DESCRIPTION:Ein dynamisches Pilates-Workout\, das Kraft\, Stabilität und Beweglichkeit verbindet. \nBildquelle: AWO \n\nDieser Eintrag wird Ihnen zur Verfügung gestellt vom Kölner BilderBogen – eines der beliebtesten Stadtmagazine in Köln. Ihr Termin fehlt? Einfach kostenlos einreichen: www.bilderbogen.de/eventeintrag
URL:https://mein-weiss.de/event/power-pilates-9/
LOCATION:Villa AWO\, Walther-Rathenau-Str. 9\, Köln\, NRW\, 50996\, Deutschland
ATTACH;FMTTYPE=image/png:https://mein-weiss.de/wp-content/uploads/2026/04/Power-Pilates-724x1024-1.png
END:VEVENT
END:VCALENDAR