BEGIN:VCALENDAR
VERSION:2.0
PRODID:-//Dorfgemeinschaft Weiss - ECPv6.15.20//NONSGML v1.0//EN
CALSCALE:GREGORIAN
METHOD:PUBLISH
X-ORIGINAL-URL:https://mein-weiss.de
X-WR-CALDESC:Veranstaltungen für Dorfgemeinschaft Weiss
REFRESH-INTERVAL;VALUE=DURATION:PT1H
X-Robots-Tag:noindex
X-PUBLISHED-TTL:PT1H
BEGIN:VTIMEZONE
TZID:Europe/Berlin
BEGIN:DAYLIGHT
TZOFFSETFROM:+0100
TZOFFSETTO:+0200
TZNAME:CEST
DTSTART:20250330T010000
END:DAYLIGHT
BEGIN:STANDARD
TZOFFSETFROM:+0200
TZOFFSETTO:+0100
TZNAME:CET
DTSTART:20251026T010000
END:STANDARD
BEGIN:DAYLIGHT
TZOFFSETFROM:+0100
TZOFFSETTO:+0200
TZNAME:CEST
DTSTART:20260329T010000
END:DAYLIGHT
BEGIN:STANDARD
TZOFFSETFROM:+0200
TZOFFSETTO:+0100
TZNAME:CET
DTSTART:20261025T010000
END:STANDARD
BEGIN:DAYLIGHT
TZOFFSETFROM:+0100
TZOFFSETTO:+0200
TZNAME:CEST
DTSTART:20270328T010000
END:DAYLIGHT
BEGIN:STANDARD
TZOFFSETFROM:+0200
TZOFFSETTO:+0100
TZNAME:CET
DTSTART:20271031T010000
END:STANDARD
END:VTIMEZONE
BEGIN:VEVENT
DTSTART;TZID=Europe/Berlin:20260530T200000
DTEND;TZID=Europe/Berlin:20260530T223000
DTSTAMP:20260420T182715
CREATED:20260416T100111Z
LAST-MODIFIED:20260416T110049Z
UID:6755-1780171200-1780180200@mein-weiss.de
SUMMARY:Sylvia Brecko – „Hilde – Leben & Lieder der Knef“
DESCRIPTION:Moderation – Lesung – Gesang  \nAm 28. Dezember 2025 wäre Hildegard Knef 100 Jahre alt geworden.\nWie würdigt man „unsere letzte\, deutsche Diva“\, wie sie oft genannt wird? Diese Frage hat sich Sylvia Brécko gestellt und sich der Knef als Künstlerin und Journalistin genähert: Die ehemalige Moderatorin und Autorin des Westdeutschen Rundfunks lässt Hilde selbst zu Wort kommen\, indem sie aus den Büchern der Knef und den zahlreichen Fernsehinterviews\, die sie gegeben hat\, zitiert. Diese zum Nachdenken und Lachen anregenden Passagen werden von Sylvia Brécko um selbstironische\, melancholische und manchmal auch frivole Chansons der Ausnahmekünstlerin ergänzt. Auf diese Weise entsteht ein Bild von Hilde\, das sie dem Zuschauer bisweilen sehr nahe bringt und den bisherigen Blick auf die Knef vielleicht sogar um ganz neue Aspekte erweitert. Freuen Sie sich auf eine liebevoll inszenierte Hommage an eine faszinierende Frau! \nhttp://sylvia-brecko.de/ \nPressebild: Hilde Klein \n\nDieser Eintrag wird Ihnen zur Verfügung gestellt vom Kölner BilderBogen – eines der beliebtesten Stadtmagazine in Köln. Ihr Termin fehlt? Einfach kostenlos einreichen: www.bilderbogen.de/eventeintrag
URL:https://mein-weiss.de/event/sylvia-brecko-hilde-leben-lieder-der-knef/
LOCATION:Theater509 Bürgerhaus Stollwerck\, Dreikönigenstraße 23\, Köln\, 50678
ATTACH;FMTTYPE=image/png:https://mein-weiss.de/wp-content/uploads/2026/04/Bildschirmfoto-2026-04-16-um-11.34.50.png
END:VEVENT
END:VCALENDAR