BEGIN:VCALENDAR
VERSION:2.0
PRODID:-//Dorfgemeinschaft Weiss - ECPv6.15.20//NONSGML v1.0//EN
CALSCALE:GREGORIAN
METHOD:PUBLISH
X-WR-CALNAME:Dorfgemeinschaft Weiss
X-ORIGINAL-URL:https://mein-weiss.de
X-WR-CALDESC:Veranstaltungen für Dorfgemeinschaft Weiss
REFRESH-INTERVAL;VALUE=DURATION:PT1H
X-Robots-Tag:noindex
X-PUBLISHED-TTL:PT1H
BEGIN:VTIMEZONE
TZID:Europe/Berlin
BEGIN:DAYLIGHT
TZOFFSETFROM:+0100
TZOFFSETTO:+0200
TZNAME:CEST
DTSTART:20250330T010000
END:DAYLIGHT
BEGIN:STANDARD
TZOFFSETFROM:+0200
TZOFFSETTO:+0100
TZNAME:CET
DTSTART:20251026T010000
END:STANDARD
BEGIN:DAYLIGHT
TZOFFSETFROM:+0100
TZOFFSETTO:+0200
TZNAME:CEST
DTSTART:20260329T010000
END:DAYLIGHT
BEGIN:STANDARD
TZOFFSETFROM:+0200
TZOFFSETTO:+0100
TZNAME:CET
DTSTART:20261025T010000
END:STANDARD
BEGIN:DAYLIGHT
TZOFFSETFROM:+0100
TZOFFSETTO:+0200
TZNAME:CEST
DTSTART:20270328T010000
END:DAYLIGHT
BEGIN:STANDARD
TZOFFSETFROM:+0200
TZOFFSETTO:+0100
TZNAME:CET
DTSTART:20271031T010000
END:STANDARD
END:VTIMEZONE
BEGIN:VEVENT
DTSTART;TZID=Europe/Berlin:20260417T100000
DTEND;TZID=Europe/Berlin:20260528T220000
DTSTAMP:20260422T121034
CREATED:20260404T100033Z
LAST-MODIFIED:20260404T110035Z
UID:6678-1776420000-1780005600@mein-weiss.de
SUMMARY:Venedig – ein Lebensgefühl: Fotoausstellung von Joachim Rieger
DESCRIPTION:Mit der FotoKunst zwischen Schuhen beginnt eine kleine Reise nach Venedig. \nVom 17. April bis 28. Mai zeigt der Fotograf und Künstler Joachim Rieger im Schuhhaus ZUMNORDE auf der Schildergasse 51-53 in Köln seine Fotoausstellung „Venedig – ein Lebensgefühl“ \n„Wer bereit ist\, anders zu schauen und sich auf den Rhythmus dieser besonderen Stadt einzulassen\, entdeckt eine Gelassenheit\, die Venedig zu einem einzigartigen Ort gemacht hat“ schwärmt Joachim Rieger. Dabei richtet sich sein Blick weniger auf die bekannten Sehenswürdigkeiten als auf die stilleren Momente der Lagunenstadt – Szenen des venezianischen Alltags. \nAus diesen Eindrücken entstehen in seiner Manufaktur FotoKunst im Quadrat besondere KunstObjekte. Die Fotografien werden in Handarbeit auf Materialien wie Holz\, Stein & Fliesen gefertigt. Upycling spielt dabei eine große Rolle. \nFür diese Ausstellung treten die Werke bewusst in einen Dialog mit dem Raum des Schuhhaus ZUMNORDE. Zwischen Stoffen\, Leder und Formen der Schuhe entfalten die KunstObjekte ihre eigene Präsenz. Unterschiedliche Materialien begegnen sich\, bilden Kontraste und ergänzen sich zugleich – Kunst- und Schuhhandwerk schmiegen sich regelrecht aneinander. \nDie Arbeiten verteilen sich im gesamten Schuhhaus. Besucher:innen sind eingeladen\, sich auf eine kleine Reise durch Venedig zu begeben – zwischen Schuhen und handgefertigter FotoKunst. Venedig ist mehr als eine Stadt- es ist ein Lebensgefühl. \nDen Abschluss der Ausstellung bildet eine Finissage am 28. Mai ab 18 Uhr. \n\nDieser Eintrag wird Ihnen zur Verfügung gestellt vom Kölner BilderBogen – eines der beliebtesten Stadtmagazine in Köln. Ihr Termin fehlt? Einfach kostenlos einreichen: www.bilderbogen.de/eventeintrag
URL:https://mein-weiss.de/event/venedig-ein-lebensgefuehl-fotoausstellung-von-joachim-rieger/
LOCATION:Schuhaus Zumnorde\, Schildergasse 51-53\, Köln\, NRW\, 50677\, Deutschland
ATTACH;FMTTYPE=image/jpeg:https://mein-weiss.de/wp-content/uploads/2026/04/Venedig-ein-Lebensgefuehl-Joachim-Rieger-007-1024x683-1.jpg
END:VEVENT
BEGIN:VEVENT
DTSTART;TZID=Europe/Berlin:20260512T110000
DTEND;TZID=Europe/Berlin:20260512T120000
DTSTAMP:20260422T121034
CREATED:20260420T140126Z
LAST-MODIFIED:20260420T180059Z
UID:6828-1778583600-1778587200@mein-weiss.de
SUMMARY:Im Gleichgewicht bleiben
DESCRIPTION:Unsicherheit und Angst zu stürzen\, das kennen viele! Deswegen bieten Annette und Hannelore diesen Kurs an und zeigen Übungen\, die dies verhindern können.\nÜbungen zur Förderung der Körperwahrnehmung\, für die Stabilisation und zum Muskelaufbau.\nSo werden wir die “Höhen und Tiefen des Alltags” sicherer bewältigen. \nBildquelle: AWO \n\nDieser Eintrag wird Ihnen zur Verfügung gestellt vom Kölner BilderBogen – eines der beliebtesten Stadtmagazine in Köln. Ihr Termin fehlt? Einfach kostenlos einreichen: www.bilderbogen.de/eventeintrag
URL:https://mein-weiss.de/event/im-gleichgewicht-bleiben-4/
LOCATION:Villa AWO\, Walther-Rathenau-Str. 9\, Köln\, NRW\, 50996\, Deutschland
ATTACH;FMTTYPE=image/png:https://mein-weiss.de/wp-content/uploads/2026/04/Im-Gleichgewicht-bleiben-724x1024-1.png
END:VEVENT
BEGIN:VEVENT
DTSTART;TZID=Europe/Berlin:20260512T200000
DTEND;TZID=Europe/Berlin:20260512T223000
DTSTAMP:20260422T121034
CREATED:20260401T110059Z
LAST-MODIFIED:20260401T110059Z
UID:6653-1778616000-1778625000@mein-weiss.de
SUMMARY:Rilke vertont. Tamara Lukasheva & Gäste
DESCRIPTION:Jazz\, Poesie \n100 Jahre nach Rilke: Tamara Lukasheva verwandelt Poesie in ihr persönlichstes Programm. Das gleichnamige neue Soloalbum der ukrainischen\, in Köln lebenden Sängerin\, Pianistin und Komponistin erscheint am 11. Mai 2026 – einen Tag vor dem Release-Konzert im Stadtgarten. Zu diesem besonderen Anlass hat die Künstlerin für einige Stücke den Saxophonisten Fabian Dudek und den Bassisten Nick Dunston als Gäste eingeladen. \nIm lyrischen Werk von Rainer Maria Rilke nehmen dessen Improvisationen aus dem Capreser Winter eine Sonderstellung ein. 1906 und 1907 auf Capri geschrieben\, nimmt dieser Verszyklus die kurz darauf entstandenen Ding-Gedichte Rilkes aber keineswegs vorweg\, sondern versucht\, über den Klang des gesprochenen Wortes\, den Sinn des Gesagten erfassen zu lassen. Dafür braucht es keine besondere Vorbereitung\, nur Intuition und Emotion zählen. Auch und gerade deshalb ist dieses Gedicht ein Geschenk für eine Improvisationskünstlerin wie Tamara Lukasheva. \nAuch dieser in Köln lebenden\, 1988 im ukrainischen Odesa geborenen Sängerin und Pianistin\, geht es oftmals darum\, mit der Stimme hinter die Dinge zu kommen und zur ursprünglichen Bedeutung einer Sache zu gelangen. Ihr Gesang ist Mittler und Medium zugleich. Die Person Tamara Lukasheva tritt in den Hintergrund\, um den Wesenskern und das Grundlegende in den Versen Rilkes allein durch das Timbre der Stimme zu erfahren – pur\, rein und echt. \n// Tamara Lukasheva (piano\, vocals)\, Nick Dunston (bass)\, Fabian Dudek (saxophone) \n\nDieser Eintrag wird Ihnen zur Verfügung gestellt vom Kölner BilderBogen – eines der beliebtesten Stadtmagazine in Köln. Ihr Termin fehlt? Einfach kostenlos einreichen: www.bilderbogen.de/eventeintrag
URL:https://mein-weiss.de/event/rilke-vertont-tamara-lukasheva-gaeste/
LOCATION:Stadtgarten concert hall/ JAKI\, Venloer Straße 40\, Köln\, NRW\, 50672
END:VEVENT
END:VCALENDAR