BEGIN:VCALENDAR
VERSION:2.0
PRODID:-//Dorfgemeinschaft Weiss - ECPv6.15.20//NONSGML v1.0//EN
CALSCALE:GREGORIAN
METHOD:PUBLISH
X-ORIGINAL-URL:https://mein-weiss.de
X-WR-CALDESC:Veranstaltungen für Dorfgemeinschaft Weiss
REFRESH-INTERVAL;VALUE=DURATION:PT1H
X-Robots-Tag:noindex
X-PUBLISHED-TTL:PT1H
BEGIN:VTIMEZONE
TZID:Europe/Berlin
BEGIN:DAYLIGHT
TZOFFSETFROM:+0100
TZOFFSETTO:+0200
TZNAME:CEST
DTSTART:20250330T010000
END:DAYLIGHT
BEGIN:STANDARD
TZOFFSETFROM:+0200
TZOFFSETTO:+0100
TZNAME:CET
DTSTART:20251026T010000
END:STANDARD
BEGIN:DAYLIGHT
TZOFFSETFROM:+0100
TZOFFSETTO:+0200
TZNAME:CEST
DTSTART:20260329T010000
END:DAYLIGHT
BEGIN:STANDARD
TZOFFSETFROM:+0200
TZOFFSETTO:+0100
TZNAME:CET
DTSTART:20261025T010000
END:STANDARD
BEGIN:DAYLIGHT
TZOFFSETFROM:+0100
TZOFFSETTO:+0200
TZNAME:CEST
DTSTART:20270328T010000
END:DAYLIGHT
BEGIN:STANDARD
TZOFFSETFROM:+0200
TZOFFSETTO:+0100
TZNAME:CET
DTSTART:20271031T010000
END:STANDARD
END:VTIMEZONE
BEGIN:VEVENT
DTSTART;TZID=Europe/Berlin:20260417T100000
DTEND;TZID=Europe/Berlin:20260528T220000
DTSTAMP:20260420T150710
CREATED:20260404T100033Z
LAST-MODIFIED:20260404T110035Z
UID:6678-1776420000-1780005600@mein-weiss.de
SUMMARY:Venedig – ein Lebensgefühl: Fotoausstellung von Joachim Rieger
DESCRIPTION:Mit der FotoKunst zwischen Schuhen beginnt eine kleine Reise nach Venedig. \nVom 17. April bis 28. Mai zeigt der Fotograf und Künstler Joachim Rieger im Schuhhaus ZUMNORDE auf der Schildergasse 51-53 in Köln seine Fotoausstellung „Venedig – ein Lebensgefühl“ \n„Wer bereit ist\, anders zu schauen und sich auf den Rhythmus dieser besonderen Stadt einzulassen\, entdeckt eine Gelassenheit\, die Venedig zu einem einzigartigen Ort gemacht hat“ schwärmt Joachim Rieger. Dabei richtet sich sein Blick weniger auf die bekannten Sehenswürdigkeiten als auf die stilleren Momente der Lagunenstadt – Szenen des venezianischen Alltags. \nAus diesen Eindrücken entstehen in seiner Manufaktur FotoKunst im Quadrat besondere KunstObjekte. Die Fotografien werden in Handarbeit auf Materialien wie Holz\, Stein & Fliesen gefertigt. Upycling spielt dabei eine große Rolle. \nFür diese Ausstellung treten die Werke bewusst in einen Dialog mit dem Raum des Schuhhaus ZUMNORDE. Zwischen Stoffen\, Leder und Formen der Schuhe entfalten die KunstObjekte ihre eigene Präsenz. Unterschiedliche Materialien begegnen sich\, bilden Kontraste und ergänzen sich zugleich – Kunst- und Schuhhandwerk schmiegen sich regelrecht aneinander. \nDie Arbeiten verteilen sich im gesamten Schuhhaus. Besucher:innen sind eingeladen\, sich auf eine kleine Reise durch Venedig zu begeben – zwischen Schuhen und handgefertigter FotoKunst. Venedig ist mehr als eine Stadt- es ist ein Lebensgefühl. \nDen Abschluss der Ausstellung bildet eine Finissage am 28. Mai ab 18 Uhr. \n\nDieser Eintrag wird Ihnen zur Verfügung gestellt vom Kölner BilderBogen – eines der beliebtesten Stadtmagazine in Köln. Ihr Termin fehlt? Einfach kostenlos einreichen: www.bilderbogen.de/eventeintrag
URL:https://mein-weiss.de/event/venedig-ein-lebensgefuehl-fotoausstellung-von-joachim-rieger/
LOCATION:Schuhaus Zumnorde\, Schildergasse 51-53\, Köln\, NRW\, 50677\, Deutschland
ATTACH;FMTTYPE=image/jpeg:https://mein-weiss.de/wp-content/uploads/2026/04/Venedig-ein-Lebensgefuehl-Joachim-Rieger-007-1024x683-1.jpg
END:VEVENT
BEGIN:VEVENT
DTSTART;TZID=Europe/Berlin:20260508T100000
DTEND;TZID=Europe/Berlin:20260508T120000
DTSTAMP:20260420T150710
CREATED:20260417T090120Z
LAST-MODIFIED:20260417T100056Z
UID:6766-1778234400-1778241600@mein-weiss.de
SUMMARY:Tischtennis
DESCRIPTION:Unser inklusives Tischtennisangebot lädt ein zum freudeorientierten Spielen – ohne Leistungsdruck\, aber mit ganz viel Herz! \nBildquelle: AWO \n\nDieser Eintrag wird Ihnen zur Verfügung gestellt vom Kölner BilderBogen – eines der beliebtesten Stadtmagazine in Köln. Ihr Termin fehlt? Einfach kostenlos einreichen: www.bilderbogen.de/eventeintrag
URL:https://mein-weiss.de/event/tischtennis-2/
LOCATION:Villa AWO\, Walther-Rathenau-Str. 9\, Köln\, NRW\, 50996\, Deutschland
ATTACH;FMTTYPE=image/png:https://mein-weiss.de/wp-content/uploads/2026/04/Tischtennis-724x1024-1.png
END:VEVENT
BEGIN:VEVENT
DTSTART;TZID=Europe/Berlin:20260508T200000
DTEND;TZID=Europe/Berlin:20260508T220000
DTSTAMP:20260420T150710
CREATED:20260118T110036Z
LAST-MODIFIED:20260301T110050Z
UID:6060-1778270400-1778277600@mein-weiss.de
SUMMARY:„TIEFKÖLSCHES UND HOCHDEUTSCHES“ ZWEISPRACHIGE LESUNG MIT GERD KÖSTER
DESCRIPTION:Zugegebenermaßen könnte Gerd Köster auch das Telefonbuch vorlesen und würde seine Zuhörer fesseln – schlicht mit Stimme\, Sex-Appeal und Charisma. \nDer Sänger\, Autor\, Performer und gefragte Hörbuch-Sprecher bringt anstelle eines Telefonbuches allerdings dann doch lieber Bücher von bekannten Autoren und unbekannte Schätzchen mit. \nEr liest alte\, aktuelle und zeitlose Geschichten und Gedichte von Heinz Weber\, Christian Thill\, Willi Ostermann\, Woody Allen\, Heinrich Böll\, Gernhardt / Eilert / Knorr u. a.Tragische\, komische\, zornige\, zotige\, vornehme und bescheidene Alltagshelden führen uns aus dem alten Kölner Stadtteil Unter Krahnenbäumen über Irland und Südfrankreich auf (fast) alle Inseln dieser Welt. Zweisprachig\, tiefkölsch und hochdeutsch. \nÜber Kösters Sprecherqualitäten schrieb die „Buchkritik“ „Köster wechselt – je nach Stimmung und Figur – immer wieder die Tonlage und schafft so schon fast ein Ein- Personen-Hörspiel. Ein ganzes Ensemble von Sprechern könnte es kaum besser machen.“ Köster überzeugt mit seiner warmen und vollen Stimme mit dem tiefen\, angerauten Tonfall. So füllt er jede Figur individuell mit Leben und verleiht ihr einen akustischen Charakter. Auch weil Gerd Köster als Vorleser „brennt“ – von innen nach außen – wie es sich gehört! \nDas Publikum wird sich brillant unterhalten und emotional angerührt fühlen. \nBildquelle: Harald Kirsch \n\nDieser Eintrag wird Ihnen zur Verfügung gestellt vom Kölner BilderBogen – eines der beliebtesten Stadtmagazine in Köln. Ihr Termin fehlt? Einfach kostenlos einreichen: www.bilderbogen.de/eventeintrag
URL:https://mein-weiss.de/event/tiefkoelsches-und-hochdeutsches-zweisprachige-lesung-mit-gerd-koester/
LOCATION:bistro verde\, Maternusstraße 6\, Köln\, NRW\, 50996\, Deutschland
ATTACH;FMTTYPE=image/jpeg:https://mein-weiss.de/wp-content/uploads/2026/01/Gerd_Koester_1J0A2753-1024x683-1.jpg
END:VEVENT
BEGIN:VEVENT
DTSTART;TZID=Europe/Berlin:20260508T200000
DTEND;TZID=Europe/Berlin:20260508T223000
DTSTAMP:20260420T150710
CREATED:20260330T080045Z
LAST-MODIFIED:20260330T080045Z
UID:6629-1778270400-1778279400@mein-weiss.de
SUMMARY:„Shalaschön“ – Sing & Strum auf dem Böötchen
DESCRIPTION:Liebe Sängerinnen und Sänger\, Ukulelistas\, Gitarreros\, Bassisten\, Quetschisten und alle anderen\, die nach Akkorden spielen können!\nBei der nächsten „Sing & Strum“-Veranstaltung wird auf dem Böötchen\nunter dem Motto „Shalaschön“ wieder gesungen und geschrammelt\, bis die Planken wanken! Die Setlist besteht aus Songs und Liedern\, die das Herz erwärmen\, die Seele streicheln und den Ohren einen Schmaus bereiten ;-).\nAlle Songs werden per Beamer auf eine Leinwand projiziert\, sodass problemlos mitgesungen und -gespielt werden kann. Für die Ukulelistas gibt es obendrein sogar noch die Griffbilder dazu. Kommt alle vorbei\, et weed herrlich!\nWer nähere Infos möchte\, kann gerne eine Mail an „schrammelschorsch@online.de“ schreiben. \nBildquelle: G. Mühlenhöver \n\nDieser Eintrag wird Ihnen zur Verfügung gestellt vom Kölner BilderBogen – eines der beliebtesten Stadtmagazine in Köln. Ihr Termin fehlt? Einfach kostenlos einreichen: www.bilderbogen.de/eventeintrag
URL:https://mein-weiss.de/event/shalaschoen-sing-strum-auf-dem-boeoetchen/
LOCATION:MS Bootshaus Rodenkirchen\, Rodenkirchener Leinpfad\, Köln\, NRW\, 50996\, Deutschland
ATTACH;FMTTYPE=image/png:https://mein-weiss.de/wp-content/uploads/2026/03/Schrammelschorsch-scaled-1-1024x1024-1.png
END:VEVENT
END:VCALENDAR