BEGIN:VCALENDAR
VERSION:2.0
PRODID:-//Dorfgemeinschaft Weiss - ECPv6.15.20//NONSGML v1.0//EN
CALSCALE:GREGORIAN
METHOD:PUBLISH
X-ORIGINAL-URL:https://mein-weiss.de
X-WR-CALDESC:Veranstaltungen für Dorfgemeinschaft Weiss
REFRESH-INTERVAL;VALUE=DURATION:PT1H
X-Robots-Tag:noindex
X-PUBLISHED-TTL:PT1H
BEGIN:VTIMEZONE
TZID:Europe/Berlin
BEGIN:DAYLIGHT
TZOFFSETFROM:+0100
TZOFFSETTO:+0200
TZNAME:CEST
DTSTART:20250330T010000
END:DAYLIGHT
BEGIN:STANDARD
TZOFFSETFROM:+0200
TZOFFSETTO:+0100
TZNAME:CET
DTSTART:20251026T010000
END:STANDARD
BEGIN:DAYLIGHT
TZOFFSETFROM:+0100
TZOFFSETTO:+0200
TZNAME:CEST
DTSTART:20260329T010000
END:DAYLIGHT
BEGIN:STANDARD
TZOFFSETFROM:+0200
TZOFFSETTO:+0100
TZNAME:CET
DTSTART:20261025T010000
END:STANDARD
BEGIN:DAYLIGHT
TZOFFSETFROM:+0100
TZOFFSETTO:+0200
TZNAME:CEST
DTSTART:20270328T010000
END:DAYLIGHT
BEGIN:STANDARD
TZOFFSETFROM:+0200
TZOFFSETTO:+0100
TZNAME:CET
DTSTART:20271031T010000
END:STANDARD
END:VTIMEZONE
BEGIN:VEVENT
DTSTART;TZID=Europe/Berlin:20260417T100000
DTEND;TZID=Europe/Berlin:20260528T220000
DTSTAMP:20260420T135306
CREATED:20260404T100033Z
LAST-MODIFIED:20260404T110035Z
UID:6678-1776420000-1780005600@mein-weiss.de
SUMMARY:Venedig – ein Lebensgefühl: Fotoausstellung von Joachim Rieger
DESCRIPTION:Mit der FotoKunst zwischen Schuhen beginnt eine kleine Reise nach Venedig. \nVom 17. April bis 28. Mai zeigt der Fotograf und Künstler Joachim Rieger im Schuhhaus ZUMNORDE auf der Schildergasse 51-53 in Köln seine Fotoausstellung „Venedig – ein Lebensgefühl“ \n„Wer bereit ist\, anders zu schauen und sich auf den Rhythmus dieser besonderen Stadt einzulassen\, entdeckt eine Gelassenheit\, die Venedig zu einem einzigartigen Ort gemacht hat“ schwärmt Joachim Rieger. Dabei richtet sich sein Blick weniger auf die bekannten Sehenswürdigkeiten als auf die stilleren Momente der Lagunenstadt – Szenen des venezianischen Alltags. \nAus diesen Eindrücken entstehen in seiner Manufaktur FotoKunst im Quadrat besondere KunstObjekte. Die Fotografien werden in Handarbeit auf Materialien wie Holz\, Stein & Fliesen gefertigt. Upycling spielt dabei eine große Rolle. \nFür diese Ausstellung treten die Werke bewusst in einen Dialog mit dem Raum des Schuhhaus ZUMNORDE. Zwischen Stoffen\, Leder und Formen der Schuhe entfalten die KunstObjekte ihre eigene Präsenz. Unterschiedliche Materialien begegnen sich\, bilden Kontraste und ergänzen sich zugleich – Kunst- und Schuhhandwerk schmiegen sich regelrecht aneinander. \nDie Arbeiten verteilen sich im gesamten Schuhhaus. Besucher:innen sind eingeladen\, sich auf eine kleine Reise durch Venedig zu begeben – zwischen Schuhen und handgefertigter FotoKunst. Venedig ist mehr als eine Stadt- es ist ein Lebensgefühl. \nDen Abschluss der Ausstellung bildet eine Finissage am 28. Mai ab 18 Uhr. \n\nDieser Eintrag wird Ihnen zur Verfügung gestellt vom Kölner BilderBogen – eines der beliebtesten Stadtmagazine in Köln. Ihr Termin fehlt? Einfach kostenlos einreichen: www.bilderbogen.de/eventeintrag
URL:https://mein-weiss.de/event/venedig-ein-lebensgefuehl-fotoausstellung-von-joachim-rieger/
LOCATION:Schuhaus Zumnorde\, Schildergasse 51-53\, Köln\, NRW\, 50677\, Deutschland
ATTACH;FMTTYPE=image/jpeg:https://mein-weiss.de/wp-content/uploads/2026/04/Venedig-ein-Lebensgefuehl-Joachim-Rieger-007-1024x683-1.jpg
END:VEVENT
BEGIN:VEVENT
DTSTART;TZID=Europe/Berlin:20260503T140000
DTEND;TZID=Europe/Berlin:20260503T180000
DTSTAMP:20260420T135306
CREATED:20260401T100102Z
LAST-MODIFIED:20260401T110054Z
UID:6647-1777816800-1777831200@mein-weiss.de
SUMMARY:Tag der geöffneten Ateliers
DESCRIPTION:Ab 13 Uhr bietet Hanna Styrie eine Führung durch die Ateliers mit historischem Hintergrund an. Die Führung dauert ca. 1\,5 Stunden\, wird unterstützt vom Kulturforum Wachsfabrik e.V. und findet auf Spendenbasis statt. Treffpunkt vorne am Rolltor. \nWeitere Informationen unter www.kunstzentrum-wachsfabrik.de \n\n8 geöffnete Ateliers:\n\nAtelier 5 – Sebastian Probst mit Art Projekt – Bildhauerei\nAtelier 10 – Jeannette de Payrebrune – Malerei & Bildhauerei\nAtelier 12 – Manfred Wachendorf\, Jovita Majewski\, Pascal Behrendt\, Inge Lager\, Anna Nguyen – Skulptur & Malerei\nAtelier 13 – Gertraud Lütkefels – Schmuck & Objekte\nAtelier 14 – miegL – Malerei & Skulptur (Forum für Studierende)\nAtelier 19 – Sabine Burghardt – Fotografie\nAtelier 20 – Joao de Almeida – Objekte\nAtelier 21 – Martha Potempa & Thomas Brück – Singer-Songwriter\n\nDieser Eintrag wird Ihnen zur Verfügung gestellt vom Kölner BilderBogen – eines der beliebtesten Stadtmagazine in Köln. Ihr Termin fehlt? Einfach kostenlos einreichen: www.bilderbogen.de/eventeintrag
URL:https://mein-weiss.de/event/tag-der-geoeffneten-ateliers/
LOCATION:Wachsfabrik\, Industriestraße 170\, Köln\, 50999\, Deutschland
END:VEVENT
BEGIN:VEVENT
DTSTART;TZID=Europe/Berlin:20260503T150000
DTEND;TZID=Europe/Berlin:20260503T163000
DTSTAMP:20260420T135306
CREATED:20260413T100101Z
LAST-MODIFIED:20260413T100101Z
UID:6723-1777820400-1777825800@mein-weiss.de
SUMMARY:Stadtführung zum Mitmachen:Auf den Spuren von Heinrich Böll in der Südstadt
DESCRIPTION:Wiederaufbau in Köln\nAnhand von Texten zu den Wohnhäusern Bölls in der Südstadt (Teutoburger Strasse\, Ubierring\, Maternusstrasse\, Karolingerring\, Kleingedankstrasse) können wir Kölner Geschichte vor und nach dem Krieg nachspüren. Der Verlust der großbürgerlichen Wohnung\, das Leben in den Trümmern und die Wohnsituationen nach dem Krieg\, die ganze erschütternde Situation im Wiederaufbau finden sich auch in der Beschreibung seiner Wohnsituation wieder. Mit seinen eigenen Beschreibungen gehen wir ein Stück seines Lebenswegs von Haus zu Haus Neben einer allgemeinen überblick zu seiner Biographie stelle ich jeweils eine Textpassage zu einer Wohnung sowie Fotos vor. Auch ist Zeit und Gelegenheit\, von eigenen Erfahrungen und Erinnerungen zu erzählen. \nLangsames Tempo mit Zeit für eigene Betrachtung und Diskussion. Die Exkursion ist für Senioren geeignet sowie barrierefrei.\nDozentin Angelika Putzig \nAnmeldung: am Treffpunkt oder kölnticket 0221-2801 oder online www.antonitercitytours.de \n\nDieser Eintrag wird Ihnen zur Verfügung gestellt vom Kölner BilderBogen – eines der beliebtesten Stadtmagazine in Köln. Ihr Termin fehlt? Einfach kostenlos einreichen: www.bilderbogen.de/eventeintrag
URL:https://mein-weiss.de/event/stadtfuehrung-zum-mitmachenauf-den-spuren-von-heinrich-boell-in-der-suedstadt/
LOCATION:Teutoburger Str. / Ecke Alteburger Str.\, Teutoburger Straße / Ecke Alteburger Straße\, Köln\, NRW\, 50678
END:VEVENT
BEGIN:VEVENT
DTSTART;TZID=Europe/Berlin:20260503T150000
DTEND;TZID=Europe/Berlin:20260503T170000
DTSTAMP:20260420T135306
CREATED:20260408T100057Z
LAST-MODIFIED:20260408T110046Z
UID:6698-1777820400-1777827600@mein-weiss.de
SUMMARY:Kunstführung zur Kunstmeile Rodenkirchen
DESCRIPTION:u.a. mit Bildhauer Stephan Goedecke \nDie Führung ist barrierearm – keine Anmeldung erforderlich \nTreffpunkt: Zentrale der Diakonie Michaelshoven in der Pfarrer-te-Reh-Straße 1 \n\nDieser Eintrag wird Ihnen zur Verfügung gestellt vom Kölner BilderBogen – eines der beliebtesten Stadtmagazine in Köln. Ihr Termin fehlt? Einfach kostenlos einreichen: www.bilderbogen.de/eventeintrag
URL:https://mein-weiss.de/event/kunstfuehrung-zur-kunstmeile-rodenkirchen/
LOCATION:Zentrale der Diakonie Michaelshoven\, Pfarrer-te-Reh-Straße 1\, Köln\, NRW\, 50999
END:VEVENT
END:VCALENDAR