BEGIN:VCALENDAR
VERSION:2.0
PRODID:-//Dorfgemeinschaft Weiss - ECPv6.15.20//NONSGML v1.0//EN
CALSCALE:GREGORIAN
METHOD:PUBLISH
X-WR-CALNAME:Dorfgemeinschaft Weiss
X-ORIGINAL-URL:https://mein-weiss.de
X-WR-CALDESC:Veranstaltungen für Dorfgemeinschaft Weiss
REFRESH-INTERVAL;VALUE=DURATION:PT1H
X-Robots-Tag:noindex
X-PUBLISHED-TTL:PT1H
BEGIN:VTIMEZONE
TZID:Europe/Berlin
BEGIN:DAYLIGHT
TZOFFSETFROM:+0100
TZOFFSETTO:+0200
TZNAME:CEST
DTSTART:20250330T010000
END:DAYLIGHT
BEGIN:STANDARD
TZOFFSETFROM:+0200
TZOFFSETTO:+0100
TZNAME:CET
DTSTART:20251026T010000
END:STANDARD
BEGIN:DAYLIGHT
TZOFFSETFROM:+0100
TZOFFSETTO:+0200
TZNAME:CEST
DTSTART:20260329T010000
END:DAYLIGHT
BEGIN:STANDARD
TZOFFSETFROM:+0200
TZOFFSETTO:+0100
TZNAME:CET
DTSTART:20261025T010000
END:STANDARD
BEGIN:DAYLIGHT
TZOFFSETFROM:+0100
TZOFFSETTO:+0200
TZNAME:CEST
DTSTART:20270328T010000
END:DAYLIGHT
BEGIN:STANDARD
TZOFFSETFROM:+0200
TZOFFSETTO:+0100
TZNAME:CET
DTSTART:20271031T010000
END:STANDARD
END:VTIMEZONE
BEGIN:VEVENT
DTSTART;TZID=Europe/Berlin:20260417T100000
DTEND;TZID=Europe/Berlin:20260528T220000
DTSTAMP:20260420T135225
CREATED:20260404T100033Z
LAST-MODIFIED:20260404T110035Z
UID:6678-1776420000-1780005600@mein-weiss.de
SUMMARY:Venedig – ein Lebensgefühl: Fotoausstellung von Joachim Rieger
DESCRIPTION:Mit der FotoKunst zwischen Schuhen beginnt eine kleine Reise nach Venedig. \nVom 17. April bis 28. Mai zeigt der Fotograf und Künstler Joachim Rieger im Schuhhaus ZUMNORDE auf der Schildergasse 51-53 in Köln seine Fotoausstellung „Venedig – ein Lebensgefühl“ \n„Wer bereit ist\, anders zu schauen und sich auf den Rhythmus dieser besonderen Stadt einzulassen\, entdeckt eine Gelassenheit\, die Venedig zu einem einzigartigen Ort gemacht hat“ schwärmt Joachim Rieger. Dabei richtet sich sein Blick weniger auf die bekannten Sehenswürdigkeiten als auf die stilleren Momente der Lagunenstadt – Szenen des venezianischen Alltags. \nAus diesen Eindrücken entstehen in seiner Manufaktur FotoKunst im Quadrat besondere KunstObjekte. Die Fotografien werden in Handarbeit auf Materialien wie Holz\, Stein & Fliesen gefertigt. Upycling spielt dabei eine große Rolle. \nFür diese Ausstellung treten die Werke bewusst in einen Dialog mit dem Raum des Schuhhaus ZUMNORDE. Zwischen Stoffen\, Leder und Formen der Schuhe entfalten die KunstObjekte ihre eigene Präsenz. Unterschiedliche Materialien begegnen sich\, bilden Kontraste und ergänzen sich zugleich – Kunst- und Schuhhandwerk schmiegen sich regelrecht aneinander. \nDie Arbeiten verteilen sich im gesamten Schuhhaus. Besucher:innen sind eingeladen\, sich auf eine kleine Reise durch Venedig zu begeben – zwischen Schuhen und handgefertigter FotoKunst. Venedig ist mehr als eine Stadt- es ist ein Lebensgefühl. \nDen Abschluss der Ausstellung bildet eine Finissage am 28. Mai ab 18 Uhr. \n\nDieser Eintrag wird Ihnen zur Verfügung gestellt vom Kölner BilderBogen – eines der beliebtesten Stadtmagazine in Köln. Ihr Termin fehlt? Einfach kostenlos einreichen: www.bilderbogen.de/eventeintrag
URL:https://mein-weiss.de/event/venedig-ein-lebensgefuehl-fotoausstellung-von-joachim-rieger/
LOCATION:Schuhaus Zumnorde\, Schildergasse 51-53\, Köln\, NRW\, 50677\, Deutschland
ATTACH;FMTTYPE=image/jpeg:https://mein-weiss.de/wp-content/uploads/2026/04/Venedig-ein-Lebensgefuehl-Joachim-Rieger-007-1024x683-1.jpg
END:VEVENT
BEGIN:VEVENT
DTSTART;TZID=Europe/Berlin:20260426T110000
DTEND;TZID=Europe/Berlin:20260426T123000
DTSTAMP:20260420T135225
CREATED:20260311T110058Z
LAST-MODIFIED:20260312T100114Z
UID:6516-1777201200-1777206600@mein-weiss.de
SUMMARY:„Rabe Socke – Alles wieder beste Freunde!“
DESCRIPTION:2026 feiert der kleine Rabe Socke seinen 30. Geburtstag – passend dazu erscheint eine neue Rabengeschichte als Comic im Esslinger Verlag. Die Kammerpuppenspiele präsentieren die Uraufführung in einer abwechslungsreich gestalteten Bühnenfassung: „Rabe Socke – Alles wieder beste Freunde!“ im Brunosaal Köln.\n\nDie Kammerpuppenspiele zeigen exklusiv „Alles wieder beste Freunde“ von Nele Moost und Annet Rudolph.\nIm Wald ist alles fröhlich – bis sich Rabe Socke mit seinem Freund Löffel heftig streitet.\nAus Wut hängt Socke überall Zettel auf\, auf denen steht\, dass Löffel doof ist. Löffel denkt daraufhin\, dass ihn niemand mehr mag. Das macht ihn sehr traurig.\nSchon bald streitet sich jeder mit jedem!\nAm Ende lernen alle: Freunde können sich streiten – aber noch wichtiger ist es\, sich wieder zu vertragen.\nUnd so ist am Schluss alles wieder beste Freunde.\n\nEin mitreißender Theaterspaß für Kinder ab 3 Jahren\, der kleine und große Zuschauerinnen und Zuschauer gleichermaßen begeistert und zum Mitfühlen und Mitlachen einlädt.\nEmpfohlen für Kinder ab 3 Jahren\nSpieldauer: ca. 90 Minuten inkl. Pause\nBildquelle: Kammerpuppenspiele Bielefeld\n\nDieser Eintrag wird Ihnen zur Verfügung gestellt vom Kölner BilderBogen – eines der beliebtesten Stadtmagazine in Köln. Ihr Termin fehlt? Einfach kostenlos einreichen: www.bilderbogen.de/eventeintrag
URL:https://mein-weiss.de/event/rabe-socke-alles-wieder-beste-freunde-4/
LOCATION:Brunosaal\, Klettenberggürtel 65\, Köln\, 50939
ATTACH;FMTTYPE=image/jpeg:https://mein-weiss.de/wp-content/uploads/2026/03/gruppe3-1024x680-1.jpg
END:VEVENT
BEGIN:VEVENT
DTSTART;TZID=Europe/Berlin:20260426T133000
DTEND;TZID=Europe/Berlin:20260426T150000
DTSTAMP:20260420T135225
CREATED:20260312T090118Z
LAST-MODIFIED:20260312T100116Z
UID:6527-1777210200-1777215600@mein-weiss.de
SUMMARY:„Rabe Socke – Alles wieder beste Freunde!“
DESCRIPTION:2026 feiert der kleine Rabe Socke seinen 30. Geburtstag – passend dazu erscheint eine neue Rabengeschichte als Comic im Esslinger Verlag. Die Kammerpuppenspiele präsentieren die Uraufführung in einer abwechslungsreich gestalteten Bühnenfassung: „Rabe Socke – Alles wieder beste Freunde!“ im Brunosaal Köln.\n\nDie Kammerpuppenspiele zeigen exklusiv „Alles wieder beste Freunde“ von Nele Moost und Annet Rudolph.\nIm Wald ist alles fröhlich – bis sich Rabe Socke mit seinem Freund Löffel heftig streitet.\nAus Wut hängt Socke überall Zettel auf\, auf denen steht\, dass Löffel doof ist. Löffel denkt daraufhin\, dass ihn niemand mehr mag. Das macht ihn sehr traurig.\nSchon bald streitet sich jeder mit jedem!\nAm Ende lernen alle: Freunde können sich streiten – aber noch wichtiger ist es\, sich wieder zu vertragen.\nUnd so ist am Schluss alles wieder beste Freunde.\n\nEin mitreißender Theaterspaß für Kinder ab 3 Jahren\, der kleine und große Zuschauerinnen und Zuschauer gleichermaßen begeistert und zum Mitfühlen und Mitlachen einlädt.\nEmpfohlen für Kinder ab 3 Jahren\nSpieldauer: ca. 90 Minuten inkl. Pause\nBildquelle: Kammerpuppenspiele Bielefeld\n\nDieser Eintrag wird Ihnen zur Verfügung gestellt vom Kölner BilderBogen – eines der beliebtesten Stadtmagazine in Köln. Ihr Termin fehlt? Einfach kostenlos einreichen: www.bilderbogen.de/eventeintrag
URL:https://mein-weiss.de/event/rabe-socke-alles-wieder-beste-freunde-7/
LOCATION:Brunosaal\, Klettenberggürtel 65\, Köln\, 50939
ATTACH;FMTTYPE=image/jpeg:https://mein-weiss.de/wp-content/uploads/2026/03/gruppe3-1024x680-1.jpg
END:VEVENT
BEGIN:VEVENT
DTSTART;TZID=Europe/Berlin:20260426T140000
DTEND;TZID=Europe/Berlin:20260426T153000
DTSTAMP:20260420T135225
CREATED:20260311T110100Z
LAST-MODIFIED:20260311T120117Z
UID:6517-1777212000-1777217400@mein-weiss.de
SUMMARY:„Rabe Socke – Alles wieder beste Freunde!“
DESCRIPTION:2026 feiert der kleine Rabe Socke seinen 30. Geburtstag – passend dazu erscheint eine neue Rabengeschichte als Comic im Esslinger Verlag. Die Kammerpuppenspiele präsentieren die Uraufführung in einer abwechslungsreich gestalteten Bühnenfassung: „Rabe Socke – Alles wieder beste Freunde!“ im Brunosaal Köln.\n\nDie Kammerpuppenspiele zeigen exklusiv „Alles wieder beste Freunde“ von Nele Moost und Annet Rudolph.\nIm Wald ist alles fröhlich – bis sich Rabe Socke mit seinem Freund Löffel heftig streitet.\nAus Wut hängt Socke überall Zettel auf\, auf denen steht\, dass Löffel doof ist. Löffel denkt daraufhin\, dass ihn niemand mehr mag. Das macht ihn sehr traurig.\nSchon bald streitet sich jeder mit jedem!\nAm Ende lernen alle: Freunde können sich streiten – aber noch wichtiger ist es\, sich wieder zu vertragen.\nUnd so ist am Schluss alles wieder beste Freunde.\n\nEin mitreißender Theaterspaß für Kinder ab 3 Jahren\, der kleine und große Zuschauerinnen und Zuschauer gleichermaßen begeistert und zum Mitfühlen und Mitlachen einlädt.\nEmpfohlen für Kinder ab 3 Jahren\nSpieldauer: ca. 90 Minuten inkl. Pause\nBildquelle: Kammerpuppenspiele Bielefeld\n\nDieser Eintrag wird Ihnen zur Verfügung gestellt vom Kölner BilderBogen – eines der beliebtesten Stadtmagazine in Köln. Ihr Termin fehlt? Einfach kostenlos einreichen: www.bilderbogen.de/eventeintrag
URL:https://mein-weiss.de/event/rabe-socke-alles-wieder-beste-freunde-5/
LOCATION:Brunosaal\, Klettenberggürtel 65\, Köln\, 50939
ATTACH;FMTTYPE=image/jpeg:https://mein-weiss.de/wp-content/uploads/2026/03/gruppe3-1024x680-1.jpg
END:VEVENT
BEGIN:VEVENT
DTSTART;TZID=Europe/Berlin:20260426T140000
DTEND;TZID=Europe/Berlin:20260426T180000
DTSTAMP:20260420T135225
CREATED:20260417T090109Z
LAST-MODIFIED:20260417T090109Z
UID:6761-1777212000-1777226400@mein-weiss.de
SUMMARY:Kreatives Malen
DESCRIPTION:Lass deiner Kreativität freien Lauf!\nDer Acrylworkshop findet in Rahmen der Kunstmeile 2026 statt.\nWir freuen uns über Spenden fürs\nMaterial und Verpflegung in Höhe von 10 €. \nBildquelle: AWO \n\nDieser Eintrag wird Ihnen zur Verfügung gestellt vom Kölner BilderBogen – eines der beliebtesten Stadtmagazine in Köln. Ihr Termin fehlt? Einfach kostenlos einreichen: www.bilderbogen.de/eventeintrag
URL:https://mein-weiss.de/event/kreatives-malen-3/
LOCATION:Villa AWO\, Walther-Rathenau-Str. 9\, Köln\, NRW\, 50996\, Deutschland
ATTACH;FMTTYPE=image/png:https://mein-weiss.de/wp-content/uploads/2026/04/Kreatives-malen-2026-2-724x1024-1.png
END:VEVENT
BEGIN:VEVENT
DTSTART;TZID=Europe/Berlin:20260426T150000
DTEND;TZID=Europe/Berlin:20260426T163000
DTSTAMP:20260420T135225
CREATED:20260309T100043Z
LAST-MODIFIED:20260309T100043Z
UID:6497-1777215600-1777221000@mein-weiss.de
SUMMARY:Auf den Spuren von Heinrich Böll in der Südstadt
DESCRIPTION:Von Haus zu Haus\nLiteraturführung mit Angelika Putzig \nLangsames Tempo mit Zeit für eigene Betrachtung und Diskussion. Die Exkursion ist für Senioren geeignet sowie barrierefrei. \nTreffpunkt: Teutoburger Str./Ecke Alteburger Str.\, 50678 Köln\,\nEntgelt: 12\,00 €/\nDauer: ca. 1\,5 Std.\,\nAnmeldung: am Treffpunkt oder kölnticket 0221-2801 antoniter city tours \nAnhand von Texten zu den Wohnhäusern Bölls in der Südstadt (Teutoburger Strasse\, Ubierring\, Maternusstrasse\, Karolingerring\, Kleingedankstrasse) können wir Kölner Geschichte vor und nach dem Krieg nachspüren. Der Verlust der großbürgerlichen Wohnung\, das Leben in den Trümmern und die Wohnsituationen nach dem Krieg\, die ganze erschütternde Situation im Wiederaufbau finden sich auch in der Beschreibung seiner Wohnsituation wieder. Mit seinen eigenen Beschreibungen gehen wir ein Stück seines Lebenswegs von Haus zu Haus Neben einer allgemeinen überblick zu seiner Biographie stelle ich jeweils eine Textpassage zu einer Wohnung sowie Fotos vor. Auch ist Zeit und Gelegenheit\, von eigenen Erfahrungen und Erinnerungen zu erzählen.. \n\nDieser Eintrag wird Ihnen zur Verfügung gestellt vom Kölner BilderBogen – eines der beliebtesten Stadtmagazine in Köln. Ihr Termin fehlt? Einfach kostenlos einreichen: www.bilderbogen.de/eventeintrag
URL:https://mein-weiss.de/event/auf-den-spuren-von-heinrich-boell-in-der-suedstadt/
LOCATION:Teutoburger Str. / Ecke Alteburger Str.\, Teutoburger Straße / Ecke Alteburger Straße\, Köln\, NRW\, 50678
END:VEVENT
BEGIN:VEVENT
DTSTART;TZID=Europe/Berlin:20260426T160000
DTEND;TZID=Europe/Berlin:20260426T173000
DTSTAMP:20260420T135225
CREATED:20260312T100119Z
LAST-MODIFIED:20260312T110055Z
UID:6537-1777219200-1777224600@mein-weiss.de
SUMMARY:„Rabe Socke – Alles wieder beste Freunde!“
DESCRIPTION:2026 feiert der kleine Rabe Socke seinen 30. Geburtstag – passend dazu erscheint eine neue Rabengeschichte als Comic im Esslinger Verlag. Die Kammerpuppenspiele präsentieren die Uraufführung in einer abwechslungsreich gestalteten Bühnenfassung: „Rabe Socke – Alles wieder beste Freunde!“ im Brunosaal Köln.\n\nDie Kammerpuppenspiele zeigen exklusiv „Alles wieder beste Freunde“ von Nele Moost und Annet Rudolph.\nIm Wald ist alles fröhlich – bis sich Rabe Socke mit seinem Freund Löffel heftig streitet.\nAus Wut hängt Socke überall Zettel auf\, auf denen steht\, dass Löffel doof ist. Löffel denkt daraufhin\, dass ihn niemand mehr mag. Das macht ihn sehr traurig.\nSchon bald streitet sich jeder mit jedem!\nAm Ende lernen alle: Freunde können sich streiten – aber noch wichtiger ist es\, sich wieder zu vertragen.\nUnd so ist am Schluss alles wieder beste Freunde.\n\nEin mitreißender Theaterspaß für Kinder ab 3 Jahren\, der kleine und große Zuschauerinnen und Zuschauer gleichermaßen begeistert und zum Mitfühlen und Mitlachen einlädt.\nEmpfohlen für Kinder ab 3 Jahren\nSpieldauer: ca. 90 Minuten inkl. Pause\nBildquelle: Kammerpuppenspiele Bielefeld\n\nDieser Eintrag wird Ihnen zur Verfügung gestellt vom Kölner BilderBogen – eines der beliebtesten Stadtmagazine in Köln. Ihr Termin fehlt? Einfach kostenlos einreichen: www.bilderbogen.de/eventeintrag
URL:https://mein-weiss.de/event/rabe-socke-alles-wieder-beste-freunde-9/
LOCATION:Brunosaal\, Klettenberggürtel 65\, Köln\, 50939
ATTACH;FMTTYPE=image/jpeg:https://mein-weiss.de/wp-content/uploads/2026/03/gruppe3-1024x680-1.jpg
END:VEVENT
END:VCALENDAR