BEGIN:VCALENDAR
VERSION:2.0
PRODID:-//Dorfgemeinschaft Weiss - ECPv6.15.20//NONSGML v1.0//EN
CALSCALE:GREGORIAN
METHOD:PUBLISH
X-WR-CALNAME:Dorfgemeinschaft Weiss
X-ORIGINAL-URL:https://mein-weiss.de
X-WR-CALDESC:Veranstaltungen für Dorfgemeinschaft Weiss
REFRESH-INTERVAL;VALUE=DURATION:PT1H
X-Robots-Tag:noindex
X-PUBLISHED-TTL:PT1H
BEGIN:VTIMEZONE
TZID:Europe/Berlin
BEGIN:DAYLIGHT
TZOFFSETFROM:+0100
TZOFFSETTO:+0200
TZNAME:CEST
DTSTART:20250330T010000
END:DAYLIGHT
BEGIN:STANDARD
TZOFFSETFROM:+0200
TZOFFSETTO:+0100
TZNAME:CET
DTSTART:20251026T010000
END:STANDARD
BEGIN:DAYLIGHT
TZOFFSETFROM:+0100
TZOFFSETTO:+0200
TZNAME:CEST
DTSTART:20260329T010000
END:DAYLIGHT
BEGIN:STANDARD
TZOFFSETFROM:+0200
TZOFFSETTO:+0100
TZNAME:CET
DTSTART:20261025T010000
END:STANDARD
BEGIN:DAYLIGHT
TZOFFSETFROM:+0100
TZOFFSETTO:+0200
TZNAME:CEST
DTSTART:20270328T010000
END:DAYLIGHT
BEGIN:STANDARD
TZOFFSETFROM:+0200
TZOFFSETTO:+0100
TZNAME:CET
DTSTART:20271031T010000
END:STANDARD
END:VTIMEZONE
BEGIN:VEVENT
DTSTART;TZID=Europe/Berlin:20260417T100000
DTEND;TZID=Europe/Berlin:20260528T220000
DTSTAMP:20260422T134807
CREATED:20260404T100033Z
LAST-MODIFIED:20260404T110035Z
UID:6678-1776420000-1780005600@mein-weiss.de
SUMMARY:Venedig – ein Lebensgefühl: Fotoausstellung von Joachim Rieger
DESCRIPTION:Mit der FotoKunst zwischen Schuhen beginnt eine kleine Reise nach Venedig. \nVom 17. April bis 28. Mai zeigt der Fotograf und Künstler Joachim Rieger im Schuhhaus ZUMNORDE auf der Schildergasse 51-53 in Köln seine Fotoausstellung „Venedig – ein Lebensgefühl“ \n„Wer bereit ist\, anders zu schauen und sich auf den Rhythmus dieser besonderen Stadt einzulassen\, entdeckt eine Gelassenheit\, die Venedig zu einem einzigartigen Ort gemacht hat“ schwärmt Joachim Rieger. Dabei richtet sich sein Blick weniger auf die bekannten Sehenswürdigkeiten als auf die stilleren Momente der Lagunenstadt – Szenen des venezianischen Alltags. \nAus diesen Eindrücken entstehen in seiner Manufaktur FotoKunst im Quadrat besondere KunstObjekte. Die Fotografien werden in Handarbeit auf Materialien wie Holz\, Stein & Fliesen gefertigt. Upycling spielt dabei eine große Rolle. \nFür diese Ausstellung treten die Werke bewusst in einen Dialog mit dem Raum des Schuhhaus ZUMNORDE. Zwischen Stoffen\, Leder und Formen der Schuhe entfalten die KunstObjekte ihre eigene Präsenz. Unterschiedliche Materialien begegnen sich\, bilden Kontraste und ergänzen sich zugleich – Kunst- und Schuhhandwerk schmiegen sich regelrecht aneinander. \nDie Arbeiten verteilen sich im gesamten Schuhhaus. Besucher:innen sind eingeladen\, sich auf eine kleine Reise durch Venedig zu begeben – zwischen Schuhen und handgefertigter FotoKunst. Venedig ist mehr als eine Stadt- es ist ein Lebensgefühl. \nDen Abschluss der Ausstellung bildet eine Finissage am 28. Mai ab 18 Uhr. \n\nDieser Eintrag wird Ihnen zur Verfügung gestellt vom Kölner BilderBogen – eines der beliebtesten Stadtmagazine in Köln. Ihr Termin fehlt? Einfach kostenlos einreichen: www.bilderbogen.de/eventeintrag
URL:https://mein-weiss.de/event/venedig-ein-lebensgefuehl-fotoausstellung-von-joachim-rieger/
LOCATION:Schuhaus Zumnorde\, Schildergasse 51-53\, Köln\, NRW\, 50677\, Deutschland
ATTACH;FMTTYPE=image/jpeg:https://mein-weiss.de/wp-content/uploads/2026/04/Venedig-ein-Lebensgefuehl-Joachim-Rieger-007-1024x683-1.jpg
END:VEVENT
BEGIN:VEVENT
DTSTART;TZID=Europe/Berlin:20260425T110000
DTEND;TZID=Europe/Berlin:20260425T123000
DTSTAMP:20260422T134807
CREATED:20260311T110053Z
LAST-MODIFIED:20260312T100109Z
UID:6514-1777114800-1777120200@mein-weiss.de
SUMMARY:„Rabe Socke – Alles wieder beste Freunde!“
DESCRIPTION:2026 feiert der kleine Rabe Socke seinen 30. Geburtstag – passend dazu erscheint eine neue Rabengeschichte als Comic im Esslinger Verlag. Die Kammerpuppenspiele präsentieren die Uraufführung in einer abwechslungsreich gestalteten Bühnenfassung: „Rabe Socke – Alles wieder beste Freunde!“ im Brunosaal Köln.\n\nDie Kammerpuppenspiele zeigen exklusiv „Alles wieder beste Freunde“ von Nele Moost und Annet Rudolph.\nIm Wald ist alles fröhlich – bis sich Rabe Socke mit seinem Freund Löffel heftig streitet.\nAus Wut hängt Socke überall Zettel auf\, auf denen steht\, dass Löffel doof ist. Löffel denkt daraufhin\, dass ihn niemand mehr mag. Das macht ihn sehr traurig.\nSchon bald streitet sich jeder mit jedem!\nAm Ende lernen alle: Freunde können sich streiten – aber noch wichtiger ist es\, sich wieder zu vertragen.\nUnd so ist am Schluss alles wieder beste Freunde.\n\nEin mitreißender Theaterspaß für Kinder ab 3 Jahren\, der kleine und große Zuschauerinnen und Zuschauer gleichermaßen begeistert und zum Mitfühlen und Mitlachen einlädt.\nEmpfohlen für Kinder ab 3 Jahren\nSpieldauer: ca. 90 Minuten inkl. Pause\nBildquelle: Kammerpuppenspiele Bielefeld\n\nDieser Eintrag wird Ihnen zur Verfügung gestellt vom Kölner BilderBogen – eines der beliebtesten Stadtmagazine in Köln. Ihr Termin fehlt? Einfach kostenlos einreichen: www.bilderbogen.de/eventeintrag
URL:https://mein-weiss.de/event/rabe-socke-alles-wieder-beste-freunde-2/
LOCATION:Brunosaal\, Klettenberggürtel 65\, Köln\, 50939
ATTACH;FMTTYPE=image/jpeg:https://mein-weiss.de/wp-content/uploads/2026/03/gruppe3-1024x680-1.jpg
END:VEVENT
BEGIN:VEVENT
DTSTART;TZID=Europe/Berlin:20260425T120000
DTEND;TZID=Europe/Berlin:20260425T150000
DTSTAMP:20260422T134807
CREATED:20260219T100106Z
LAST-MODIFIED:20260219T100106Z
UID:6408-1777118400-1777129200@mein-weiss.de
SUMMARY:Zeichnen und Malen im Skulpturenpark
DESCRIPTION:Eine kreative Exkursion mit der KUNSTWERKSTATT KÖLN in den Skulpturenpark in Wuppertal.\nDer Skulpturenpark „Waldfrieden“ in Wuppertal verbindet Natur und Kunst. Mitten im Wald begegnen uns Skulpturen bekannter Künstler*innen wie Tony Cragg oder Rebecca Horn\, die uns zum lockeren Skizzieren\, Zeichnen und Malen inspirieren. Die Künstlerin Sabine Herbst von der KUNSTWERKSTATT K°LN bietet dabei Anleitung und Anregungen für Anfänger*innen und auch für alle\, die schon ein wenig Erfahrung im Zeichnen oder Malen mitbringen. Drei gläserne Pavillons mit weiteren Kunstwerken laden zusätzlich zum Flanieren und Erkunden ein. Nach dem Workshop kann man die vielen Eindrücke am besten nochmal auf sich wirken lassen oder tauscht sich in der kleinen Gruppe aus – im „Café Podest“\, direkt im Skulpturenpark. \nDauer: 12 bis 15 Uhr // Teilnahmegebühr für den Workshop: 85 € // Den Eintritt in den Skulpurenpark bezahlen Sie selbst vor Ort.\nDies ist ein Workshop der KUNSTWERKSTATT K°LN (unabhängig vom Skulpturenpark) \nOrt: Skulpturenpark Waldfrieden Hirschstr. 12\, 42285 Wuppertal. Den genauen Treffpunkt erfahren Sie nach Ihrer Anmeldung. \nBitte mitbringen: Zeichenblock oder Skizzenbuch\, Format ca. DIN A4 oder DIN A5\, einige Stifte\, optional Wasserfarben oder Aquarellfarben\, Pinsel; eine kleine Unterlage zum Sitzen. \nBildquelle: Sabine Herbst \n\nDieser Eintrag wird Ihnen zur Verfügung gestellt vom Kölner BilderBogen – eines der beliebtesten Stadtmagazine in Köln. Ihr Termin fehlt? Einfach kostenlos einreichen: www.bilderbogen.de/eventeintrag
URL:https://mein-weiss.de/event/zeichnen-und-malen-im-skulpturenpark/
LOCATION:Skulpturenpark Waldfrieden\, Hirschstraße 12\, Wuppertal\, NRW\, 42285
ATTACH;FMTTYPE=image/jpeg:https://mein-weiss.de/wp-content/uploads/2026/02/IMG_0161-1.jpeg
END:VEVENT
BEGIN:VEVENT
DTSTART;TZID=Europe/Berlin:20260425T120000
DTEND;TZID=Europe/Berlin:20260425T160000
DTSTAMP:20260422T134807
CREATED:20260415T100043Z
LAST-MODIFIED:20260415T100043Z
UID:6747-1777118400-1777132800@mein-weiss.de
SUMMARY:Bunte Beete Börse
DESCRIPTION:Pflanzentauschbörse im Kleingarten Köln-Weiß \nBildquelle: Kleingartenverein Weiß \n\nDieser Eintrag wird Ihnen zur Verfügung gestellt vom Kölner BilderBogen – eines der beliebtesten Stadtmagazine in Köln. Ihr Termin fehlt? Einfach kostenlos einreichen: www.bilderbogen.de/eventeintrag
URL:https://mein-weiss.de/event/bunte-beete-boerse/
LOCATION:Kleingartenanlage Köln-Weiß\, Pflasterhofweg
ATTACH;FMTTYPE=image/jpeg:https://mein-weiss.de/wp-content/uploads/2026/04/Bunte-Beete-Boerse_26_s-1024x933-1.jpg
END:VEVENT
BEGIN:VEVENT
DTSTART;TZID=Europe/Berlin:20260425T120000
DTEND;TZID=Europe/Berlin:20260425T170000
DTSTAMP:20260422T134807
CREATED:20260420T120117Z
LAST-MODIFIED:20260420T120117Z
UID:6812-1777118400-1777136400@mein-weiss.de
SUMMARY:Familientag & Pop Ups
DESCRIPTION:Mit dem Familientag im Rahmen der diesjährigen Kunst- und Kulturmeile lädt about:events Klein und Groß zum Verweilen ein. Mit liebevoll gestalteten Mitmachangeboten und kleinen Pop Up Ständen sind schöne Momente für die ganze Familie garantiert. Ob zum Malen\, Basteln\, Kinderschminken oder einfach zum Stöbern – ein Besuch lohnt sich! \nBildquelle: ©about events \n\nDieser Eintrag wird Ihnen zur Verfügung gestellt vom Kölner BilderBogen – eines der beliebtesten Stadtmagazine in Köln. Ihr Termin fehlt? Einfach kostenlos einreichen: www.bilderbogen.de/eventeintrag
URL:https://mein-weiss.de/event/familientag-pop-ups/
LOCATION:ABOUT:EVENTS\, Barbarastraße 15-17\, Köln\, NRW\, 50996\, Deutschland
ATTACH;FMTTYPE=image/png:https://mein-weiss.de/wp-content/uploads/2026/04/Bilderbogen-Terminkalender-3-1024x576-1.png
END:VEVENT
BEGIN:VEVENT
DTSTART;TZID=Europe/Berlin:20260425T140000
DTEND;TZID=Europe/Berlin:20260425T153000
DTSTAMP:20260422T134807
CREATED:20260311T110055Z
LAST-MODIFIED:20260312T100112Z
UID:6515-1777125600-1777131000@mein-weiss.de
SUMMARY:„Rabe Socke – Alles wieder beste Freunde!“
DESCRIPTION:2026 feiert der kleine Rabe Socke seinen 30. Geburtstag – passend dazu erscheint eine neue Rabengeschichte als Comic im Esslinger Verlag. Die Kammerpuppenspiele präsentieren die Uraufführung in einer abwechslungsreich gestalteten Bühnenfassung: „Rabe Socke – Alles wieder beste Freunde!“ im Brunosaal Köln.\n\nDie Kammerpuppenspiele zeigen exklusiv „Alles wieder beste Freunde“ von Nele Moost und Annet Rudolph.\nIm Wald ist alles fröhlich – bis sich Rabe Socke mit seinem Freund Löffel heftig streitet.\nAus Wut hängt Socke überall Zettel auf\, auf denen steht\, dass Löffel doof ist. Löffel denkt daraufhin\, dass ihn niemand mehr mag. Das macht ihn sehr traurig.\nSchon bald streitet sich jeder mit jedem!\nAm Ende lernen alle: Freunde können sich streiten – aber noch wichtiger ist es\, sich wieder zu vertragen.\nUnd so ist am Schluss alles wieder beste Freunde.\n\nEin mitreißender Theaterspaß für Kinder ab 3 Jahren\, der kleine und große Zuschauerinnen und Zuschauer gleichermaßen begeistert und zum Mitfühlen und Mitlachen einlädt.\nEmpfohlen für Kinder ab 3 Jahren\nSpieldauer: ca. 90 Minuten inkl. Pause\nBildquelle: Kammerpuppenspiele Bielefeld\n\nDieser Eintrag wird Ihnen zur Verfügung gestellt vom Kölner BilderBogen – eines der beliebtesten Stadtmagazine in Köln. Ihr Termin fehlt? Einfach kostenlos einreichen: www.bilderbogen.de/eventeintrag
URL:https://mein-weiss.de/event/rabe-socke-alles-wieder-beste-freunde-3/
LOCATION:Brunosaal\, Klettenberggürtel 65\, Köln\, 50939
ATTACH;FMTTYPE=image/jpeg:https://mein-weiss.de/wp-content/uploads/2026/03/gruppe3-1024x680-1.jpg
END:VEVENT
BEGIN:VEVENT
DTSTART;TZID=Europe/Berlin:20260425T140000
DTEND;TZID=Europe/Berlin:20260425T160000
DTSTAMP:20260422T134807
CREATED:20260109T120034Z
LAST-MODIFIED:20260109T130032Z
UID:6013-1777125600-1777132800@mein-weiss.de
SUMMARY:Führungen durch das Diakonie-Dorf
DESCRIPTION:Ab 1955 entstand in Rodenkirchen das Diakoniedorf Michaelshoven. Die Häuser mit ihren klaren Strukturen bilden ein Runddorf und stehen in einem großen wunderbaren Park\, der in Anlehnung an englische Landschaftsgärten gestaltet wurde. Im Mittelpunkt der Führung zu der größtenteils denkmalgeschützten Anlage steht die 1964 eingeweihte Erzengel-Michael-Kirche\, deren Form stark an skandinavische Stabkirchen erinnert \nTreffpunkt: Zentrale der Diakonie Michaelshoven (Pfarrer-te-Reh-Str.1) \nEintritt frei\, keine Anmeldung erforderlich\, die Führung ist barrierearm \n\nDieser Eintrag wird Ihnen zur Verfügung gestellt vom Kölner BilderBogen – eines der beliebtesten Stadtmagazine in Köln. Ihr Termin fehlt? Einfach kostenlos einreichen: www.bilderbogen.de/eventeintrag
URL:https://mein-weiss.de/event/fuehrungen-durch-das-diakonie-dorf/
LOCATION:Erzengel-Michael-Kirche – Michaelshoven\, Pfarrer-Te-Reh-Straße 7\, Köln\, NRW\, 50999\, Deutschland
ATTACH;FMTTYPE=image/jpeg:https://mein-weiss.de/wp-content/uploads/2026/01/Fuehrung_2.jpg
END:VEVENT
BEGIN:VEVENT
DTSTART;TZID=Europe/Berlin:20260425T140000
DTEND;TZID=Europe/Berlin:20260425T163000
DTSTAMP:20260422T134807
CREATED:20260323T120041Z
LAST-MODIFIED:20260323T130040Z
UID:6602-1777125600-1777134600@mein-weiss.de
SUMMARY:Kunstführung im Rahmen der Kunstmeile Rodenkirchen
DESCRIPTION:Treffpunkt: Zentrale der Diakonie Michaelshoven in der Pfarrer-te-Reh-Straße 1 \nDie Führung ist barrierearm. Es ist keine Anmeldung erforderlich \n\nDieser Eintrag wird Ihnen zur Verfügung gestellt vom Kölner BilderBogen – eines der beliebtesten Stadtmagazine in Köln. Ihr Termin fehlt? Einfach kostenlos einreichen: www.bilderbogen.de/eventeintrag
URL:https://mein-weiss.de/event/kunstfuehrung-im-rahmen-der-kunstmeile-rodenkirchen/
LOCATION:Erzengel-Michael-Kirche – Michaelshoven\, Pfarrer-Te-Reh-Straße 7\, Köln\, NRW\, 50999\, Deutschland
END:VEVENT
BEGIN:VEVENT
DTSTART;TZID=Europe/Berlin:20260425T180000
DTEND;TZID=Europe/Berlin:20260425T210000
DTSTAMP:20260422T134807
CREATED:20260323T120043Z
LAST-MODIFIED:20260323T120043Z
UID:6603-1777140000-1777150800@mein-weiss.de
SUMMARY:Schwarzweiß 9
DESCRIPTION:Schwarzweiß fordert den Künstler heraus – in Form\, Material und Symbolik – Schwarzweiß befreit. Es ist ein Spiel mit Licht und Schatten\, das den Blick auf das Wesentliche lenkt. In diesem Jahr haben sich 13 Künstlerinnen und Künstler zusammengefunden\, die von Collage über Mixed Media bis hin zur Fotografie diese Intention gemeinsam zum Ausdruck bringen. \nSylvia Dölz I Collage\nBärbel Gaertner I Fotografie\nAntje Günther I Fotografie\nBernhard Heen I Fotografie\nBarbara Kahlert I Mixed Media\nMichael C. Klein I Mixed Media\nFrank Kottisch I Fotografie\nMonika Lusnia I Fotografie\nHeinrich Lux I Fotografie\nWilhelm Nießen I Fotografie\nKalle Paltzer I Paper Works\nJem Saylor I Fotografie\nUli Westenberg I Fotografie \nVom 11. bis zum 25.04.2026 findet die Gruppenausstellung „schwarzweiß 9“ im K49 statt. In diesem Jahr wird der Kunstraum 10 Jahre alt. Die Ausstellung ist täglich von 15.00 bis 18.00 Uhr geöffnet; am 14.04. und 21.04. bleibt sie geschlossen. Die Vernissage findet am 11.04. ab 18.00 Uhr statt\, die Finissage am 25.04. ebenfalls ab 18.00 Uhr. \nBildquelle: K49 \n\nDieser Eintrag wird Ihnen zur Verfügung gestellt vom Kölner BilderBogen – eines der beliebtesten Stadtmagazine in Köln. Ihr Termin fehlt? Einfach kostenlos einreichen: www.bilderbogen.de/eventeintrag
URL:https://mein-weiss.de/event/schwarzweiss-9-2/
LOCATION:Kunstraum K49\, Goltsteinstraße 49\, Köln\, NRW\, 50968
ATTACH;FMTTYPE=image/jpeg:https://mein-weiss.de/wp-content/uploads/2026/03/schwarzweiss9_Mail.jpg
END:VEVENT
BEGIN:VEVENT
DTSTART;TZID=Europe/Berlin:20260425T190000
DTEND;TZID=Europe/Berlin:20260425T210000
DTSTAMP:20260422T134807
CREATED:20260420T120120Z
LAST-MODIFIED:20260420T120120Z
UID:6814-1777143600-1777150800@mein-weiss.de
SUMMARY:Ein Abend mit Brix Schaumburg!
DESCRIPTION:Im Rahmen der 24. Kunst- und Kulturmeile kommt Autor\, Schauspieler\, Moderator und leidenschaftlicher Radfahrer Brix Schaumburg nach Rodenkirchen – mit einer besonderen Mischung aus Lesung\, Gespräch und musikalischen Elementen steht er bei about events auf der Bühne. Schon im vergangenen Jahr war das Format „Ein Abend mit…“ ein voller Erfolg. \nTICKETS: www.eventim-light.com/de/a/68321f3f7664391d2f98c3aa/\noder www.aboutcommunication.de/events \nFoto: Sven Serkis / Bearbeitung: about events \n\nDieser Eintrag wird Ihnen zur Verfügung gestellt vom Kölner BilderBogen – eines der beliebtesten Stadtmagazine in Köln. Ihr Termin fehlt? Einfach kostenlos einreichen: www.bilderbogen.de/eventeintrag
URL:https://mein-weiss.de/event/ein-abend-mit-brix-schaumburg/
LOCATION:ABOUT:EVENTS\, Barbarastraße 15-17\, Köln\, NRW\, 50996\, Deutschland
ATTACH;FMTTYPE=image/png:https://mein-weiss.de/wp-content/uploads/2026/04/brix-bilderbogen-1024x576-1.png
END:VEVENT
END:VCALENDAR