BEGIN:VCALENDAR
VERSION:2.0
PRODID:-//Dorfgemeinschaft Weiss - ECPv6.15.20//NONSGML v1.0//EN
CALSCALE:GREGORIAN
METHOD:PUBLISH
X-ORIGINAL-URL:https://mein-weiss.de
X-WR-CALDESC:Veranstaltungen für Dorfgemeinschaft Weiss
REFRESH-INTERVAL;VALUE=DURATION:PT1H
X-Robots-Tag:noindex
X-PUBLISHED-TTL:PT1H
BEGIN:VTIMEZONE
TZID:Europe/Berlin
BEGIN:DAYLIGHT
TZOFFSETFROM:+0100
TZOFFSETTO:+0200
TZNAME:CEST
DTSTART:20250330T010000
END:DAYLIGHT
BEGIN:STANDARD
TZOFFSETFROM:+0200
TZOFFSETTO:+0100
TZNAME:CET
DTSTART:20251026T010000
END:STANDARD
BEGIN:DAYLIGHT
TZOFFSETFROM:+0100
TZOFFSETTO:+0200
TZNAME:CEST
DTSTART:20260329T010000
END:DAYLIGHT
BEGIN:STANDARD
TZOFFSETFROM:+0200
TZOFFSETTO:+0100
TZNAME:CET
DTSTART:20261025T010000
END:STANDARD
BEGIN:DAYLIGHT
TZOFFSETFROM:+0100
TZOFFSETTO:+0200
TZNAME:CEST
DTSTART:20270328T010000
END:DAYLIGHT
BEGIN:STANDARD
TZOFFSETFROM:+0200
TZOFFSETTO:+0100
TZNAME:CET
DTSTART:20271031T010000
END:STANDARD
END:VTIMEZONE
BEGIN:VEVENT
DTSTART;TZID=Europe/Berlin:20260417T100000
DTEND;TZID=Europe/Berlin:20260528T220000
DTSTAMP:20260422T122926
CREATED:20260404T100033Z
LAST-MODIFIED:20260404T110035Z
UID:6678-1776420000-1780005600@mein-weiss.de
SUMMARY:Venedig – ein Lebensgefühl: Fotoausstellung von Joachim Rieger
DESCRIPTION:Mit der FotoKunst zwischen Schuhen beginnt eine kleine Reise nach Venedig. \nVom 17. April bis 28. Mai zeigt der Fotograf und Künstler Joachim Rieger im Schuhhaus ZUMNORDE auf der Schildergasse 51-53 in Köln seine Fotoausstellung „Venedig – ein Lebensgefühl“ \n„Wer bereit ist\, anders zu schauen und sich auf den Rhythmus dieser besonderen Stadt einzulassen\, entdeckt eine Gelassenheit\, die Venedig zu einem einzigartigen Ort gemacht hat“ schwärmt Joachim Rieger. Dabei richtet sich sein Blick weniger auf die bekannten Sehenswürdigkeiten als auf die stilleren Momente der Lagunenstadt – Szenen des venezianischen Alltags. \nAus diesen Eindrücken entstehen in seiner Manufaktur FotoKunst im Quadrat besondere KunstObjekte. Die Fotografien werden in Handarbeit auf Materialien wie Holz\, Stein & Fliesen gefertigt. Upycling spielt dabei eine große Rolle. \nFür diese Ausstellung treten die Werke bewusst in einen Dialog mit dem Raum des Schuhhaus ZUMNORDE. Zwischen Stoffen\, Leder und Formen der Schuhe entfalten die KunstObjekte ihre eigene Präsenz. Unterschiedliche Materialien begegnen sich\, bilden Kontraste und ergänzen sich zugleich – Kunst- und Schuhhandwerk schmiegen sich regelrecht aneinander. \nDie Arbeiten verteilen sich im gesamten Schuhhaus. Besucher:innen sind eingeladen\, sich auf eine kleine Reise durch Venedig zu begeben – zwischen Schuhen und handgefertigter FotoKunst. Venedig ist mehr als eine Stadt- es ist ein Lebensgefühl. \nDen Abschluss der Ausstellung bildet eine Finissage am 28. Mai ab 18 Uhr. \n\nDieser Eintrag wird Ihnen zur Verfügung gestellt vom Kölner BilderBogen – eines der beliebtesten Stadtmagazine in Köln. Ihr Termin fehlt? Einfach kostenlos einreichen: www.bilderbogen.de/eventeintrag
URL:https://mein-weiss.de/event/venedig-ein-lebensgefuehl-fotoausstellung-von-joachim-rieger/
LOCATION:Schuhaus Zumnorde\, Schildergasse 51-53\, Köln\, NRW\, 50677\, Deutschland
ATTACH;FMTTYPE=image/jpeg:https://mein-weiss.de/wp-content/uploads/2026/04/Venedig-ein-Lebensgefuehl-Joachim-Rieger-007-1024x683-1.jpg
END:VEVENT
BEGIN:VEVENT
DTSTART;TZID=Europe/Berlin:20260424T153000
DTEND;TZID=Europe/Berlin:20260424T170000
DTSTAMP:20260422T122926
CREATED:20260311T110051Z
LAST-MODIFIED:20260312T090105Z
UID:6513-1777044600-1777050000@mein-weiss.de
SUMMARY:„Rabe Socke – Alles wieder beste Freunde!“
DESCRIPTION:2026 feiert der kleine Rabe Socke seinen 30. Geburtstag – passend dazu erscheint eine neue Rabengeschichte als Comic im Esslinger Verlag. Die Kammerpuppenspiele präsentieren die Uraufführung in einer abwechslungsreich gestalteten Bühnenfassung: „Rabe Socke – Alles wieder beste Freunde!“ im Brunosaal Köln.\n\nDie Kammerpuppenspiele zeigen exklusiv „Alles wieder beste Freunde“ von Nele Moost und Annet Rudolph.\nIm Wald ist alles fröhlich – bis sich Rabe Socke mit seinem Freund Löffel heftig streitet.\nAus Wut hängt Socke überall Zettel auf\, auf denen steht\, dass Löffel doof ist. Löffel denkt daraufhin\, dass ihn niemand mehr mag. Das macht ihn sehr traurig.\nSchon bald streitet sich jeder mit jedem!\nAm Ende lernen alle: Freunde können sich streiten – aber noch wichtiger ist es\, sich wieder zu vertragen.\nUnd so ist am Schluss alles wieder beste Freunde.\n\nEin mitreißender Theaterspaß für Kinder ab 3 Jahren\, der kleine und große Zuschauerinnen und Zuschauer gleichermaßen begeistert und zum Mitfühlen und Mitlachen einlädt.\nEmpfohlen für Kinder ab 3 Jahren\nSpieldauer: ca. 90 Minuten inkl. Pause\nBildquelle: Kammerpuppenspiele Bielefeld\n\nDieser Eintrag wird Ihnen zur Verfügung gestellt vom Kölner BilderBogen – eines der beliebtesten Stadtmagazine in Köln. Ihr Termin fehlt? Einfach kostenlos einreichen: www.bilderbogen.de/eventeintrag
URL:https://mein-weiss.de/event/rabe-socke-alles-wieder-beste-freunde/
LOCATION:Brunosaal\, Klettenberggürtel 65\, Köln\, 50939
ATTACH;FMTTYPE=image/jpeg:https://mein-weiss.de/wp-content/uploads/2026/03/gruppe3-1024x680-1.jpg
END:VEVENT
BEGIN:VEVENT
DTSTART;TZID=Europe/Berlin:20260424T153000
DTEND;TZID=Europe/Berlin:20260424T170000
DTSTAMP:20260422T122926
CREATED:20260312T100107Z
LAST-MODIFIED:20260312T100107Z
UID:6535-1777044600-1777050000@mein-weiss.de
SUMMARY:„Rabe Socke – Alles wieder beste Freunde!“
DESCRIPTION:2026 feiert der kleine Rabe Socke seinen 30. Geburtstag. Passend dazu erscheint im Esslinger Verlag eine brandneue Rabengeschichte als Comic. Die Kammerpuppenspiele haben die Uraufführung übernommen und zeigen ab April exklusiv die liebevoll gestaltete Bühnenfassung\n„Rabe Socke – Alles wieder beste Freunde!“ \nIn der neuen Geschichte fliegen ordentlich die Fetzen: Löffel und Socke geraten heftig aneinander\, und schon bald streitet jede Figur mit jeder. Chaos liegt in der Luft! Rabe Socke begibt sich auf die Suche nach einer Lösung\, damit am Ende wieder Freundschaft\, Zusammenhalt und Verständnis füreinander siegen können. \nDie Inszenierung verbindet Humor\, feine Puppenarbeit und kindgerechtes Erzähltheater zu einem mitreißenden Theaterspaß. Ein Stück\, das Theateranfängerinnen und -anfänger ebenso begeistert wie ältere Zuschauerinnen und Zuschauer – zum Mitfühlen\, Mitlachen und Wieder-Freunde-Werden. \nEmpfohlen für Kinder ab 3 Jahren. \nBildquelle: Kammerpuppenspiele Bielefeld \nTermine:\n\n\nFreitag\, 24.04.2026 – 15:30 Uhr \n\n\nSamstag\, 25.04.2026 – 11:00 Uhr & 14:00 Uhr \n\n\nSonntag\, 26.04.2026 – 11:00 Uhr & 13:30 Uhr & 16:00 Uhr \n\n\nMontag\, 27.04.2026 – 16:30 Uhr \n\n\n\nDieser Eintrag wird Ihnen zur Verfügung gestellt vom Kölner BilderBogen – eines der beliebtesten Stadtmagazine in Köln. Ihr Termin fehlt? Einfach kostenlos einreichen: www.bilderbogen.de/eventeintrag
URL:https://mein-weiss.de/event/rabe-socke-alles-wieder-beste-freunde-8/
LOCATION:Brunosaal\, Klettenberggürtel 65\, Köln\, 50939
ATTACH;FMTTYPE=image/jpeg:https://mein-weiss.de/wp-content/uploads/2026/03/image006-1024x768-1.jpg
END:VEVENT
BEGIN:VEVENT
DTSTART;TZID=Europe/Berlin:20260424T160000
DTEND;TZID=Europe/Berlin:20260424T190000
DTSTAMP:20260422T122926
CREATED:20260413T100057Z
LAST-MODIFIED:20260413T100057Z
UID:6722-1777046400-1777057200@mein-weiss.de
SUMMARY:Vernissage Gemeinschaftsausstellung „Schwarze Tiefe & 60 Jahre Kunst“
DESCRIPTION:Vernissage zur Ausstellung von Edith Geike und Monika Frei-Herrmann im Rahmen der Kunst- und Kulturmeile in der Location von about events in Rodenkirchen: \nEdith Geike präsentiert unter dem Titel „Im Grunde Schwarz“ Werke\, die durch den konsequenten Einsatz schwarzer Bildgründe eine besondere Tiefenwirkung entfalten. Unterschiedliche Maltechniken erzeugen starke Kontraste und präzise Akzentuierungen. \nMonika Frei-Herrmann zeigt mit „Arbeiten aus 60 Jahren“ einen Querschnitt ihres umfangreichen Lebenswerks – darunter Zeichnungen aus ihrem Grafikstudium\, Portraits und Aquarelle. \nBildquelle: ©about events \n\nDieser Eintrag wird Ihnen zur Verfügung gestellt vom Kölner BilderBogen – eines der beliebtesten Stadtmagazine in Köln. Ihr Termin fehlt? Einfach kostenlos einreichen: www.bilderbogen.de/eventeintrag
URL:https://mein-weiss.de/event/vernissage-gemeinschaftsausstellung-schwarze-tiefe-60-jahre-kunst/
LOCATION:ABOUT:EVENTS\, Barbarastraße 15-17\, Köln\, NRW\, 50996\, Deutschland
ATTACH;FMTTYPE=image/png:https://mein-weiss.de/wp-content/uploads/2026/04/Bilderbogen-Terminkalender-1024x576-1.png
END:VEVENT
BEGIN:VEVENT
DTSTART;TZID=Europe/Berlin:20260424T163000
DTEND;TZID=Europe/Berlin:20260424T180000
DTSTAMP:20260422T122926
CREATED:20260407T140046Z
LAST-MODIFIED:20260407T150051Z
UID:6691-1777048200-1777053600@mein-weiss.de
SUMMARY:Vernissage „KUNST VERBINDET“
DESCRIPTION:Cura SeniorenCentrum Rodenkirchen \n\nDieser Eintrag wird Ihnen zur Verfügung gestellt vom Kölner BilderBogen – eines der beliebtesten Stadtmagazine in Köln. Ihr Termin fehlt? Einfach kostenlos einreichen: www.bilderbogen.de/eventeintrag
URL:https://mein-weiss.de/event/vernissage-kunst-verbindet/
LOCATION:Cura SeniorenCentrum Köln Rodenkirchen\, Hauptstraße 128\, Köln\, NRW\, 50996\, Deutschland
ATTACH;FMTTYPE=image/jpeg:https://mein-weiss.de/wp-content/uploads/2026/04/Vernissage-Marion-Becker.jpg
END:VEVENT
BEGIN:VEVENT
DTSTART;TZID=Europe/Berlin:20260424T193000
DTEND;TZID=Europe/Berlin:20260424T213000
DTSTAMP:20260422T122926
CREATED:20260401T100058Z
LAST-MODIFIED:20260401T100058Z
UID:6645-1777059000-1777066200@mein-weiss.de
SUMMARY:Das Trio Klangklau in der Kirche St. Georg Weiß
DESCRIPTION:Anfang 2020 gegründet\, spielt Klangklau populäre Jazz-Standards der 30er und 40er Jahre und interpretiert bekannte Pop-\, Blues und Folksongs neu im Jazzgewand. \nIm Anschluss gemütlicher Ausklang bei Getränken. \nEintritt frei! Um Spenden für die Band wird gebeten. \n\nDieser Eintrag wird Ihnen zur Verfügung gestellt vom Kölner BilderBogen – eines der beliebtesten Stadtmagazine in Köln. Ihr Termin fehlt? Einfach kostenlos einreichen: www.bilderbogen.de/eventeintrag
URL:https://mein-weiss.de/event/das-trio-klangklau-in-der-kirche-st-georg-weiss/
LOCATION:St. Georg\, Kirchplatz 3\, Köln\, NRW\, 50999\, Deutschland
ATTACH;FMTTYPE=image/png:https://mein-weiss.de/wp-content/uploads/2026/04/klangklau_24042026-726x1024-1.png
END:VEVENT
END:VCALENDAR