BEGIN:VCALENDAR
VERSION:2.0
PRODID:-//Dorfgemeinschaft Weiss - ECPv6.15.20//NONSGML v1.0//EN
CALSCALE:GREGORIAN
METHOD:PUBLISH
X-WR-CALNAME:Dorfgemeinschaft Weiss
X-ORIGINAL-URL:https://mein-weiss.de
X-WR-CALDESC:Veranstaltungen für Dorfgemeinschaft Weiss
REFRESH-INTERVAL;VALUE=DURATION:PT1H
X-Robots-Tag:noindex
X-PUBLISHED-TTL:PT1H
BEGIN:VTIMEZONE
TZID:Europe/Berlin
BEGIN:DAYLIGHT
TZOFFSETFROM:+0100
TZOFFSETTO:+0200
TZNAME:CEST
DTSTART:20250330T010000
END:DAYLIGHT
BEGIN:STANDARD
TZOFFSETFROM:+0200
TZOFFSETTO:+0100
TZNAME:CET
DTSTART:20251026T010000
END:STANDARD
BEGIN:DAYLIGHT
TZOFFSETFROM:+0100
TZOFFSETTO:+0200
TZNAME:CEST
DTSTART:20260329T010000
END:DAYLIGHT
BEGIN:STANDARD
TZOFFSETFROM:+0200
TZOFFSETTO:+0100
TZNAME:CET
DTSTART:20261025T010000
END:STANDARD
BEGIN:DAYLIGHT
TZOFFSETFROM:+0100
TZOFFSETTO:+0200
TZNAME:CEST
DTSTART:20270328T010000
END:DAYLIGHT
BEGIN:STANDARD
TZOFFSETFROM:+0200
TZOFFSETTO:+0100
TZNAME:CET
DTSTART:20271031T010000
END:STANDARD
END:VTIMEZONE
BEGIN:VEVENT
DTSTART;TZID=Europe/Berlin:20260402T200000
DTEND;TZID=Europe/Berlin:20260402T220000
DTSTAMP:20260422T121436
CREATED:20260312T100102Z
LAST-MODIFIED:20260312T100102Z
UID:6533-1775160000-1775167200@mein-weiss.de
SUMMARY:BOING! Comedian des Jahres 2026
DESCRIPTION:Präsentiert vom BOING! Comedy Club Köln: Das Finale des BOING! Comedyslam bringt die stärksten Acts des Jahres auf eine Bühne. Live\, direkt und ohne Netz kämpfen mehrere Comedians um den Titel – und ihr entscheidet\, wer „Comedian des Jahres“ wird. \nFreut euch auf treffsichere Stand-up\, überraschende Wendungen und eine Stimmung\, die knistert. Ein Abend für alle\, die echten Live-Humor feiern. \nEinlass: 19 Uhr\, Beginn: 20 Uhr \n\nDieser Eintrag wird Ihnen zur Verfügung gestellt vom Kölner BilderBogen – eines der beliebtesten Stadtmagazine in Köln. Ihr Termin fehlt? Einfach kostenlos einreichen: www.bilderbogen.de/eventeintrag
URL:https://mein-weiss.de/event/boing-comedian-des-jahres-2026/
LOCATION:Horizont-Theater\, Thürmchenswall 25\, Köln\, 50668
END:VEVENT
END:VCALENDAR