BEGIN:VCALENDAR
VERSION:2.0
PRODID:-//Dorfgemeinschaft Weiss - ECPv6.15.20//NONSGML v1.0//EN
CALSCALE:GREGORIAN
METHOD:PUBLISH
X-WR-CALNAME:Dorfgemeinschaft Weiss
X-ORIGINAL-URL:https://mein-weiss.de
X-WR-CALDESC:Veranstaltungen für Dorfgemeinschaft Weiss
REFRESH-INTERVAL;VALUE=DURATION:PT1H
X-Robots-Tag:noindex
X-PUBLISHED-TTL:PT1H
BEGIN:VTIMEZONE
TZID:Europe/Berlin
BEGIN:DAYLIGHT
TZOFFSETFROM:+0100
TZOFFSETTO:+0200
TZNAME:CEST
DTSTART:20250330T010000
END:DAYLIGHT
BEGIN:STANDARD
TZOFFSETFROM:+0200
TZOFFSETTO:+0100
TZNAME:CET
DTSTART:20251026T010000
END:STANDARD
BEGIN:DAYLIGHT
TZOFFSETFROM:+0100
TZOFFSETTO:+0200
TZNAME:CEST
DTSTART:20260329T010000
END:DAYLIGHT
BEGIN:STANDARD
TZOFFSETFROM:+0200
TZOFFSETTO:+0100
TZNAME:CET
DTSTART:20261025T010000
END:STANDARD
BEGIN:DAYLIGHT
TZOFFSETFROM:+0100
TZOFFSETTO:+0200
TZNAME:CEST
DTSTART:20270328T010000
END:DAYLIGHT
BEGIN:STANDARD
TZOFFSETFROM:+0200
TZOFFSETTO:+0100
TZNAME:CET
DTSTART:20271031T010000
END:STANDARD
END:VTIMEZONE
BEGIN:VEVENT
DTSTART;TZID=Europe/Berlin:20260324T110000
DTEND;TZID=Europe/Berlin:20260324T120000
DTSTAMP:20260420T151220
CREATED:20260120T030055Z
LAST-MODIFIED:20260120T040044Z
UID:6165-1774350000-1774353600@mein-weiss.de
SUMMARY:Sturzprophylaxe
DESCRIPTION:Lass uns gemeinsam verschiedene Übungen für Körperwahrnehmung und Gleichgewicht machen!\nAnette und Hannelore leiten einfache Übungen an\, die man ohne Stress machen kann\, dafür aber mit viel Freude.\nSpenden sind herzlich willkommen! \nFoto: AWO \n\nDieser Eintrag wird Ihnen zur Verfügung gestellt vom Kölner BilderBogen – eines der beliebtesten Stadtmagazine in Köln. Ihr Termin fehlt? Einfach kostenlos einreichen: www.bilderbogen.de/eventeintrag
URL:https://mein-weiss.de/event/sturzprophylaxe-9/
LOCATION:Villa AWO\, Walther-Rathenau-Str. 9\, Köln\, NRW\, 50996\, Deutschland
ATTACH;FMTTYPE=image/png:https://mein-weiss.de/wp-content/uploads/2026/01/Sturzprophylaxe-724x1024-1.png
END:VEVENT
BEGIN:VEVENT
DTSTART;TZID=Europe/Berlin:20260324T153000
DTEND;TZID=Europe/Berlin:20260324T170000
DTSTAMP:20260420T151220
CREATED:20260226T110058Z
LAST-MODIFIED:20260226T110058Z
UID:6447-1774366200-1774371600@mein-weiss.de
SUMMARY:Elternveranstaltung
DESCRIPTION:Unsere Kinder streiten – und jetzt? Über Geschwisterliebe und – probleme\nVortrag mit anschließender Diskussion im Familienzentrum „Südpunkt“\nDer Vortrag möchte verständlich machen\, wie unterschiedlich Kinder das Aufwachsen erleben und Anregungen geben zur Gestaltung einer ruhigeren Familienstimmung.\nReferentin: Reinhild Felten\n(Grundschulkonrektorin i.R.\, Köln)\nAnmeldung unter 022116537960 oder kita-rodenkirchen@diakonie-michaelshoven.de \n\nDieser Eintrag wird Ihnen zur Verfügung gestellt vom Kölner BilderBogen – eines der beliebtesten Stadtmagazine in Köln. Ihr Termin fehlt? Einfach kostenlos einreichen: www.bilderbogen.de/eventeintrag
URL:https://mein-weiss.de/event/elternveranstaltung/
LOCATION:Ev. Kindergarten Rodenkirchen\, Sürther Straße 34\, Köln\, NRW\, 50996\, Deutschland
END:VEVENT
END:VCALENDAR