BEGIN:VCALENDAR
VERSION:2.0
PRODID:-//Dorfgemeinschaft Weiss - ECPv6.15.20//NONSGML v1.0//EN
CALSCALE:GREGORIAN
METHOD:PUBLISH
X-ORIGINAL-URL:https://mein-weiss.de
X-WR-CALDESC:Veranstaltungen für Dorfgemeinschaft Weiss
REFRESH-INTERVAL;VALUE=DURATION:PT1H
X-Robots-Tag:noindex
X-PUBLISHED-TTL:PT1H
BEGIN:VTIMEZONE
TZID:Europe/Berlin
BEGIN:DAYLIGHT
TZOFFSETFROM:+0100
TZOFFSETTO:+0200
TZNAME:CEST
DTSTART:20250330T010000
END:DAYLIGHT
BEGIN:STANDARD
TZOFFSETFROM:+0200
TZOFFSETTO:+0100
TZNAME:CET
DTSTART:20251026T010000
END:STANDARD
BEGIN:DAYLIGHT
TZOFFSETFROM:+0100
TZOFFSETTO:+0200
TZNAME:CEST
DTSTART:20260329T010000
END:DAYLIGHT
BEGIN:STANDARD
TZOFFSETFROM:+0200
TZOFFSETTO:+0100
TZNAME:CET
DTSTART:20261025T010000
END:STANDARD
BEGIN:DAYLIGHT
TZOFFSETFROM:+0100
TZOFFSETTO:+0200
TZNAME:CEST
DTSTART:20270328T010000
END:DAYLIGHT
BEGIN:STANDARD
TZOFFSETFROM:+0200
TZOFFSETTO:+0100
TZNAME:CET
DTSTART:20271031T010000
END:STANDARD
END:VTIMEZONE
BEGIN:VEVENT
DTSTART;TZID=Europe/Berlin:20260319T100000
DTEND;TZID=Europe/Berlin:20260319T113000
DTSTAMP:20260420T170130
CREATED:20260120T020055Z
LAST-MODIFIED:20260120T030052Z
UID:6158-1773914400-1773919800@mein-weiss.de
SUMMARY:Selbsthilfegruppe für Menschen mit Demenz im frühen Stadium in Raderthal
DESCRIPTION:Unsere Selbsthilfegruppe für Menschen mit Demenz im frühen Stadium richtet sich an Betroffene\, die sich in einem geschützten Rahmen austauschen\, gegenseitig stärken und gemeinsam Strategien für den Umgang mit der Diagnose entwickeln möchten. Die Gruppe wird fachlich begleitet und bietet Raum für Selbstbestimmung\, Teilhabe und Empowerment. Die Gruppe trifft sich jeden 3. Donnerstag im Monat um 10:00 Uhr. \n\nDieser Eintrag wird Ihnen zur Verfügung gestellt vom Kölner BilderBogen – eines der beliebtesten Stadtmagazine in Köln. Ihr Termin fehlt? Einfach kostenlos einreichen: www.bilderbogen.de/eventeintrag
URL:https://mein-weiss.de/event/selbsthilfegruppe-fuer-menschen-mit-demenz-im-fruehen-stadium-in-raderthal-2/
LOCATION:Evangelische Philippus-Kirchengemeinde Köln-Raderthal\, Albert-Schweitzer-Straße 3–5\, Köln\, NRW\, 50968\, Deutschland
END:VEVENT
BEGIN:VEVENT
DTSTART;TZID=Europe/Berlin:20260319T180000
DTEND;TZID=Europe/Berlin:20260319T200000
DTSTAMP:20260420T170130
CREATED:20260109T110033Z
LAST-MODIFIED:20260109T110033Z
UID:6009-1773943200-1773950400@mein-weiss.de
SUMMARY:Lesung mit der Bestsellerautorin Carla Berling
DESCRIPTION:Zwei Frauen\, vier Jahrzehnte\, und der Kampf für ihre Rechte \nBielefeld\, 1963. Katja Schilling wächst im Wirtschaftswunder in einfachen Verhältnissen auf\, in denen für ihren Traum\, Ärztin zu werden\, kein Platz ist. Nur ihr Großvater glaubt an sie – bis er eines Tages spurlos verschwindet. Sein Name wird in der Familie zum Tabu\, und Katja bleibt mit ihren unbeantworteten Fragen allein. Jahre später stößt sie auf eine Wahrheit\, die alles\, was sie über ihre Familie zu wissen glaubte\, erschüttert. \nBielefeld\, 1936. Mathilde Schneeweiß beginnt ihre Arbeit als Sprechstundenhilfe bei Dr. Bönisch. Sie verliebt sich in den engagierten Arzt und wird in ein gefährliches Unterfangen hineingezogen. Gemeinsam helfen sie heimlich Frauen in Not\, aber ihr Mut bleibt nicht unbemerkt. Als sie ins Visier der Gestapo geraten\, muss Mathilde eine Entscheidung treffen\, auch wenn diese sie das Leben kosten könnte. Der Kampf für die Rechte der Frauen muss schließlich weitergehen. \n \nDie Akte Schneeweiss von Felicitas Fuchs \n\nEin bewegender Roman über Mut und Verrat\, Schuld und Gerechtigkeit – und die Spuren\, die Geschichte in unseren Leben hinterlässt. Felicitas Fuchs ist das Pseudonym der Erfolgsautorin Carla Berling. \nEintritt: 10 Euro plus Sektempfang \n2x 45 Minuten Lesung zzgl. Signierstunde und Pause. Es wird ein Büchertisch bereitstehen\, wo die Bücher auch erworben werden können. \nVorverkauf:\nDiakonie Michaelshoven\, Stiftung/Zentrale\, Pfarrer-te-Reh-Str. 1\, 50999\noder hier. \nEinlass eine Stunde vor Beginn \nErzengel-Michael-Kirche\, Pfarrer-te-Reh Str. 5\, 50999 Köln \nHinweis zur Anfahrt:\nBitte nutzen Sie die Mitarbeiterparkplätze zu Beginn der Pfarrer-te-Reh-Straße. Vor der Kirche stehen keine Parkplätze zur Verfügung. \n\nDieser Eintrag wird Ihnen zur Verfügung gestellt vom Kölner BilderBogen – eines der beliebtesten Stadtmagazine in Köln. Ihr Termin fehlt? Einfach kostenlos einreichen: www.bilderbogen.de/eventeintrag
URL:https://mein-weiss.de/event/lesung-mit-der-bestsellerautorin-carla-berling/
LOCATION:Erzengel-Michael-Kirche – Michaelshoven\, Pfarrer-Te-Reh-Straße 7\, Köln\, NRW\, 50999\, Deutschland
ATTACH;FMTTYPE=image/jpeg:https://mein-weiss.de/wp-content/uploads/2026/01/CARLA_BERLING_II_0656-scaled-1-1024x683-1.jpg
END:VEVENT
BEGIN:VEVENT
DTSTART;TZID=Europe/Berlin:20260319T200000
DTEND;TZID=Europe/Berlin:20260319T220000
DTSTAMP:20260420T170130
CREATED:20260203T110116Z
LAST-MODIFIED:20260203T110116Z
UID:6322-1773950400-1773957600@mein-weiss.de
SUMMARY:Der Literarische Salon mit Tom Schulz
DESCRIPTION:Literatur\, Wort \nDie Lyrik des Dichters Tom Schulz\, so sagte es der Österreichische Rundfunk\, „kündigt die Übereinkunft\, wie Welt zu denken ist und was wir unter Wirklichkeit zu verstehen haben\, locker auf.“ Zwölf Bände mit Poesie hat Schulz\, der 1970 in der Oberlausitz geboren wurde und heute in Berlin lebt\, seit den 1990er Jahren veröffentlicht\, viele von ihnen wurden in andere Sprachen übersetzt. Und sie alle werfen die Frage nach dem Veränderungsaspekt von „Schöner Literatur“ auf\, suchen eine Raumzeit des Humanen. In seinem neuen Band SALZ UND ERINNERN begibt sich Schulz an Orte eigener und fremder Geschichte\, von der ehemaligen Stalinallee in Ostberlin nach Budapest und an die Donau. Überblendungen und Rückbilder. Das zerstörte Berlin\, Nachkrieg. Serbien\, dreißig Jahre nach den Schrecken des Krieges. \nErinnern heißt sich bewusst werden\, es fragt nach einer Haltung zur Welt und den Dingen. Im Deutschlandfunk hieß es über sein Werk: „In dem Unvollendeten und nach allen Seiten Offenen Perfektion zu sehen\, das lehrt uns Tom Schulz\, ohne dabei die Gefahr zu ignorieren\, in die der Mensch die Schöpfung gebracht hat.“ \nDer Literarische Salon: Seit 2006 laden Guy Helminger und Navid Kermani Schriftsteller:innen\, für die sie sich begeistern\, in ihren Literarischen Salon in den Kölner Stadtgarten ein. Der Gast liest aus eigenen Büchern\, bringt aber auch Texte und Musik mit\, die ihm oder ihr besonders wichtig sind. \n// Tom Schulz (author)\, Navid Kermani (moderation\, host)\, Guy Helminger (moderation\, host) \nBildquelle: Tom Schulz © Dirk Skriba \n\nDieser Eintrag wird Ihnen zur Verfügung gestellt vom Kölner BilderBogen – eines der beliebtesten Stadtmagazine in Köln. Ihr Termin fehlt? Einfach kostenlos einreichen: www.bilderbogen.de/eventeintrag
URL:https://mein-weiss.de/event/der-literarische-salon-mit-tom-schulz/
LOCATION:Stadtgarten concert hall/ JAKI\, Venloer Straße 40\, Köln\, NRW\, 50672
ATTACH;FMTTYPE=image/png:https://mein-weiss.de/wp-content/uploads/2026/02/Bildschirmfoto-2026-02-03-um-11.58.17.png
END:VEVENT
END:VCALENDAR