BEGIN:VCALENDAR
VERSION:2.0
PRODID:-//Dorfgemeinschaft Weiss - ECPv6.15.20//NONSGML v1.0//EN
CALSCALE:GREGORIAN
METHOD:PUBLISH
X-ORIGINAL-URL:https://mein-weiss.de
X-WR-CALDESC:Veranstaltungen für Dorfgemeinschaft Weiss
REFRESH-INTERVAL;VALUE=DURATION:PT1H
X-Robots-Tag:noindex
X-PUBLISHED-TTL:PT1H
BEGIN:VTIMEZONE
TZID:Europe/Berlin
BEGIN:DAYLIGHT
TZOFFSETFROM:+0100
TZOFFSETTO:+0200
TZNAME:CEST
DTSTART:20250330T010000
END:DAYLIGHT
BEGIN:STANDARD
TZOFFSETFROM:+0200
TZOFFSETTO:+0100
TZNAME:CET
DTSTART:20251026T010000
END:STANDARD
BEGIN:DAYLIGHT
TZOFFSETFROM:+0100
TZOFFSETTO:+0200
TZNAME:CEST
DTSTART:20260329T010000
END:DAYLIGHT
BEGIN:STANDARD
TZOFFSETFROM:+0200
TZOFFSETTO:+0100
TZNAME:CET
DTSTART:20261025T010000
END:STANDARD
BEGIN:DAYLIGHT
TZOFFSETFROM:+0100
TZOFFSETTO:+0200
TZNAME:CEST
DTSTART:20270328T010000
END:DAYLIGHT
BEGIN:STANDARD
TZOFFSETFROM:+0200
TZOFFSETTO:+0100
TZNAME:CET
DTSTART:20271031T010000
END:STANDARD
END:VTIMEZONE
BEGIN:VEVENT
DTSTART;TZID=Europe/Berlin:20260311T103000
DTEND;TZID=Europe/Berlin:20260311T120000
DTSTAMP:20260420T151506
CREATED:20260120T010055Z
LAST-MODIFIED:20260120T020044Z
UID:6146-1773225000-1773230400@mein-weiss.de
SUMMARY:Eltern-Kind-Gruppe in der Villa AWO
DESCRIPTION:Kommen Sie vorbei und tauschen Sie sich in lockerer Atmosphäre mit anderen Eltern aus! Gemeinsam spielen\, lachen und neue Freundschaften knüpfen – für Eltern und Kinder! Die Eltern-Kind-Gruppe findet für Kinder ab ca. 6 Monaten einmal in der Woche mittwochs statt. \nFoto: AWO \n\nDieser Eintrag wird Ihnen zur Verfügung gestellt vom Kölner BilderBogen – eines der beliebtesten Stadtmagazine in Köln. Ihr Termin fehlt? Einfach kostenlos einreichen: www.bilderbogen.de/eventeintrag
URL:https://mein-weiss.de/event/eltern-kind-gruppe-in-der-villa-awo-11/
LOCATION:Villa AWO\, Walther-Rathenau-Str. 9\, Köln\, NRW\, 50996\, Deutschland
ATTACH;FMTTYPE=image/png:https://mein-weiss.de/wp-content/uploads/2026/01/Eltern-Kind-Gruppe-Villa-724x1024-1.png
END:VEVENT
BEGIN:VEVENT
DTSTART;TZID=Europe/Berlin:20260311T140000
DTEND;TZID=Europe/Berlin:20260311T153000
DTSTAMP:20260420T151506
CREATED:20260120T010057Z
LAST-MODIFIED:20260120T020046Z
UID:6147-1773237600-1773243000@mein-weiss.de
SUMMARY:Digital FIT – Anfängerkurs
DESCRIPTION:Wir unterstützen Sie beim Thema Digitales!\nEgal ob Handy\, Smartphone\, Tablet\, oder Notebook. Egal ob Android\, Apple oder Windows. Wir helfen! \nFoto: AWO \n\nDieser Eintrag wird Ihnen zur Verfügung gestellt vom Kölner BilderBogen – eines der beliebtesten Stadtmagazine in Köln. Ihr Termin fehlt? Einfach kostenlos einreichen: www.bilderbogen.de/eventeintrag
URL:https://mein-weiss.de/event/digital-fit-anfaengerkurs-7/
LOCATION:Villa AWO\, Walther-Rathenau-Str. 9\, Köln\, NRW\, 50996\, Deutschland
ATTACH;FMTTYPE=image/png:https://mein-weiss.de/wp-content/uploads/2026/01/Digital-FIT-2026-724x1024-1.png
END:VEVENT
BEGIN:VEVENT
DTSTART;TZID=Europe/Berlin:20260311T153000
DTEND;TZID=Europe/Berlin:20260311T160000
DTSTAMP:20260420T151506
CREATED:20260121T160105Z
LAST-MODIFIED:20260121T170056Z
UID:6259-1773243000-1773244800@mein-weiss.de
SUMMARY:Digital FIT – Digitale Sprechstunde ohne Anmeldung
DESCRIPTION:Wir unterstützen Sie beim Thema Digitales!\nEgal ob Handy\, Smartphone\, Tablet\, oder Notebook. Egal ob Android\, Apple oder Windows. Wir helfen! \nFoto: AWO \n\nDieser Eintrag wird Ihnen zur Verfügung gestellt vom Kölner BilderBogen – eines der beliebtesten Stadtmagazine in Köln. Ihr Termin fehlt? Einfach kostenlos einreichen: www.bilderbogen.de/eventeintrag
URL:https://mein-weiss.de/event/digital-fit-digitale-sprechstunde-ohne-anmeldung-15/
LOCATION:Villa AWO\, Walther-Rathenau-Str. 9\, Köln\, NRW\, 50996\, Deutschland
ATTACH;FMTTYPE=image/png:https://mein-weiss.de/wp-content/uploads/2026/01/Digital-FIT-2026-724x1024-1.png
END:VEVENT
BEGIN:VEVENT
DTSTART;TZID=Europe/Berlin:20260311T190000
DTEND;TZID=Europe/Berlin:20260311T193000
DTSTAMP:20260420T151506
CREATED:20260120T200105Z
LAST-MODIFIED:20260120T210057Z
UID:6238-1773255600-1773257400@mein-weiss.de
SUMMARY:Power Pilates
DESCRIPTION:Ein dynamisches Pilates-Workout\, das Kraft\, Stabilität und Beweglichkeit verbindet. \nKursdauer: 45 Minuten \nFoto: AWO \n\nDieser Eintrag wird Ihnen zur Verfügung gestellt vom Kölner BilderBogen – eines der beliebtesten Stadtmagazine in Köln. Ihr Termin fehlt? Einfach kostenlos einreichen: www.bilderbogen.de/eventeintrag
URL:https://mein-weiss.de/event/power-pilates-4/
LOCATION:Villa AWO\, Walther-Rathenau-Str. 9\, Köln\, NRW\, 50996\, Deutschland
ATTACH;FMTTYPE=image/png:https://mein-weiss.de/wp-content/uploads/2026/01/Power-Pilates1-724x1024-1.png
END:VEVENT
BEGIN:VEVENT
DTSTART;TZID=Europe/Berlin:20260311T190000
DTEND;TZID=Europe/Berlin:20260311T203000
DTSTAMP:20260420T151506
CREATED:20260120T200103Z
LAST-MODIFIED:20260120T200103Z
UID:6237-1773255600-1773261000@mein-weiss.de
SUMMARY:Vortrag: In Stein gemeißelt
DESCRIPTION:Inschriften von der Antike bis zur Neuzeit: Inhalt\, Fundumstände\, Technisches. Mit Lichtbildern. Vortrag (45 Min.) mit anschließender Diskussion. \nFoto: AWO \n\nDieser Eintrag wird Ihnen zur Verfügung gestellt vom Kölner BilderBogen – eines der beliebtesten Stadtmagazine in Köln. Ihr Termin fehlt? Einfach kostenlos einreichen: www.bilderbogen.de/eventeintrag
URL:https://mein-weiss.de/event/vortrag-in-stein-gemeisselt/
LOCATION:Villa AWO\, Walther-Rathenau-Str. 9\, Köln\, NRW\, 50996\, Deutschland
ATTACH;FMTTYPE=image/png:https://mein-weiss.de/wp-content/uploads/2026/01/In-Stein-gemeisselt-724x1024-1.png
END:VEVENT
BEGIN:VEVENT
DTSTART;TZID=Europe/Berlin:20260311T193000
DTEND;TZID=Europe/Berlin:20260311T213000
DTSTAMP:20260420T151506
CREATED:20260202T120051Z
LAST-MODIFIED:20260202T130051Z
UID:6310-1773257400-1773264600@mein-weiss.de
SUMMARY:Sach ma nix
DESCRIPTION:Bernhard Riedl liest aus Texten von Hanns Dieter Hüsch. Musikalische Begleitung Barbara Kozikowski \nVeranstalter: LITERAMUS e.V.\nBernhard Riedl\, Theologe und Literatur-Liebhaber\, stellt dem Publikum wechselweise amüsante\, skurrile und ernst-besinnliche Textpassagen aus Hanns Dieter Hüschs Werk vor. Barbara Kozikowski setzt mit Ukulele und Saxophon musikalische Akzente. \nBildquelle: Plakat Stadtbibliothek Köln \n\nDieser Eintrag wird Ihnen zur Verfügung gestellt vom Kölner BilderBogen – eines der beliebtesten Stadtmagazine in Köln. Ihr Termin fehlt? Einfach kostenlos einreichen: www.bilderbogen.de/eventeintrag
URL:https://mein-weiss.de/event/sach-ma-nix/
LOCATION:Stadtteil-Bibliothek Rodenkirchen\, Schillingsrotter Str. 38\, Köln\, NRW\, 50996\, Deutschland
ATTACH;FMTTYPE=image/jpeg:https://mein-weiss.de/wp-content/uploads/2026/02/Plakat_Berhard_Riedl-liest-HD-Huesch-11.3.26-1024x724-1.jpg
END:VEVENT
END:VCALENDAR