BEGIN:VCALENDAR
VERSION:2.0
PRODID:-//Dorfgemeinschaft Weiss - ECPv6.15.20//NONSGML v1.0//EN
CALSCALE:GREGORIAN
METHOD:PUBLISH
X-WR-CALNAME:Dorfgemeinschaft Weiss
X-ORIGINAL-URL:https://mein-weiss.de
X-WR-CALDESC:Veranstaltungen für Dorfgemeinschaft Weiss
REFRESH-INTERVAL;VALUE=DURATION:PT1H
X-Robots-Tag:noindex
X-PUBLISHED-TTL:PT1H
BEGIN:VTIMEZONE
TZID:Europe/Berlin
BEGIN:DAYLIGHT
TZOFFSETFROM:+0100
TZOFFSETTO:+0200
TZNAME:CEST
DTSTART:20250330T010000
END:DAYLIGHT
BEGIN:STANDARD
TZOFFSETFROM:+0200
TZOFFSETTO:+0100
TZNAME:CET
DTSTART:20251026T010000
END:STANDARD
BEGIN:DAYLIGHT
TZOFFSETFROM:+0100
TZOFFSETTO:+0200
TZNAME:CEST
DTSTART:20260329T010000
END:DAYLIGHT
BEGIN:STANDARD
TZOFFSETFROM:+0200
TZOFFSETTO:+0100
TZNAME:CET
DTSTART:20261025T010000
END:STANDARD
BEGIN:DAYLIGHT
TZOFFSETFROM:+0100
TZOFFSETTO:+0200
TZNAME:CEST
DTSTART:20270328T010000
END:DAYLIGHT
BEGIN:STANDARD
TZOFFSETFROM:+0200
TZOFFSETTO:+0100
TZNAME:CET
DTSTART:20271031T010000
END:STANDARD
END:VTIMEZONE
BEGIN:VEVENT
DTSTART;TZID=Europe/Berlin:20260225T103000
DTEND;TZID=Europe/Berlin:20260225T120000
DTSTAMP:20260422T104537
CREATED:20260119T230051Z
LAST-MODIFIED:20260120T000050Z
UID:6126-1772015400-1772020800@mein-weiss.de
SUMMARY:Eltern-Kind-Gruppe in der Villa AWO
DESCRIPTION:Kommen Sie vorbei und tauschen Sie sich in lockerer Atmosphäre mit anderen Eltern aus! Gemeinsam spielen\, lachen und neue Freundschaften knüpfen – für Eltern und Kinder! Die Eltern-Kind-Gruppe findet für Kinder ab ca. 6 Monaten einmal in der Woche mittwochs statt. \nFoto: AWO \n\nDieser Eintrag wird Ihnen zur Verfügung gestellt vom Kölner BilderBogen – eines der beliebtesten Stadtmagazine in Köln. Ihr Termin fehlt? Einfach kostenlos einreichen: www.bilderbogen.de/eventeintrag
URL:https://mein-weiss.de/event/eltern-kind-gruppe-in-der-villa-awo-9/
LOCATION:Villa AWO\, Walther-Rathenau-Str. 9\, Köln\, NRW\, 50996\, Deutschland
ATTACH;FMTTYPE=image/png:https://mein-weiss.de/wp-content/uploads/2026/01/Eltern-Kind-Gruppe-Villa-724x1024-1.png
END:VEVENT
BEGIN:VEVENT
DTSTART;TZID=Europe/Berlin:20260225T140000
DTEND;TZID=Europe/Berlin:20260225T153000
DTSTAMP:20260422T104537
CREATED:20260119T230053Z
LAST-MODIFIED:20260120T000051Z
UID:6127-1772028000-1772033400@mein-weiss.de
SUMMARY:Digital FIT – Anfängerkurs
DESCRIPTION:Wir unterstützen Sie beim Thema Digitales!\nEgal ob Handy\, Smartphone\, Tablet\, oder Notebook. Egal ob Android\, Apple oder Windows. Wir helfen! \nFoto: AWO \n\nDieser Eintrag wird Ihnen zur Verfügung gestellt vom Kölner BilderBogen – eines der beliebtesten Stadtmagazine in Köln. Ihr Termin fehlt? Einfach kostenlos einreichen: www.bilderbogen.de/eventeintrag
URL:https://mein-weiss.de/event/digital-fit-anfaengerkurs-6/
LOCATION:Villa AWO\, Walther-Rathenau-Str. 9\, Köln\, NRW\, 50996\, Deutschland
ATTACH;FMTTYPE=image/png:https://mein-weiss.de/wp-content/uploads/2026/01/Digital-FIT-2026-724x1024-1.png
END:VEVENT
BEGIN:VEVENT
DTSTART;TZID=Europe/Berlin:20260225T153000
DTEND;TZID=Europe/Berlin:20260225T160000
DTSTAMP:20260422T104537
CREATED:20260120T190059Z
LAST-MODIFIED:20260121T160101Z
UID:6225-1772033400-1772035200@mein-weiss.de
SUMMARY:Digital FIT – Digitale Sprechstunde ohne Anmeldung
DESCRIPTION:Wir unterstützen Sie beim Thema Digitales!\nEgal ob Handy\, Smartphone\, Tablet\, oder Notebook. Egal ob Android\, Apple oder Windows. Wir helfen! \nFoto: AWO \n\nDieser Eintrag wird Ihnen zur Verfügung gestellt vom Kölner BilderBogen – eines der beliebtesten Stadtmagazine in Köln. Ihr Termin fehlt? Einfach kostenlos einreichen: www.bilderbogen.de/eventeintrag
URL:https://mein-weiss.de/event/digital-fit-digitale-sprechstunde-ohne-anmeldung-10/
LOCATION:Villa AWO\, Walther-Rathenau-Str. 9\, Köln\, NRW\, 50996\, Deutschland
ATTACH;FMTTYPE=image/png:https://mein-weiss.de/wp-content/uploads/2026/01/Digital-FIT-2026-724x1024-1.png
END:VEVENT
BEGIN:VEVENT
DTSTART;TZID=Europe/Berlin:20260225T190000
DTEND;TZID=Europe/Berlin:20260225T193000
DTSTAMP:20260422T104537
CREATED:20260120T190101Z
LAST-MODIFIED:20260120T200053Z
UID:6226-1772046000-1772047800@mein-weiss.de
SUMMARY:Power Pilates
DESCRIPTION:Ein dynamisches Pilates-Workout\, das Kraft\, Stabilität und Beweglichkeit verbindet. \nKursdauer: 45 Minuten \nFoto: AWO \n\nDieser Eintrag wird Ihnen zur Verfügung gestellt vom Kölner BilderBogen – eines der beliebtesten Stadtmagazine in Köln. Ihr Termin fehlt? Einfach kostenlos einreichen: www.bilderbogen.de/eventeintrag
URL:https://mein-weiss.de/event/power-pilates-3/
LOCATION:Villa AWO\, Walther-Rathenau-Str. 9\, Köln\, NRW\, 50996\, Deutschland
ATTACH;FMTTYPE=image/png:https://mein-weiss.de/wp-content/uploads/2026/01/Power-Pilates1-724x1024-1.png
END:VEVENT
BEGIN:VEVENT
DTSTART;TZID=Europe/Berlin:20260225T200000
DTEND;TZID=Europe/Berlin:20260225T223000
DTSTAMP:20260422T104537
CREATED:20260113T200037Z
LAST-MODIFIED:20260113T210033Z
UID:6043-1772049600-1772058600@mein-weiss.de
SUMMARY:Marc Gettmann – Ich erklär´s euch später
DESCRIPTION:Magie und Comedy  \nAls einstiger Rechtsanwalt und heute gefeierter Mentalmagier überschreitet Marc Gettmann die Grenzen zwischen Logik und Illusion – mit Witz\, Charme und verblüffender Raffinesse. In seinem neuen SoloProgramm entführt er sein Publikum in eine Welt\, in der Gedanken sichtbar werden und das Unerklärliche ganz selbstverständlich zur Show gehört. \nGettmann liest PINNummern\, lässt Alltägliches außergewöhnlich erscheinen und öffnet Türen zu mentalen Rätseln\, bei denen man sich unweigerlich fragt: „Wie hat er das gemacht?“ – nur um festzustellen: Er wusste es längst. Dabei bleibt er stets nahbar\, humorvoll und mit einem liebevollen Augenzwinkern auf Augenhöhe mit seinem Publikum. \n„Ich erklär’s euch später!“ ist mehr als ein Titel – es ist ein Versprechen: Staunen darf erlaubt sein. Erklärungen kommen – vielleicht. Oder einfach später. Ein Abend voller Überraschungen\, Humor und magischem Kopfkino. \n\n\nSie sehen gerade einen Platzhalterinhalt von Standard. Um auf den eigentlichen Inhalt zuzugreifen\, klicken Sie auf den Button unten. Bitte beachten Sie\, dass dabei Daten an Drittanbieter weitergegeben werden. \n Inhalt entsperren Erforderlichen Service akzeptieren und Inhalte entsperren \n Weitere Informationen \n\n\nDieser Eintrag wird Ihnen zur Verfügung gestellt vom Kölner BilderBogen – eines der beliebtesten Stadtmagazine in Köln. Ihr Termin fehlt? Einfach kostenlos einreichen: www.bilderbogen.de/eventeintrag
URL:https://mein-weiss.de/event/marc-gettmann-ich-erklaers-euch-spaeter/
LOCATION:Theater509 Bürgerhaus Stollwerck\, Dreikönigenstraße 23\, Köln\, 50678
END:VEVENT
END:VCALENDAR