BEGIN:VCALENDAR
VERSION:2.0
PRODID:-//Dorfgemeinschaft Weiss - ECPv6.15.20//NONSGML v1.0//EN
CALSCALE:GREGORIAN
METHOD:PUBLISH
X-ORIGINAL-URL:https://mein-weiss.de
X-WR-CALDESC:Veranstaltungen für Dorfgemeinschaft Weiss
REFRESH-INTERVAL;VALUE=DURATION:PT1H
X-Robots-Tag:noindex
X-PUBLISHED-TTL:PT1H
BEGIN:VTIMEZONE
TZID:Europe/Berlin
BEGIN:DAYLIGHT
TZOFFSETFROM:+0100
TZOFFSETTO:+0200
TZNAME:CEST
DTSTART:20250330T010000
END:DAYLIGHT
BEGIN:STANDARD
TZOFFSETFROM:+0200
TZOFFSETTO:+0100
TZNAME:CET
DTSTART:20251026T010000
END:STANDARD
BEGIN:DAYLIGHT
TZOFFSETFROM:+0100
TZOFFSETTO:+0200
TZNAME:CEST
DTSTART:20260329T010000
END:DAYLIGHT
BEGIN:STANDARD
TZOFFSETFROM:+0200
TZOFFSETTO:+0100
TZNAME:CET
DTSTART:20261025T010000
END:STANDARD
BEGIN:DAYLIGHT
TZOFFSETFROM:+0100
TZOFFSETTO:+0200
TZNAME:CEST
DTSTART:20270328T010000
END:DAYLIGHT
BEGIN:STANDARD
TZOFFSETFROM:+0200
TZOFFSETTO:+0100
TZNAME:CET
DTSTART:20271031T010000
END:STANDARD
END:VTIMEZONE
BEGIN:VEVENT
DTSTART;TZID=Europe/Berlin:20260224T100000
DTEND;TZID=Europe/Berlin:20260224T113000
DTSTAMP:20260422T122828
CREATED:20251208T150056Z
LAST-MODIFIED:20251208T150056Z
UID:5894-1771927200-1771932600@mein-weiss.de
SUMMARY:Computerkurs für Senioren in Sürth
DESCRIPTION:Am 20.01.2026 um 10.00 Uhr beginnt wieder ein PC-Kurs in der Auferstehungskirche in Sürth. Es sind 6 Termine\, jeden Dienstag von 10.00 – 11.30 Uhr.\nDie Teilnahme ist kostenlos. Eine Anmeldung ist erforderlich. Bitte bringen Sie Ihr Laptop mit. \nDer Kurs findet in der Auferstehungskirche Sürth / Weiß\, Auferstehungskirchweg 7\, 50999 Köln Sürth statt. Anmeldung und weitere Informationen unter 0221 37 93 17 65 (Anrufbeantworter\, wir rufen zurück) \nVeranstalter sind die Seniorennetzwerke Sürth und Bayenthal. \n\nDieser Eintrag wird Ihnen zur Verfügung gestellt vom Kölner BilderBogen – eines der beliebtesten Stadtmagazine in Köln. Ihr Termin fehlt? Einfach kostenlos einreichen: www.bilderbogen.de/eventeintrag
URL:https://mein-weiss.de/event/computerkurs-fuer-senioren-in-suerth-6/
LOCATION:Auferstehungskirche Sürth\, Auferstehungskirchweg 7\, Köln\, NRW\, 50999\, Deutschland
END:VEVENT
BEGIN:VEVENT
DTSTART;TZID=Europe/Berlin:20260224T110000
DTEND;TZID=Europe/Berlin:20260224T120000
DTSTAMP:20260422T122828
CREATED:20260119T230050Z
LAST-MODIFIED:20260120T000048Z
UID:6125-1771930800-1771934400@mein-weiss.de
SUMMARY:Sturzprophylaxe
DESCRIPTION:Lass uns gemeinsam verschiedene Übungen für Körperwahrnehmung und Gleichgewicht machen!\nAnette und Hannelore leiten einfache Übungen an\, die man ohne Stress machen kann\, dafür aber mit viel Freude.\nSpenden sind herzlich willkommen! \nFoto: AWO \n\nDieser Eintrag wird Ihnen zur Verfügung gestellt vom Kölner BilderBogen – eines der beliebtesten Stadtmagazine in Köln. Ihr Termin fehlt? Einfach kostenlos einreichen: www.bilderbogen.de/eventeintrag
URL:https://mein-weiss.de/event/sturzprophylaxe-5/
LOCATION:Villa AWO\, Walther-Rathenau-Str. 9\, Köln\, NRW\, 50996\, Deutschland
ATTACH;FMTTYPE=image/png:https://mein-weiss.de/wp-content/uploads/2026/01/Sturzprophylaxe-724x1024-1.png
END:VEVENT
BEGIN:VEVENT
DTSTART;TZID=Europe/Berlin:20260224T160000
DTEND;TZID=Europe/Berlin:20260224T170000
DTSTAMP:20260422T122828
CREATED:20260209T160121Z
LAST-MODIFIED:20260209T160121Z
UID:6344-1771948800-1771952400@mein-weiss.de
SUMMARY:Vorlesen mit dem Kamishibai-Erzähltheater für Kinder von 4 – 6 Jahren
DESCRIPTION:Die Teilnahme ist kostenlos. Anmeldung ist erforderlich vor Ort\, per E-Mail\, oder telefonisch unter 0221 / 221-92370. \nEin Holzrahmen mit zwei Flügeltüren\, die sich langsam öffnen. Auf der Bühne erscheint das erste Bild einer Geschichte. Die Erzählung beginnt …\nKamishibai ist ein Erzähltheater bei dem wir euch unterschiedliche Geschichten erzählen. Seid dabei wenn sich das nächste mal die Türen öffnen!\nIm Anschluss können alle noch Ausmalbilder ausmalen. \nBildquelle: Stadtbibliothek Köln  \n\nDieser Eintrag wird Ihnen zur Verfügung gestellt vom Kölner BilderBogen – eines der beliebtesten Stadtmagazine in Köln. Ihr Termin fehlt? Einfach kostenlos einreichen: www.bilderbogen.de/eventeintrag
URL:https://mein-weiss.de/event/vorlesen-mit-dem-kamishibai-erzaehltheater-fuer-kinder-von-4-6-jahren/
LOCATION:Stadtteil-Bibliothek Rodenkirchen\, Schillingsrotter Str. 38\, Köln\, NRW\, 50996\, Deutschland
ATTACH;FMTTYPE=image/jpeg:https://mein-weiss.de/wp-content/uploads/2026/02/B27-fuer-Bilderbogen-5-scaled-1-1024x661-1.jpg
END:VEVENT
BEGIN:VEVENT
DTSTART;TZID=Europe/Berlin:20260224T180000
DTEND;TZID=Europe/Berlin:20260224T190000
DTSTAMP:20260422T122828
CREATED:20260205T110104Z
LAST-MODIFIED:20260205T110104Z
UID:6332-1771956000-1771959600@mein-weiss.de
SUMMARY:Musikalische Lesung – Giacomo Casanova
DESCRIPTION:Casanova war einer der vielfältigsten Abenteurer\, der seit Jahrhunderten fasziniert. Der Kölner Gitarrist Burkhard Wolk vermittelt in seinem biografisch-musikalischen Vortrag einen unterhaltsamen und erhellenden Eindruck zu dieser schillernden Persönlichkeit. \n\nDieser Eintrag wird Ihnen zur Verfügung gestellt vom Kölner BilderBogen – eines der beliebtesten Stadtmagazine in Köln. Ihr Termin fehlt? Einfach kostenlos einreichen: www.bilderbogen.de/eventeintrag
URL:https://mein-weiss.de/event/musikalische-lesung-giacomo-casanova-2/
LOCATION:Cura SeniorenCentrum Köln Rodenkirchen\, Hauptstraße 128\, Köln\, NRW\, 50996\, Deutschland
END:VEVENT
END:VCALENDAR