BEGIN:VCALENDAR
VERSION:2.0
PRODID:-//Dorfgemeinschaft Weiss - ECPv6.15.20//NONSGML v1.0//EN
CALSCALE:GREGORIAN
METHOD:PUBLISH
X-ORIGINAL-URL:https://mein-weiss.de
X-WR-CALDESC:Veranstaltungen für Dorfgemeinschaft Weiss
REFRESH-INTERVAL;VALUE=DURATION:PT1H
X-Robots-Tag:noindex
X-PUBLISHED-TTL:PT1H
BEGIN:VTIMEZONE
TZID:Europe/Berlin
BEGIN:DAYLIGHT
TZOFFSETFROM:+0100
TZOFFSETTO:+0200
TZNAME:CEST
DTSTART:20250330T010000
END:DAYLIGHT
BEGIN:STANDARD
TZOFFSETFROM:+0200
TZOFFSETTO:+0100
TZNAME:CET
DTSTART:20251026T010000
END:STANDARD
BEGIN:DAYLIGHT
TZOFFSETFROM:+0100
TZOFFSETTO:+0200
TZNAME:CEST
DTSTART:20260329T010000
END:DAYLIGHT
BEGIN:STANDARD
TZOFFSETFROM:+0200
TZOFFSETTO:+0100
TZNAME:CET
DTSTART:20261025T010000
END:STANDARD
BEGIN:DAYLIGHT
TZOFFSETFROM:+0100
TZOFFSETTO:+0200
TZNAME:CEST
DTSTART:20270328T010000
END:DAYLIGHT
BEGIN:STANDARD
TZOFFSETFROM:+0200
TZOFFSETTO:+0100
TZNAME:CET
DTSTART:20271031T010000
END:STANDARD
END:VTIMEZONE
BEGIN:VEVENT
DTSTART;TZID=Europe/Berlin:20260218T103000
DTEND;TZID=Europe/Berlin:20260218T120000
DTSTAMP:20260420T231717
CREATED:20260119T220049Z
LAST-MODIFIED:20260119T230042Z
UID:6112-1771410600-1771416000@mein-weiss.de
SUMMARY:Eltern-Kind-Gruppe in der Villa AWO
DESCRIPTION:Kommen Sie vorbei und tauschen Sie sich in lockerer Atmosphäre mit anderen Eltern aus! Gemeinsam spielen\, lachen und neue Freundschaften knüpfen – für Eltern und Kinder! Die Eltern-Kind-Gruppe findet für Kinder ab ca. 6 Monaten einmal in der Woche mittwochs statt. \nFoto: AWO \n\nDieser Eintrag wird Ihnen zur Verfügung gestellt vom Kölner BilderBogen – eines der beliebtesten Stadtmagazine in Köln. Ihr Termin fehlt? Einfach kostenlos einreichen: www.bilderbogen.de/eventeintrag
URL:https://mein-weiss.de/event/eltern-kind-gruppe-in-der-villa-awo-8/
LOCATION:Villa AWO\, Walther-Rathenau-Str. 9\, Köln\, NRW\, 50996\, Deutschland
ATTACH;FMTTYPE=image/png:https://mein-weiss.de/wp-content/uploads/2026/01/Eltern-Kind-Gruppe-Villa-724x1024-1.png
END:VEVENT
BEGIN:VEVENT
DTSTART;TZID=Europe/Berlin:20260218T140000
DTEND;TZID=Europe/Berlin:20260218T153000
DTSTAMP:20260420T231717
CREATED:20260120T190057Z
LAST-MODIFIED:20260120T200050Z
UID:6224-1771423200-1771428600@mein-weiss.de
SUMMARY:Digital FIT – Kurs für Fortgeschrittene
DESCRIPTION:Wir unterstützen Sie beim Thema Digitales!\nEgal ob Handy\, Smartphone\, Tablet\, oder Notebook. Egal ob Android\, Apple oder Windows. Wir helfen! \nFoto: AWO \n\nDieser Eintrag wird Ihnen zur Verfügung gestellt vom Kölner BilderBogen – eines der beliebtesten Stadtmagazine in Köln. Ihr Termin fehlt? Einfach kostenlos einreichen: www.bilderbogen.de/eventeintrag
URL:https://mein-weiss.de/event/digital-fit-kurs-fuer-fortgeschrittene-5/
LOCATION:Villa AWO\, Walther-Rathenau-Str. 9\, Köln\, NRW\, 50996\, Deutschland
ATTACH;FMTTYPE=image/png:https://mein-weiss.de/wp-content/uploads/2026/01/Digital-FIT-2026-724x1024-1.png
END:VEVENT
BEGIN:VEVENT
DTSTART;TZID=Europe/Berlin:20260218T153000
DTEND;TZID=Europe/Berlin:20260218T160000
DTSTAMP:20260420T231717
CREATED:20260121T160059Z
LAST-MODIFIED:20260121T170053Z
UID:6258-1771428600-1771430400@mein-weiss.de
SUMMARY:Digital FIT – Digitale Sprechstunde ohne Anmeldung
DESCRIPTION:Wir unterstützen Sie beim Thema Digitales!\nEgal ob Handy\, Smartphone\, Tablet\, oder Notebook. Egal ob Android\, Apple oder Windows. Wir helfen! \nFoto: AWO \n\nDieser Eintrag wird Ihnen zur Verfügung gestellt vom Kölner BilderBogen – eines der beliebtesten Stadtmagazine in Köln. Ihr Termin fehlt? Einfach kostenlos einreichen: www.bilderbogen.de/eventeintrag
URL:https://mein-weiss.de/event/digital-fit-digitale-sprechstunde-ohne-anmeldung-14/
LOCATION:Villa AWO\, Walther-Rathenau-Str. 9\, Köln\, NRW\, 50996\, Deutschland
ATTACH;FMTTYPE=image/png:https://mein-weiss.de/wp-content/uploads/2026/01/Digital-FIT-2026-724x1024-1.png
END:VEVENT
BEGIN:VEVENT
DTSTART;TZID=Europe/Berlin:20260218T163000
DTEND;TZID=Europe/Berlin:20260218T180000
DTSTAMP:20260420T231717
CREATED:20260119T220051Z
LAST-MODIFIED:20260119T230044Z
UID:6113-1771432200-1771437600@mein-weiss.de
SUMMARY:Shared reading in der Villa AWO
DESCRIPTION:SHARED READING ist offen für alle Literaturbegeisterte\, ist immer kostenfrei und ermöglicht lebendige und warmherzige Begegnungen in Gemeinschaft. \nFoto: AWO \n\nDieser Eintrag wird Ihnen zur Verfügung gestellt vom Kölner BilderBogen – eines der beliebtesten Stadtmagazine in Köln. Ihr Termin fehlt? Einfach kostenlos einreichen: www.bilderbogen.de/eventeintrag
URL:https://mein-weiss.de/event/shared-reading-in-der-villa-awo-14/
LOCATION:Villa AWO\, Walther-Rathenau-Str. 9\, Köln\, NRW\, 50996\, Deutschland
ATTACH;FMTTYPE=image/png:https://mein-weiss.de/wp-content/uploads/2026/01/Shared-reading-20261-724x1024-1.png
END:VEVENT
END:VCALENDAR