BEGIN:VCALENDAR
VERSION:2.0
PRODID:-//Dorfgemeinschaft Weiss - ECPv6.15.20//NONSGML v1.0//EN
CALSCALE:GREGORIAN
METHOD:PUBLISH
X-ORIGINAL-URL:https://mein-weiss.de
X-WR-CALDESC:Veranstaltungen für Dorfgemeinschaft Weiss
REFRESH-INTERVAL;VALUE=DURATION:PT1H
X-Robots-Tag:noindex
X-PUBLISHED-TTL:PT1H
BEGIN:VTIMEZONE
TZID:Europe/Berlin
BEGIN:DAYLIGHT
TZOFFSETFROM:+0100
TZOFFSETTO:+0200
TZNAME:CEST
DTSTART:20250330T010000
END:DAYLIGHT
BEGIN:STANDARD
TZOFFSETFROM:+0200
TZOFFSETTO:+0100
TZNAME:CET
DTSTART:20251026T010000
END:STANDARD
BEGIN:DAYLIGHT
TZOFFSETFROM:+0100
TZOFFSETTO:+0200
TZNAME:CEST
DTSTART:20260329T010000
END:DAYLIGHT
BEGIN:STANDARD
TZOFFSETFROM:+0200
TZOFFSETTO:+0100
TZNAME:CET
DTSTART:20261025T010000
END:STANDARD
BEGIN:DAYLIGHT
TZOFFSETFROM:+0100
TZOFFSETTO:+0200
TZNAME:CEST
DTSTART:20270328T010000
END:DAYLIGHT
BEGIN:STANDARD
TZOFFSETFROM:+0200
TZOFFSETTO:+0100
TZNAME:CET
DTSTART:20271031T010000
END:STANDARD
END:VTIMEZONE
BEGIN:VEVENT
DTSTART;TZID=Europe/Berlin:20260211T103000
DTEND;TZID=Europe/Berlin:20260211T120000
DTSTAMP:20260421T145708
CREATED:20260119T210052Z
LAST-MODIFIED:20260119T220046Z
UID:6105-1770805800-1770811200@mein-weiss.de
SUMMARY:Eltern-Kind-Gruppe in der Villa AWO
DESCRIPTION:Kommen Sie vorbei und tauschen Sie sich in lockerer Atmosphäre mit anderen Eltern aus! Gemeinsam spielen\, lachen und neue Freundschaften knüpfen – für Eltern und Kinder! Die Eltern-Kind-Gruppe findet für Kinder ab ca. 6 Monaten einmal in der Woche mittwochs statt. \nFoto: AWO \n\nDieser Eintrag wird Ihnen zur Verfügung gestellt vom Kölner BilderBogen – eines der beliebtesten Stadtmagazine in Köln. Ihr Termin fehlt? Einfach kostenlos einreichen: www.bilderbogen.de/eventeintrag
URL:https://mein-weiss.de/event/eltern-kind-gruppe-in-der-villa-awo-7/
LOCATION:Villa AWO\, Walther-Rathenau-Str. 9\, Köln\, NRW\, 50996\, Deutschland
ATTACH;FMTTYPE=image/png:https://mein-weiss.de/wp-content/uploads/2026/01/Eltern-Kind-Gruppe-Villa-724x1024-1.png
END:VEVENT
BEGIN:VEVENT
DTSTART;TZID=Europe/Berlin:20260211T140000
DTEND;TZID=Europe/Berlin:20260211T153000
DTSTAMP:20260421T145708
CREATED:20260119T210054Z
LAST-MODIFIED:20260119T220048Z
UID:6106-1770818400-1770823800@mein-weiss.de
SUMMARY:Digital FIT – Anfängerkurs
DESCRIPTION:Wir unterstützen Sie beim Thema Digitales!\nEgal ob Handy\, Smartphone\, Tablet\, oder Notebook. Egal ob Android\, Apple oder Windows. Wir helfen! \nFoto: AWO \n\nDieser Eintrag wird Ihnen zur Verfügung gestellt vom Kölner BilderBogen – eines der beliebtesten Stadtmagazine in Köln. Ihr Termin fehlt? Einfach kostenlos einreichen: www.bilderbogen.de/eventeintrag
URL:https://mein-weiss.de/event/digital-fit-anfaengerkurs-5/
LOCATION:Villa AWO\, Walther-Rathenau-Str. 9\, Köln\, NRW\, 50996\, Deutschland
ATTACH;FMTTYPE=image/png:https://mein-weiss.de/wp-content/uploads/2026/01/Digital-FIT-2026-724x1024-1.png
END:VEVENT
BEGIN:VEVENT
DTSTART;TZID=Europe/Berlin:20260211T153000
DTEND;TZID=Europe/Berlin:20260211T160000
DTSTAMP:20260421T145708
CREATED:20260121T160056Z
LAST-MODIFIED:20260121T170051Z
UID:6257-1770823800-1770825600@mein-weiss.de
SUMMARY:Digital FIT – Digitale Sprechstunde ohne Anmeldung
DESCRIPTION:Wir unterstützen Sie beim Thema Digitales!\nEgal ob Handy\, Smartphone\, Tablet\, oder Notebook. Egal ob Android\, Apple oder Windows. Wir helfen! \nFoto: AWO \n\nDieser Eintrag wird Ihnen zur Verfügung gestellt vom Kölner BilderBogen – eines der beliebtesten Stadtmagazine in Köln. Ihr Termin fehlt? Einfach kostenlos einreichen: www.bilderbogen.de/eventeintrag
URL:https://mein-weiss.de/event/digital-fit-digitale-sprechstunde-ohne-anmeldung-13/
LOCATION:Villa AWO\, Walther-Rathenau-Str. 9\, Köln\, NRW\, 50996\, Deutschland
ATTACH;FMTTYPE=image/png:https://mein-weiss.de/wp-content/uploads/2026/01/Digital-FIT-2026-724x1024-1.png
END:VEVENT
BEGIN:VEVENT
DTSTART;TZID=Europe/Berlin:20260211T190000
DTEND;TZID=Europe/Berlin:20260211T193000
DTSTAMP:20260421T145708
CREATED:20260120T190055Z
LAST-MODIFIED:20260120T200048Z
UID:6223-1770836400-1770838200@mein-weiss.de
SUMMARY:Power Pilates
DESCRIPTION:Ein dynamisches Pilates-Workout\, das Kraft\, Stabilität und Beweglichkeit verbindet. \nKursdauer: 45 Minuten \nFoto: AWO \n\nDieser Eintrag wird Ihnen zur Verfügung gestellt vom Kölner BilderBogen – eines der beliebtesten Stadtmagazine in Köln. Ihr Termin fehlt? Einfach kostenlos einreichen: www.bilderbogen.de/eventeintrag
URL:https://mein-weiss.de/event/power-pilates-2/
LOCATION:Villa AWO\, Walther-Rathenau-Str. 9\, Köln\, NRW\, 50996\, Deutschland
ATTACH;FMTTYPE=image/png:https://mein-weiss.de/wp-content/uploads/2026/01/Power-Pilates1-724x1024-1.png
END:VEVENT
END:VCALENDAR