BEGIN:VCALENDAR
VERSION:2.0
PRODID:-//Dorfgemeinschaft Weiss - ECPv6.15.20//NONSGML v1.0//EN
CALSCALE:GREGORIAN
METHOD:PUBLISH
X-ORIGINAL-URL:https://mein-weiss.de
X-WR-CALDESC:Veranstaltungen für Dorfgemeinschaft Weiss
REFRESH-INTERVAL;VALUE=DURATION:PT1H
X-Robots-Tag:noindex
X-PUBLISHED-TTL:PT1H
BEGIN:VTIMEZONE
TZID:Europe/Berlin
BEGIN:DAYLIGHT
TZOFFSETFROM:+0100
TZOFFSETTO:+0200
TZNAME:CEST
DTSTART:20250330T010000
END:DAYLIGHT
BEGIN:STANDARD
TZOFFSETFROM:+0200
TZOFFSETTO:+0100
TZNAME:CET
DTSTART:20251026T010000
END:STANDARD
BEGIN:DAYLIGHT
TZOFFSETFROM:+0100
TZOFFSETTO:+0200
TZNAME:CEST
DTSTART:20260329T010000
END:DAYLIGHT
BEGIN:STANDARD
TZOFFSETFROM:+0200
TZOFFSETTO:+0100
TZNAME:CET
DTSTART:20261025T010000
END:STANDARD
BEGIN:DAYLIGHT
TZOFFSETFROM:+0100
TZOFFSETTO:+0200
TZNAME:CEST
DTSTART:20270328T010000
END:DAYLIGHT
BEGIN:STANDARD
TZOFFSETFROM:+0200
TZOFFSETTO:+0100
TZNAME:CET
DTSTART:20271031T010000
END:STANDARD
END:VTIMEZONE
BEGIN:VEVENT
DTSTART;TZID=Europe/Berlin:20260210T100000
DTEND;TZID=Europe/Berlin:20260210T113000
DTSTAMP:20260421T162129
CREATED:20251208T140057Z
LAST-MODIFIED:20251208T140057Z
UID:5890-1770717600-1770723000@mein-weiss.de
SUMMARY:Computerkurs für Senioren in Sürth
DESCRIPTION:Am 20.01.2026 um 10.00 Uhr beginnt wieder ein PC-Kurs in der Auferstehungskirche in Sürth. Es sind 6 Termine\, jeden Dienstag von 10.00 – 11.30 Uhr.\nDie Teilnahme ist kostenlos. Eine Anmeldung ist erforderlich. Bitte bringen Sie Ihr Laptop mit. \nDer Kurs findet in der Auferstehungskirche Sürth / Weiß\, Auferstehungskirchweg 7\, 50999 Köln Sürth statt. Anmeldung und weitere Informationen unter 0221 37 93 17 65 (Anrufbeantworter\, wir rufen zurück) \nVeranstalter sind die Seniorennetzwerke Sürth und Bayenthal. \n\nDieser Eintrag wird Ihnen zur Verfügung gestellt vom Kölner BilderBogen – eines der beliebtesten Stadtmagazine in Köln. Ihr Termin fehlt? Einfach kostenlos einreichen: www.bilderbogen.de/eventeintrag
URL:https://mein-weiss.de/event/computerkurs-fuer-senioren-in-suerth-4/
LOCATION:Auferstehungskirche Sürth\, Auferstehungskirchweg 7\, Köln\, NRW\, 50999\, Deutschland
END:VEVENT
BEGIN:VEVENT
DTSTART;TZID=Europe/Berlin:20260210T110000
DTEND;TZID=Europe/Berlin:20260210T120000
DTSTAMP:20260421T162129
CREATED:20260119T210050Z
LAST-MODIFIED:20260119T220045Z
UID:6104-1770721200-1770724800@mein-weiss.de
SUMMARY:Sturzprophylaxe
DESCRIPTION:Lass uns gemeinsam verschiedene Übungen für Körperwahrnehmung und Gleichgewicht machen!\nAnette und Hannelore leiten einfache Übungen an\, die man ohne Stress machen kann\, dafür aber mit viel Freude.\nSpenden sind herzlich willkommen! \nFoto: AWO \n\nDieser Eintrag wird Ihnen zur Verfügung gestellt vom Kölner BilderBogen – eines der beliebtesten Stadtmagazine in Köln. Ihr Termin fehlt? Einfach kostenlos einreichen: www.bilderbogen.de/eventeintrag
URL:https://mein-weiss.de/event/sturzprophylaxe-4/
LOCATION:Villa AWO\, Walther-Rathenau-Str. 9\, Köln\, NRW\, 50996\, Deutschland
ATTACH;FMTTYPE=image/png:https://mein-weiss.de/wp-content/uploads/2026/01/Sturzprophylaxe-724x1024-1.png
END:VEVENT
END:VCALENDAR