BEGIN:VCALENDAR
VERSION:2.0
PRODID:-//Dorfgemeinschaft Weiss - ECPv6.15.20//NONSGML v1.0//EN
CALSCALE:GREGORIAN
METHOD:PUBLISH
X-ORIGINAL-URL:https://mein-weiss.de
X-WR-CALDESC:Veranstaltungen für Dorfgemeinschaft Weiss
REFRESH-INTERVAL;VALUE=DURATION:PT1H
X-Robots-Tag:noindex
X-PUBLISHED-TTL:PT1H
BEGIN:VTIMEZONE
TZID:Europe/Berlin
BEGIN:DAYLIGHT
TZOFFSETFROM:+0100
TZOFFSETTO:+0200
TZNAME:CEST
DTSTART:20250330T010000
END:DAYLIGHT
BEGIN:STANDARD
TZOFFSETFROM:+0200
TZOFFSETTO:+0100
TZNAME:CET
DTSTART:20251026T010000
END:STANDARD
BEGIN:DAYLIGHT
TZOFFSETFROM:+0100
TZOFFSETTO:+0200
TZNAME:CEST
DTSTART:20260329T010000
END:DAYLIGHT
BEGIN:STANDARD
TZOFFSETFROM:+0200
TZOFFSETTO:+0100
TZNAME:CET
DTSTART:20261025T010000
END:STANDARD
BEGIN:DAYLIGHT
TZOFFSETFROM:+0100
TZOFFSETTO:+0200
TZNAME:CEST
DTSTART:20270328T010000
END:DAYLIGHT
BEGIN:STANDARD
TZOFFSETFROM:+0200
TZOFFSETTO:+0100
TZNAME:CET
DTSTART:20271031T010000
END:STANDARD
END:VTIMEZONE
BEGIN:VEVENT
DTSTART;TZID=Europe/Berlin:20260208T103000
DTEND;TZID=Europe/Berlin:20260208T133000
DTSTAMP:20260421T195208
CREATED:20260119T200103Z
LAST-MODIFIED:20260119T210045Z
UID:6094-1770546600-1770557400@mein-weiss.de
SUMMARY:Persischer Kochtreff
DESCRIPTION:Kommen Sie vorbei und genießen Sie einen gemütlichen Vormittag beim gemeinsamen Kochen! Iba zaubert mit Ihnen persische Köstlichkeiten.\nSpenden sind herzlich willkommen!\nAnmeldung erforderlich unter: gemeinsamsindwirstaerker@awo-koeln.de \nFoto: AWO \n\nDieser Eintrag wird Ihnen zur Verfügung gestellt vom Kölner BilderBogen – eines der beliebtesten Stadtmagazine in Köln. Ihr Termin fehlt? Einfach kostenlos einreichen: www.bilderbogen.de/eventeintrag
URL:https://mein-weiss.de/event/persischer-kochtreff-7/
LOCATION:Villa AWO\, Walther-Rathenau-Str. 9\, Köln\, NRW\, 50996\, Deutschland
ATTACH;FMTTYPE=image/png:https://mein-weiss.de/wp-content/uploads/2026/01/Kochtreff-IBA-1.-Quartal-2026-1-724x1024-1.png
END:VEVENT
BEGIN:VEVENT
DTSTART;TZID=Europe/Berlin:20260208T130000
DTEND;TZID=Europe/Berlin:20260208T180000
DTSTAMP:20260421T195208
CREATED:20250325T100040Z
LAST-MODIFIED:20260130T120046Z
UID:4101-1770555600-1770573600@mein-weiss.de
SUMMARY:PÄNZ & FAMILISCH FASTELOVEND – Karneval für Groß & Klein
DESCRIPTION:Veranstaltungen der KG Köln-Rodenkirchen von 2014 e. V. : \n\n29. August 2025\n\nKG Köln-Rodenkirchen von 2014 e.V.\nJECKE RIVIERA\nDas Sommerfest der KG Köln-Rodenkirchen\nRhein Roxy Schiff\nKarten ab Juni hier: www.kgkr.de\n\n\n17. Januar 2026\n\nKG Köln-Rodenkirchen von 2014 e.V.\nJECK IN HELLBLAU\nSinge\, Danze\, Höppe in der Hofburg\nDorint Hotel Heumarkt\nKarten ab September hier: www.kgkr.de\n\n\n31. Januar 2026\n\nKG Köln-Rodenkirchen von 2014 e.V.\nJECKEDANZ\nDie große karnevalistische Sause im Veedel\nFesthalle Reissdorf Brauerei\nKarten ab September hier: www.kgkr.de\n\n\n08. Februar 2026\n\nKG Köln-Rodenkirchen von 2014 e.V.\nPÄNZ & FAMILICH FASTELOVEND\nKarneval für Groß & Klein im Veedel\nOffene Schule Köln-Rodenkirchen\nKarten ab September hier: www.kgkr.de\n\n\n13. Februar 2026\n\nKG Köln-Rodenkirchen von 2014 e.V.\nJECKE BEATZ\nCoole Beatz meets Fastelovend\nNachtflug (Köln-Innenstadt)\nKarten ab September hier: www.kgkr.de\n\n\n\n\nDieser Eintrag wird Ihnen zur Verfügung gestellt vom Kölner BilderBogen – eines der beliebtesten Stadtmagazine in Köln. Ihr Termin fehlt? Einfach kostenlos einreichen: www.bilderbogen.de/eventeintrag
URL:https://mein-weiss.de/event/paenz-familisch-fastelovend-karneval-fuer-gross-klein/
LOCATION:Offene Schule Köln (OSK)\, Sürther Straße 199\, Köln\, NRW\, 50999\, Deutschland
ATTACH;FMTTYPE=image/png:https://mein-weiss.de/wp-content/uploads/2026/01/Bildschirmfoto-2026-01-30-um-12.11.08-675x1024-1.png
ORGANIZER;CN="KG K%C3%B6ln Rodenkirchen":MAILTO:info@kgkr.de
END:VEVENT
BEGIN:VEVENT
DTSTART;TZID=Europe/Berlin:20260208T143000
DTEND;TZID=Europe/Berlin:20260208T160000
DTSTAMP:20260421T195208
CREATED:20260119T200106Z
LAST-MODIFIED:20260119T210046Z
UID:6096-1770561000-1770566400@mein-weiss.de
SUMMARY:Café International
DESCRIPTION:Marion\, Tanja und Peter laden alle\, die Lust haben neue Menschen kennenzulernen und eine nette Zeit bei einer Tasse Kaffee miteinander zu verbringen\, herzlich in die Villa AWO ein.\nSpenden sind herzlich willkommen! \nFoto: AWO \n\nDieser Eintrag wird Ihnen zur Verfügung gestellt vom Kölner BilderBogen – eines der beliebtesten Stadtmagazine in Köln. Ihr Termin fehlt? Einfach kostenlos einreichen: www.bilderbogen.de/eventeintrag
URL:https://mein-weiss.de/event/cafe-international/
LOCATION:Villa AWO\, Walther-Rathenau-Str. 9\, Köln\, NRW\, 50996\, Deutschland
ATTACH;FMTTYPE=image/png:https://mein-weiss.de/wp-content/uploads/2026/01/Cafe-International-724x1024-1.png
END:VEVENT
BEGIN:VEVENT
DTSTART;TZID=Europe/Berlin:20260208T180000
DTEND;TZID=Europe/Berlin:20260208T200000
DTSTAMP:20260421T195208
CREATED:20260113T180040Z
LAST-MODIFIED:20260113T200034Z
UID:6036-1770573600-1770580800@mein-weiss.de
SUMMARY:Klavierabend
DESCRIPTION:Ein Klavierabend mit dem Komponisten Johannes Marks \nWas geht einem Komponisten durch den Kopf\, wenn er seine Musik erdenkt? Hat er ein Programm\, eine Botschaft? Wie kommt es eigentlich zu einem „Ohrwurm“? Solche und ähnliche Fragen sind schon manchem Musikfreund durch den Kopf gegangen. Am liebsten möchte man den Schöpfer der Klänge selbst fragen … und genau dazu gibt es die Gelegenheit\, wenn der Komponist Johannes Marks eigene Werke für Klavier spielt und dabei auf unterhaltsame Weise Einblicke in seine musikalische Werkstatt gewährt. Ganz unterschiedlich sind die Stücke\, die es an diesem Abend zu hören gibt: angenehm\, ja anschmiegsam im Klang die Szene für Klavier und die Fantasie\, unberechenbar und quirlig die Miniaturen\, aufregend-schroff die Sonaten … \nhttp://johannesmarkskomponist.de/ \n\nDieser Eintrag wird Ihnen zur Verfügung gestellt vom Kölner BilderBogen – eines der beliebtesten Stadtmagazine in Köln. Ihr Termin fehlt? Einfach kostenlos einreichen: www.bilderbogen.de/eventeintrag
URL:https://mein-weiss.de/event/klavierabend/
LOCATION:Theater509 Bürgerhaus Stollwerck\, Dreikönigenstraße 23\, Köln\, 50678
END:VEVENT
END:VCALENDAR