BEGIN:VCALENDAR
VERSION:2.0
PRODID:-//Dorfgemeinschaft Weiss - ECPv6.15.20//NONSGML v1.0//EN
CALSCALE:GREGORIAN
METHOD:PUBLISH
X-WR-CALNAME:Dorfgemeinschaft Weiss
X-ORIGINAL-URL:https://mein-weiss.de
X-WR-CALDESC:Veranstaltungen für Dorfgemeinschaft Weiss
REFRESH-INTERVAL;VALUE=DURATION:PT1H
X-Robots-Tag:noindex
X-PUBLISHED-TTL:PT1H
BEGIN:VTIMEZONE
TZID:Europe/Berlin
BEGIN:DAYLIGHT
TZOFFSETFROM:+0100
TZOFFSETTO:+0200
TZNAME:CEST
DTSTART:20250330T010000
END:DAYLIGHT
BEGIN:STANDARD
TZOFFSETFROM:+0200
TZOFFSETTO:+0100
TZNAME:CET
DTSTART:20251026T010000
END:STANDARD
BEGIN:DAYLIGHT
TZOFFSETFROM:+0100
TZOFFSETTO:+0200
TZNAME:CEST
DTSTART:20260329T010000
END:DAYLIGHT
BEGIN:STANDARD
TZOFFSETFROM:+0200
TZOFFSETTO:+0100
TZNAME:CET
DTSTART:20261025T010000
END:STANDARD
BEGIN:DAYLIGHT
TZOFFSETFROM:+0100
TZOFFSETTO:+0200
TZNAME:CEST
DTSTART:20270328T010000
END:DAYLIGHT
BEGIN:STANDARD
TZOFFSETFROM:+0200
TZOFFSETTO:+0100
TZNAME:CET
DTSTART:20271031T010000
END:STANDARD
END:VTIMEZONE
BEGIN:VEVENT
DTSTART;TZID=Europe/Berlin:20260201T100000
DTEND;TZID=Europe/Berlin:20260201T120000
DTSTAMP:20260422T153054
CREATED:20260130T110051Z
LAST-MODIFIED:20260130T110051Z
UID:6289-1769940000-1769947200@mein-weiss.de
SUMMARY:45. Mess op Kölsch in St. Georg
DESCRIPTION:Dieser Eintrag wird Ihnen zur Verfügung gestellt vom Kölner BilderBogen – eines der beliebtesten Stadtmagazine in Köln. Ihr Termin fehlt? Einfach kostenlos einreichen: www.bilderbogen.de/eventeintrag
URL:https://mein-weiss.de/event/45-mess-op-koelsch-in-st-georg/
LOCATION:Kirche St. Georg Weiß\, Kirchplatz\, Köln\, 50999\, Deutschland
ATTACH;FMTTYPE=image/jpeg:https://mein-weiss.de/wp-content/uploads/2026/01/img_1119-1024x724-1.jpg
END:VEVENT
BEGIN:VEVENT
DTSTART;TZID=Europe/Berlin:20260201T110000
DTEND;TZID=Europe/Berlin:20260201T123000
DTSTAMP:20260422T153054
CREATED:20251030T090049Z
LAST-MODIFIED:20251030T090049Z
UID:5642-1769943600-1769949000@mein-weiss.de
SUMMARY:13. Pfannekuchensitzung
DESCRIPTION:Sehr geehrte Damen und Herren\,\nwir freuen uns\, wenn Sie unsere Termine für die Pfannekuchensitzung 2026 veröffentlichen können.\n(Im Anhang Bildmaterial Graphik: Miriam Frank\, Foto: Verena Löwenhaupt)\nMit freundlichen Grüßen\nRita Zimmermann\n13. Pfannekuchensitzung\nKuddelmuddel Quatschsalat\nmit der Band RITA + der kleine SCHOSCH\nKuddelmuddel und seine Freunde Larifari\, Schmutziputzi und Halligalli stellen mit ihrer Phantasie alles auf den Kopf. In kürzester Zeit zaubern sie überall Superlaune herbei. Deshalb werden sie von den Kinderzimmerbewohnern sehnsüchtig erwartet. Die Spielfiguren hüpfen und tanzen über das Spielbrett. Aus dem Mülleimer springen upgecycelte Müllprinzessinnen und drehen ihre Pirouetten. Steinzeitmenschen entsteigen einer Zeitmaschine. Das verlangt nach einem Einsatz von Superfrau und Supermann. Monster werden lebendig und der Bobbycar verwandelt sich in ein schickes Polizeiauto. Nachher ist nichts mehr so wie es vorher war. Zum Schluss und vielleicht auch zuguterletzt heißt es dann doch wieder „Du musst\, du musst aufräumen!“ Die Band „RITA und der kleine SCHOSCH beglücken seit Jahren große und kleine Fans mit ihren Pfannekuchensitzung und ihrer groovigen Musik. Ein Garant für einen großen Familienspaß.\nDa tanzt sogar der Uropa!\nAb 4 Jahren\nTickets: https://www.qultor.de/veranstaltungen/13-pfannekuchensitzung#/tickets\nKosümierung erwünscht \nBildquelle:Graphik: Miriam Frank \n\nDieser Eintrag wird Ihnen zur Verfügung gestellt vom Kölner BilderBogen – eines der beliebtesten Stadtmagazine in Köln. Ihr Termin fehlt? Einfach kostenlos einreichen: www.bilderbogen.de/eventeintrag
URL:https://mein-weiss.de/event/13-pfannekuchensitzung-3/
LOCATION:Comedia Theater\, Vondelstr. 4-8\, Köln\, Bundesstaat wählen:\, 50677\, Deutschland
ATTACH;FMTTYPE=image/jpeg:https://mein-weiss.de/wp-content/uploads/2025/10/13.-Pfannekuchensitzung-1-2-1024x1024-1.jpg
END:VEVENT
BEGIN:VEVENT
DTSTART;TZID=Europe/Berlin:20260201T140000
DTEND;TZID=Europe/Berlin:20260201T153000
DTSTAMP:20260422T153054
CREATED:20251030T090050Z
LAST-MODIFIED:20251030T090050Z
UID:5643-1769954400-1769959800@mein-weiss.de
SUMMARY:13. Pfannekuchensitzung
DESCRIPTION:Sehr geehrte Damen und Herren\,\nwir freuen uns\, wenn Sie unsere Termine für die Pfannekuchensitzung 2026 veröffentlichen können.\n(Im Anhang Bildmaterial Graphik: Miriam Frank\, Foto: Verena Löwenhaupt)\nMit freundlichen Grüßen\nRita Zimmermann\n13. Pfannekuchensitzung\nKuddelmuddel Quatschsalat\nmit der Band RITA + der kleine SCHOSCH\nKuddelmuddel und seine Freunde Larifari\, Schmutziputzi und Halligalli stellen mit ihrer Phantasie alles auf den Kopf. In kürzester Zeit zaubern sie überall Superlaune herbei. Deshalb werden sie von den Kinderzimmerbewohnern sehnsüchtig erwartet. Die Spielfiguren hüpfen und tanzen über das Spielbrett. Aus dem Mülleimer springen upgecycelte Müllprinzessinnen und drehen ihre Pirouetten. Steinzeitmenschen entsteigen einer Zeitmaschine. Das verlangt nach einem Einsatz von Superfrau und Supermann. Monster werden lebendig und der Bobbycar verwandelt sich in ein schickes Polizeiauto. Nachher ist nichts mehr so wie es vorher war. Zum Schluss und vielleicht auch zuguterletzt heißt es dann doch wieder „Du musst\, du musst aufräumen!“ Die Band „RITA und der kleine SCHOSCH beglücken seit Jahren große und kleine Fans mit ihren Pfannekuchensitzung und ihrer groovigen Musik. Ein Garant für einen großen Familienspaß.\nDa tanzt sogar der Uropa!\nAb 4 Jahren\nTickets: https://www.qultor.de/veranstaltungen/13-pfannekuchensitzung#/tickets\nKosümierung erwünscht \nBildquelle:Graphik: Miriam Frank \n\nDieser Eintrag wird Ihnen zur Verfügung gestellt vom Kölner BilderBogen – eines der beliebtesten Stadtmagazine in Köln. Ihr Termin fehlt? Einfach kostenlos einreichen: www.bilderbogen.de/eventeintrag
URL:https://mein-weiss.de/event/13-pfannekuchensitzung-4/
LOCATION:Comedia Theater\, Vondelstr. 4-8\, Köln\, Bundesstaat wählen:\, 50677\, Deutschland
ATTACH;FMTTYPE=image/jpeg:https://mein-weiss.de/wp-content/uploads/2025/10/13.-Pfannekuchensitzung-1-2-1024x1024-1.jpg
END:VEVENT
END:VCALENDAR