BEGIN:VCALENDAR
VERSION:2.0
PRODID:-//Dorfgemeinschaft Weiss - ECPv6.15.20//NONSGML v1.0//EN
CALSCALE:GREGORIAN
METHOD:PUBLISH
X-ORIGINAL-URL:https://mein-weiss.de
X-WR-CALDESC:Veranstaltungen für Dorfgemeinschaft Weiss
REFRESH-INTERVAL;VALUE=DURATION:PT1H
X-Robots-Tag:noindex
X-PUBLISHED-TTL:PT1H
BEGIN:VTIMEZONE
TZID:Europe/Berlin
BEGIN:DAYLIGHT
TZOFFSETFROM:+0100
TZOFFSETTO:+0200
TZNAME:CEST
DTSTART:20250330T010000
END:DAYLIGHT
BEGIN:STANDARD
TZOFFSETFROM:+0200
TZOFFSETTO:+0100
TZNAME:CET
DTSTART:20251026T010000
END:STANDARD
BEGIN:DAYLIGHT
TZOFFSETFROM:+0100
TZOFFSETTO:+0200
TZNAME:CEST
DTSTART:20260329T010000
END:DAYLIGHT
BEGIN:STANDARD
TZOFFSETFROM:+0200
TZOFFSETTO:+0100
TZNAME:CET
DTSTART:20261025T010000
END:STANDARD
BEGIN:DAYLIGHT
TZOFFSETFROM:+0100
TZOFFSETTO:+0200
TZNAME:CEST
DTSTART:20270328T010000
END:DAYLIGHT
BEGIN:STANDARD
TZOFFSETFROM:+0200
TZOFFSETTO:+0100
TZNAME:CET
DTSTART:20271031T010000
END:STANDARD
END:VTIMEZONE
BEGIN:VEVENT
DTSTART;TZID=Europe/Berlin:20260130T200000
DTEND;TZID=Europe/Berlin:20260131T030000
DTSTAMP:20260422T153234
CREATED:20250202T180046Z
LAST-MODIFIED:20250202T180046Z
UID:3230-1769803200-1769828400@mein-weiss.de
SUMMARY:Perückenparty
DESCRIPTION:Wir feiern zum 11. Mal die Perückenparty der Jecken Stöpsel. Am letzten Freitag im Januar startet wie jedes Jahr dieses legendäre Format. Immer mit dabei ist DJ Franz Kabat. Wieder in der altbewährten Location dem Steeps Brauhaus. Karten ab September über 0172-8779664\, im Steeps an der Theke und natürlich bei allen jecken Stöpseln. \nFoto: Anke Schmidt-Sperling \n\nDieser Eintrag wird Ihnen zur Verfügung gestellt vom Kölner BilderBogen – eines der beliebtesten Stadtmagazine in Köln. Ihr Termin fehlt? Einfach kostenlos einreichen: www.bilderbogen.de/eventeintrag
URL:https://mein-weiss.de/event/perueckenparty/
LOCATION:Steep´s Brauhaus\, Hauptstraße 118\, Köln\, NRW\, 50996\, Deutschland
ATTACH;FMTTYPE=image/jpeg:https://mein-weiss.de/wp-content/uploads/2025/02/perueckenparty-768x1024-1.jpg
END:VEVENT
BEGIN:VEVENT
DTSTART;TZID=Europe/Berlin:20260131T140000
DTEND;TZID=Europe/Berlin:20260131T153000
DTSTAMP:20260422T153234
CREATED:20251030T090046Z
LAST-MODIFIED:20251030T090046Z
UID:5640-1769868000-1769873400@mein-weiss.de
SUMMARY:13. Pfannekuchensitzung
DESCRIPTION:Sehr geehrte Damen und Herren\,\nwir freuen uns\, wenn Sie unsere Termine für die Pfannekuchensitzung 2026 veröffentlichen können.\n(Im Anhang Bildmaterial Graphik: Miriam Frank\, Foto: Verena Löwenhaupt)\nMit freundlichen Grüßen\nRita Zimmermann\n13. Pfannekuchensitzung\nKuddelmuddel Quatschsalat\nmit der Band RITA + der kleine SCHOSCH\nKuddelmuddel und seine Freunde Larifari\, Schmutziputzi und Halligalli stellen mit ihrer Phantasie alles auf den Kopf. In kürzester Zeit zaubern sie überall Superlaune herbei. Deshalb werden sie von den Kinderzimmerbewohnern sehnsüchtig erwartet. Die Spielfiguren hüpfen und tanzen über das Spielbrett. Aus dem Mülleimer springen upgecycelte Müllprinzessinnen und drehen ihre Pirouetten. Steinzeitmenschen entsteigen einer Zeitmaschine. Das verlangt nach einem Einsatz von Superfrau und Supermann. Monster werden lebendig und der Bobbycar verwandelt sich in ein schickes Polizeiauto. Nachher ist nichts mehr so wie es vorher war. Zum Schluss und vielleicht auch zuguterletzt heißt es dann doch wieder „Du musst\, du musst aufräumen!“ Die Band „RITA und der kleine SCHOSCH beglücken seit Jahren große und kleine Fans mit ihren Pfannekuchensitzung und ihrer groovigen Musik. Ein Garant für einen großen Familienspaß.\nDa tanzt sogar der Uropa!\nAb 4 Jahren\nTickets: https://www.qultor.de/veranstaltungen/13-pfannekuchensitzung#/tickets\nKosümierung erwünscht \nBildquelle:Graphik: Miriam Frank \n\nDieser Eintrag wird Ihnen zur Verfügung gestellt vom Kölner BilderBogen – eines der beliebtesten Stadtmagazine in Köln. Ihr Termin fehlt? Einfach kostenlos einreichen: www.bilderbogen.de/eventeintrag
URL:https://mein-weiss.de/event/13-pfannekuchensitzung/
LOCATION:Comedia Theater\, Vondelstr. 4-8\, Köln\, Bundesstaat wählen:\, 50677\, Deutschland
ATTACH;FMTTYPE=image/jpeg:https://mein-weiss.de/wp-content/uploads/2025/10/13.-Pfannekuchensitzung-1-2-1024x1024-1.jpg
END:VEVENT
BEGIN:VEVENT
DTSTART;TZID=Europe/Berlin:20260131T160000
DTEND;TZID=Europe/Berlin:20260131T200000
DTSTAMP:20260422T153234
CREATED:20260130T110047Z
LAST-MODIFIED:20260130T120043Z
UID:6285-1769875200-1769889600@mein-weiss.de
SUMMARY:Kleider- und Kostümtausch
DESCRIPTION:Dieser Eintrag wird Ihnen zur Verfügung gestellt vom Kölner BilderBogen – eines der beliebtesten Stadtmagazine in Köln. Ihr Termin fehlt? Einfach kostenlos einreichen: www.bilderbogen.de/eventeintrag
URL:https://mein-weiss.de/event/kleider-und-kostuemtausch/
LOCATION:Lifetime House\, Rondorfer Hauptstr. 22\, Köln\, 50997
ATTACH;FMTTYPE=image/jpeg:https://mein-weiss.de/wp-content/uploads/2026/01/img_1729-749x1024-1.jpg
END:VEVENT
BEGIN:VEVENT
DTSTART;TZID=Europe/Berlin:20260131T170000
DTEND;TZID=Europe/Berlin:20260131T183000
DTSTAMP:20260422T153234
CREATED:20251030T090047Z
LAST-MODIFIED:20251030T090047Z
UID:5641-1769878800-1769884200@mein-weiss.de
SUMMARY:13. Pfannekuchensitzung
DESCRIPTION:Sehr geehrte Damen und Herren\,\nwir freuen uns\, wenn Sie unsere Termine für die Pfannekuchensitzung 2026 veröffentlichen können.\n(Im Anhang Bildmaterial Graphik: Miriam Frank\, Foto: Verena Löwenhaupt)\nMit freundlichen Grüßen\nRita Zimmermann\n13. Pfannekuchensitzung\nKuddelmuddel Quatschsalat\nmit der Band RITA + der kleine SCHOSCH\nKuddelmuddel und seine Freunde Larifari\, Schmutziputzi und Halligalli stellen mit ihrer Phantasie alles auf den Kopf. In kürzester Zeit zaubern sie überall Superlaune herbei. Deshalb werden sie von den Kinderzimmerbewohnern sehnsüchtig erwartet. Die Spielfiguren hüpfen und tanzen über das Spielbrett. Aus dem Mülleimer springen upgecycelte Müllprinzessinnen und drehen ihre Pirouetten. Steinzeitmenschen entsteigen einer Zeitmaschine. Das verlangt nach einem Einsatz von Superfrau und Supermann. Monster werden lebendig und der Bobbycar verwandelt sich in ein schickes Polizeiauto. Nachher ist nichts mehr so wie es vorher war. Zum Schluss und vielleicht auch zuguterletzt heißt es dann doch wieder „Du musst\, du musst aufräumen!“ Die Band „RITA und der kleine SCHOSCH beglücken seit Jahren große und kleine Fans mit ihren Pfannekuchensitzung und ihrer groovigen Musik. Ein Garant für einen großen Familienspaß.\nDa tanzt sogar der Uropa!\nAb 4 Jahren\nTickets: https://www.qultor.de/veranstaltungen/13-pfannekuchensitzung#/tickets\nKosümierung erwünscht \nBildquelle:Graphik: Miriam Frank \n\nDieser Eintrag wird Ihnen zur Verfügung gestellt vom Kölner BilderBogen – eines der beliebtesten Stadtmagazine in Köln. Ihr Termin fehlt? Einfach kostenlos einreichen: www.bilderbogen.de/eventeintrag
URL:https://mein-weiss.de/event/13-pfannekuchensitzung-2/
LOCATION:Comedia Theater\, Vondelstr. 4-8\, Köln\, Bundesstaat wählen:\, 50677\, Deutschland
ATTACH;FMTTYPE=image/jpeg:https://mein-weiss.de/wp-content/uploads/2025/10/13.-Pfannekuchensitzung-1-2-1024x1024-1.jpg
END:VEVENT
BEGIN:VEVENT
DTSTART;TZID=Europe/Berlin:20260131T190000
DTEND;TZID=Europe/Berlin:20260131T233000
DTSTAMP:20260422T153234
CREATED:20260130T110049Z
LAST-MODIFIED:20260130T110049Z
UID:6287-1769886000-1769902200@mein-weiss.de
SUMMARY:Jeck em Veedel
DESCRIPTION:Dieser Eintrag wird Ihnen zur Verfügung gestellt vom Kölner BilderBogen – eines der beliebtesten Stadtmagazine in Köln. Ihr Termin fehlt? Einfach kostenlos einreichen: www.bilderbogen.de/eventeintrag
URL:https://mein-weiss.de/event/jeck-em-veedel/
LOCATION:bistro verde\, Maternusstraße 6\, Köln\, NRW\, 50996\, Deutschland
ATTACH;FMTTYPE=image/jpeg:https://mein-weiss.de/wp-content/uploads/2026/01/img_8554-1-729x1024-1.jpg
END:VEVENT
BEGIN:VEVENT
DTSTART;TZID=Europe/Berlin:20260131T200000
DTEND;TZID=Europe/Berlin:20260131T223000
DTSTAMP:20260422T153234
CREATED:20260109T180032Z
LAST-MODIFIED:20260109T180032Z
UID:6024-1769889600-1769898600@mein-weiss.de
SUMMARY:„Shalalaaf“ – Sing & Strum auf dem Böötchen
DESCRIPTION:Liebe Sängerinnen und Sänger\, Ukulelistas\, Gitarreros\, Bassisten\, Quetschisten und alle anderen\, die nach Akkorden spielen können!\nBei der nächsten „Sing & Strum“-Veranstaltung wird auf dem Böötchen unter dem Motto „Shalalaaf“ wieder gesungen und geschrammelt\, bis die Planken wanken! Wenn ihr Lust op kölsche Tön\, Verzällcher\, Rakete und eine Colonaise habt\, dann seid ihr am 31.01. auf der MS Rodenkirchen genau richtig.\nDie Songs werden per Beamer auf eine Leinwand projiziert\, sodass alle problemlos mitsingen und -spielen können. Für die Ukulelistas gibt es obendrein sogar noch die Griffbilder dazu.\nSchreibt bei Interesse gerne an „schrammelschorsch@online.de„\, dann erhaltet ihr nähere Infos. \n  \n\nDieser Eintrag wird Ihnen zur Verfügung gestellt vom Kölner BilderBogen – eines der beliebtesten Stadtmagazine in Köln. Ihr Termin fehlt? Einfach kostenlos einreichen: www.bilderbogen.de/eventeintrag
URL:https://mein-weiss.de/event/shalalaaf-sing-strum-auf-dem-boeoetchen-2/
LOCATION:MS Bootshaus Rodenkirchen\, Rodenkirchener Leinpfad\, Köln\, NRW\, 50996\, Deutschland
END:VEVENT
END:VCALENDAR