BEGIN:VCALENDAR
VERSION:2.0
PRODID:-//Dorfgemeinschaft Weiss - ECPv6.15.20//NONSGML v1.0//EN
CALSCALE:GREGORIAN
METHOD:PUBLISH
X-ORIGINAL-URL:https://mein-weiss.de
X-WR-CALDESC:Veranstaltungen für Dorfgemeinschaft Weiss
REFRESH-INTERVAL;VALUE=DURATION:PT1H
X-Robots-Tag:noindex
X-PUBLISHED-TTL:PT1H
BEGIN:VTIMEZONE
TZID:Europe/Berlin
BEGIN:DAYLIGHT
TZOFFSETFROM:+0100
TZOFFSETTO:+0200
TZNAME:CEST
DTSTART:20250330T010000
END:DAYLIGHT
BEGIN:STANDARD
TZOFFSETFROM:+0200
TZOFFSETTO:+0100
TZNAME:CET
DTSTART:20251026T010000
END:STANDARD
BEGIN:DAYLIGHT
TZOFFSETFROM:+0100
TZOFFSETTO:+0200
TZNAME:CEST
DTSTART:20260329T010000
END:DAYLIGHT
BEGIN:STANDARD
TZOFFSETFROM:+0200
TZOFFSETTO:+0100
TZNAME:CET
DTSTART:20261025T010000
END:STANDARD
BEGIN:DAYLIGHT
TZOFFSETFROM:+0100
TZOFFSETTO:+0200
TZNAME:CEST
DTSTART:20270328T010000
END:DAYLIGHT
BEGIN:STANDARD
TZOFFSETFROM:+0200
TZOFFSETTO:+0100
TZNAME:CET
DTSTART:20271031T010000
END:STANDARD
END:VTIMEZONE
BEGIN:VEVENT
DTSTART;TZID=Europe/Berlin:20260129T170000
DTEND;TZID=Europe/Berlin:20260129T190000
DTSTAMP:20260422T153243
CREATED:20251216T100050Z
LAST-MODIFIED:20251216T100050Z
UID:5928-1769706000-1769713200@mein-weiss.de
SUMMARY:Sprechen & Zuhören – Offen reden. Echt zuhören. Einander verstehen.
DESCRIPTION:Offen reden. Echt zuhören. Einander verstehen.\nEin moderiertes Gesprächsangebot für Jugendliche ab 16 Jahren und Erwachsene.\nIn dieser Veranstaltung kannst Du in kleinen Gruppen von 3 oder 4 Personen über das Thema Digitalisierung und Social Media sprechen.\nEs wird zwei Runden geben\, in denen Du jeweils 4 Minuten Zeit zum Reden hast. Die anderen in der Gruppe hören Dir zu\, ohne zu unterbrechen. \nDie Regeln werden zu Beginn der Veranstaltung erklärt und dann kann das Sprechen und Zuhören anfangen. \nDas Dialogformat „Sprechen und Zuhören“ ist ein Format des Vereins „Mehr Demokratie“ zur Förderung einer offenen Gesprächs- und Diskussionskultur\, moderiert von Studierenden der Technischen Hochschule Köln. \nTeilnahme frei. Anmeldung erwünscht unter www.stbib-koeln.de/buchung \nBildquelle: Stadtbibliothek Köln \n\nDieser Eintrag wird Ihnen zur Verfügung gestellt vom Kölner BilderBogen – eines der beliebtesten Stadtmagazine in Köln. Ihr Termin fehlt? Einfach kostenlos einreichen: www.bilderbogen.de/eventeintrag
URL:https://mein-weiss.de/event/sprechen-zuhoeren-offen-reden-echt-zuhoeren-einander-verstehen/
LOCATION:Stadtteil-Bibliothek Rodenkirchen\, Schillingsrotter Str. 38\, Köln\, NRW\, 50996\, Deutschland
ATTACH;FMTTYPE=image/jpeg:https://mein-weiss.de/wp-content/uploads/2025/12/SprechenZuhoeren-Roki-724x1024-1.jpg
END:VEVENT
BEGIN:VEVENT
DTSTART;TZID=Europe/Berlin:20260129T180000
DTEND;TZID=Europe/Berlin:20260129T200000
DTSTAMP:20260422T153243
CREATED:20251208T110059Z
LAST-MODIFIED:20251208T110059Z
UID:5886-1769709600-1769716800@mein-weiss.de
SUMMARY:MOVING SOUNDS mit Markus Stockhausen und Tara Bouman
DESCRIPTION:Die Musiker verweben intuitive Musik mit eigenen Kompositionen – und gestalten dies spontan entsprechend der Schwingung des Raumes und seiner Akustik. Dabei nehmen sie ihr Publikum mit auf ihre musikalische Entdeckungsreise. \nDas breite Spektrum von MOVING SOUNDS in der Klanggestaltung\, die von tiefgründigen Linien über heiteres Schwirren bis zu hervorbrechender Exaltiertheit reicht\, wird sowohl von der Fachwelt als auch von der Hörerschaft geschätzt. Musikliebhaber verschiedenster Stilrichtungen genießen die Auftritte und lassen sich mitnehmen in neue Klangwelten. \nMOVING SOUNDS spielte zahlreiche Konzerte in Italien\, Schweiz\, England\, Norwegen\, Holland\, Frankreich\, Spanien\, Rumänien\, Bulgarien\, Ungarn\, Israel\, Russland\, USA\, Chile und vor allem in Deutschland. \nGenießen für den guten Zweck! Unsere Projekte leben von Ihrer Hilfe. Schauen Sie vorbei und unterstützen Sie uns mit Ihrer Spende. \nBildquelle: Diakonie Michaelshoven \n\nDieser Eintrag wird Ihnen zur Verfügung gestellt vom Kölner BilderBogen – eines der beliebtesten Stadtmagazine in Köln. Ihr Termin fehlt? Einfach kostenlos einreichen: www.bilderbogen.de/eventeintrag
URL:https://mein-weiss.de/event/moving-sounds-mit-markus-stockhausen-und-tara-bouman/
LOCATION:Erzengel-Michael-Kirche – Michaelshoven\, Pfarrer-Te-Reh-Straße 7\, Köln\, NRW\, 50999\, Deutschland
ATTACH;FMTTYPE=image/jpeg:https://mein-weiss.de/wp-content/uploads/2025/12/A1_Poster_MOVINGSOUNDS_2026-723x1024-1.jpg
END:VEVENT
BEGIN:VEVENT
DTSTART;TZID=Europe/Berlin:20260129T180000
DTEND;TZID=Europe/Berlin:20260129T200000
DTSTAMP:20260422T153243
CREATED:20260109T110030Z
LAST-MODIFIED:20260109T110030Z
UID:6007-1769709600-1769716800@mein-weiss.de
SUMMARY:MOVING SOUND mit Markus Stockhausen und Tara Bouman
DESCRIPTION:Die Musiker verweben intuitive Musik mit eigenen Kompositionen – und gestalten dies spontan entsprechend der Schwingung des Raumes und seiner Akustik. Dabei nehmen sie ihr Publikum mit auf ihre musikalische Entdeckungsreise. \nDas breite Spektrum von MOVING SOUNDS in der Klanggestaltung\, die von tiefgründigen Linien über heiteres Schwirren bis zu hervorbrechender Exaltiertheit reicht\, wird sowohl von der Fachwelt als auch von der Hörerschaft geschätzt. Musikliebhaber verschiedenster Stilrichtungen genießen die Auftritte und lassen sich mitnehmen in neue Klangwelten. \nMOVING SOUNDS spielte zahlreiche Konzerte in Italien\, Schweiz\, England\, Norwegen\, Holland\, Frankreich\, Spanien\, Rumänien\, Bulgarien\, Ungarn\, Israel\, Russland\, USA\, Chile und vor allem in Deutschland. \nEintritt frei\, Anmeldung hier. \nEinlass ab 17 Uhr\, Beginn 18 Uhr \nErzengel-Michael-Kirche\, Pfarrer-te-Reh Str. 5\, 50999 Köln \nHinweis zur Anfahrt:\nBitte nutzen Sie die Mitarbeiterparkplätze zu Beginn der Pfarrer-te-Reh Straße. Vor der Kirche stehen keine Parkplätze zur Verfügung. \n\nDieser Eintrag wird Ihnen zur Verfügung gestellt vom Kölner BilderBogen – eines der beliebtesten Stadtmagazine in Köln. Ihr Termin fehlt? Einfach kostenlos einreichen: www.bilderbogen.de/eventeintrag
URL:https://mein-weiss.de/event/moving-sound-mit-markus-stockhausen-und-tara-bouman/
LOCATION:Erzengel-Michael-Kirche – Michaelshoven\, Pfarrer-Te-Reh-Straße 7\, Köln\, NRW\, 50999\, Deutschland
ATTACH;FMTTYPE=image/jpeg:https://mein-weiss.de/wp-content/uploads/2026/01/csm_moving-sound_dd62d8c096.jpg
END:VEVENT
END:VCALENDAR