BEGIN:VCALENDAR
VERSION:2.0
PRODID:-//Dorfgemeinschaft Weiss - ECPv6.15.20//NONSGML v1.0//EN
CALSCALE:GREGORIAN
METHOD:PUBLISH
X-ORIGINAL-URL:https://mein-weiss.de
X-WR-CALDESC:Veranstaltungen für Dorfgemeinschaft Weiss
REFRESH-INTERVAL;VALUE=DURATION:PT1H
X-Robots-Tag:noindex
X-PUBLISHED-TTL:PT1H
BEGIN:VTIMEZONE
TZID:Europe/Berlin
BEGIN:DAYLIGHT
TZOFFSETFROM:+0100
TZOFFSETTO:+0200
TZNAME:CEST
DTSTART:20240331T010000
END:DAYLIGHT
BEGIN:STANDARD
TZOFFSETFROM:+0200
TZOFFSETTO:+0100
TZNAME:CET
DTSTART:20241027T010000
END:STANDARD
BEGIN:DAYLIGHT
TZOFFSETFROM:+0100
TZOFFSETTO:+0200
TZNAME:CEST
DTSTART:20250330T010000
END:DAYLIGHT
BEGIN:STANDARD
TZOFFSETFROM:+0200
TZOFFSETTO:+0100
TZNAME:CET
DTSTART:20251026T010000
END:STANDARD
BEGIN:DAYLIGHT
TZOFFSETFROM:+0100
TZOFFSETTO:+0200
TZNAME:CEST
DTSTART:20260329T010000
END:DAYLIGHT
BEGIN:STANDARD
TZOFFSETFROM:+0200
TZOFFSETTO:+0100
TZNAME:CET
DTSTART:20261025T010000
END:STANDARD
BEGIN:DAYLIGHT
TZOFFSETFROM:+0100
TZOFFSETTO:+0200
TZNAME:CEST
DTSTART:20270328T010000
END:DAYLIGHT
BEGIN:STANDARD
TZOFFSETFROM:+0200
TZOFFSETTO:+0100
TZNAME:CET
DTSTART:20271031T010000
END:STANDARD
END:VTIMEZONE
BEGIN:VEVENT
DTSTART;TZID=Europe/Berlin:20251024T160000
DTEND;TZID=Europe/Berlin:20251024T173000
DTSTAMP:20260422T183122
CREATED:20250910T080107Z
LAST-MODIFIED:20251010T110053Z
UID:5190-1761321600-1761327000@mein-weiss.de
SUMMARY:Wärmepumpen-Der Weg zu nachhaltiger Wärme
DESCRIPTION:Wer wissen möchte\, wie die Wärmepumpe auch in Bestandsgebäuden funktioniert\, ist hier genau richtig. Es werden Anwenderkenntnisse geteilt und Fragen auf Augenhöhe und ohne Verkaufsabsichten beantwortet. Überzeugte und sehr gut informierte Ehrenamtler:innen informieren über die Wärmepumpe. In Köln haben sich Ehrenamtler:innen der SFV-Infostelle “Solaroffensive” Köln unter dem Dach der heuteStadtmorgen Klimaenossenschaft Köln e.G. auf den Weg gemacht und bieten Infoveranstaltungen rund um die Wärmepumpe an. **** „Wärmepumpen sind nichts als geile Physik!“ (Zitat: Prof. Dr. Stefan Rahmstorf vom Potsdam-Institut für Klimafolgenforschung) \nAnmeldung ab 15. September \nBildquelle: Stadtteilbibliothek Rodenkirchen \n\nDieser Eintrag wird Ihnen zur Verfügung gestellt vom Kölner BilderBogen – eines der beliebtesten Stadtmagazine in Köln. Ihr Termin fehlt? Einfach kostenlos einreichen: www.bilderbogen.de/eventeintrag
URL:https://mein-weiss.de/event/waermepumpen-der-weg-zu-nachhaltiger-waerme/
LOCATION:Stadtteil-Bibliothek Rodenkirchen\, Schillingsrotter Str. 38\, Köln\, NRW\, 50996\, Deutschland
ATTACH;FMTTYPE=image/png:https://mein-weiss.de/wp-content/uploads/2025/09/Bildschirmfoto-2025-09-10-um-09.10.39.png
END:VEVENT
BEGIN:VEVENT
DTSTART;TZID=Europe/Berlin:20251025T110000
DTEND;TZID=Europe/Berlin:20251025T130000
DTSTAMP:20260422T183122
CREATED:20250910T080110Z
LAST-MODIFIED:20251010T110054Z
UID:5192-1761390000-1761397200@mein-weiss.de
SUMMARY:Grundlagen der Computerreparatur
DESCRIPTION:Defekte Festplatte\, kaputter Arbeitsspeicher\, fehlerhaftes Betriebssystem: Lernt\, wie ihr Daten retten und möglichst günstig und schnell drei der häufigsten Probleme bei defekten Computern und Laptops selbst beheben könnt. Bitte keine privaten Geräte mitbringen.\nWorkshop für alle von 15 bis 99 Jahren\nAnmeldestart ist der 15.September 2025. Die Plätze sind heiß begehrt ! \nBildquelle: Stadtteilbibliothek Rodenkirchen \n  \n\nDieser Eintrag wird Ihnen zur Verfügung gestellt vom Kölner BilderBogen – eines der beliebtesten Stadtmagazine in Köln. Ihr Termin fehlt? Einfach kostenlos einreichen: www.bilderbogen.de/eventeintrag
URL:https://mein-weiss.de/event/grundlagen-der-computerreparatur-2/
LOCATION:Stadtteil-Bibliothek Rodenkirchen\, Schillingsrotter Str. 38\, Köln\, NRW\, 50996\, Deutschland
ATTACH;FMTTYPE=image/png:https://mein-weiss.de/wp-content/uploads/2025/09/Bildschirmfoto-2025-09-10-um-09.06.28.png
END:VEVENT
BEGIN:VEVENT
DTSTART;TZID=Europe/Berlin:20251125T170000
DTEND;TZID=Europe/Berlin:20251230T200000
DTSTAMP:20260422T183122
CREATED:20251021T100119Z
LAST-MODIFIED:20251021T100119Z
UID:5574-1764090000-1767124800@mein-weiss.de
SUMMARY:Welcome Day Herbst 2025
DESCRIPTION:Wichtige Schritte sind gemacht: Sie sind Ihre eigene Chefin / Ihr eigener Chef und Sie haben vielleicht bereits Ihre ersten Aufträge erfolgreich abgeschlossen. Und jetzt? Wie können Sie Ihre Firma erfolgreich weiterentwickeln und etablieren? Handwerkliches Können ist zwar die beste Voraussetzung\, doch zum Erfolg gehört noch eine Menge mehr. Handwerksbetriebe\, die sich dauerhaft behaupten\, denken und handeln bewusst kunden- und mitarbeiterorientiert. Am Welcome Day Herbst 2025 haben Sie die Möglichkeit die kostenfreien Beratungsangebote der Handwerkskammer zu Köln kennenzulernen und erste konkrete Fragen von unseren Profis der kaufmännischen und technischen Unternehmensberatung sowie der Rechtsberatung beantworten zu lassen. \nVeranstalter: Handwerkskammer zu Köln \nDatum / Uhrzeit: 25. November 2025\, 17:00 Uhr \nVeranstaltungsort: Handwerkskammer zu Köln (Karrierewerkstatt) \nStraße: Heumarkt 12 \nPostleitzahl / Ort: 50667 Köln \nMehr Infos unter: https://www.hwk-koeln.de \n\nDieser Eintrag wird Ihnen zur Verfügung gestellt vom Kölner BilderBogen – eines der beliebtesten Stadtmagazine in Köln. Ihr Termin fehlt? Einfach kostenlos einreichen: www.bilderbogen.de/eventeintrag
URL:https://mein-weiss.de/event/welcome-day-herbst-2025/
LOCATION:Handwerkskammer zu Köln\, Heumarkt 12\, Köln\, Bundesstaat wählen:\, 50667\, Deutschland
END:VEVENT
BEGIN:VEVENT
DTSTART;VALUE=DATE:20251130
DTEND;VALUE=DATE:20260119
DTSTAMP:20260422T183122
CREATED:20251029T130054Z
LAST-MODIFIED:20251029T130054Z
UID:5632-1764460800-1768780799@mein-weiss.de
SUMMARY:Finding Margarita Neiteler. Die fotografierende Nonne
DESCRIPTION:Bilder von Zerstörung und Wiederaufbau des Kölner Doms\, 1945-1949 \n30. November 2025 bis 18. Januar 2026 \nMit Bildern von Schwester Margarita Neiteler\,\nkuratiert von Manfred Linke\, Fotograf und verwandt mit Sr. Margarita Neiteler \nMaria Margarita Neiteler\, eine weitgehend unbekannte Ordensschwester und „Dom-Fotografin“\, wurde am 14.02.1913 in Greven geboren. Von 1938 bis in die 1960er-Jahre hat sie als Röntgenschwester im Kölner Krankenhaus Hohenlind gearbeitet. Ende des 2. Weltkriegs dokumentierte sie die Schäden und den Wiederaufbau des Doms auf hohem fotografischem Niveau. Ihre einzigartigen Aufnahmen\, heute zum Teil im Bestand des Historischen Archivs mit Rheinischem Bildarchiv und anderen Kölner historischen Archiven\, zeugen von ihrem Talent und ihrem Blick für historische Momente. Trotz ihrer künstlerischen Bedeutung blieb ihr Lebenswerk lange Zeit unentdeckt und weitgehend unerforscht. Genaue biografische Daten waren bisher unbekannt. \nIm Jahr 1999 traf der Kölner Fotograf und Kurator Manfred Linke Schwester Margarita Neiteler\, seine angeheiratete Schwiegertante\, in der gemeinsamen Heimatstadt Greven. Sie diskutierten über die Möglichkeit\, ihr Werk aufzufinden und aufzuarbeiten sowie über eine gemeinsame Ausstellung. Einige Zeit vor ihrem Tod am 29.09.2002 erhielt er von ihr noch einen Brief und einige ihrer Bilder. Ausgelöst durch eine Veröffentlichung im Kölner Stadt-Anzeiger hat Manfred Linke 24 Jahre später die Spur wieder aufgegriffen und die bis dahin fehlenden biografischen und fotografischen Informationen recherchiert und zusammengetragen. \nNun präsentiert Linke ihr umfangreiches Werk erstmals in einer Ausstellung. Zu sehen sind 34 teils großformatige Fotos\, ergänzt durch einige persönliche Briefe an die Familie aus eben dieser Zeit sowie Bücher. Ihre fotografische Arbeit ist nicht nur unter kunsthistorischen Aspekten von hoher Qualität und Bedeutung: „Sie war wahrscheinlich die einzige Kölner Fotografin\, die rund um das Kriegsende am und im Dom fotografierte“\, so Manfred Linke.\nJohanna Gummlich\, Archivarin & Bibliothekarin\, Kantonale Denkmalpflege Basel-Stadt: „Ihre Fotografien belegen\, dass sie […] ebenso Porträt-\, Reproduktions- und vor allem auch die Architekturfotografie betrieb und beherrschte. Neiteler hielt in ihren Aufnahmen sorgfältig die Schäden am Bauwerk fest und betonte zugleich sehr gekonnt die Majestät des Erhaltenen in seiner Raum- und Lichtwirkung […].“ \n„Es half alles nichts\, um einige anständige Aufnahmen zu machen gebrauchte ich ein mehrere Meter hohes Gerüst. In einer Stunde war es fertig und ich kletterte tapfer mit meinem 13kg an Apparat und flatternden schwarzen „Photographen – Tuch“ und flatterndem Schleier hinauf.“\nDomfest 1948\, Maria Margarita Neiteler \nhttps://manfred-linke.com/portfolio/finding-margarita-neiteler/ \nÖffnungszeiten:\nSonntag 30.11.2025 von 13:00-17:00 Uhr\nMittwochs und freitags von 15:30-18:30 Uhr\nSonntags von 11:00-14:00 Uhr\nHeiligabend und Silvester geschlossen \nMit Unterstützung und Förderung des Historischen Archivs mit Rheinischem Bildarchiv sowie dem Kölner Kulturamt\, der Bezirksvertretung Köln Innenstadt und der VG BildKunst/Stiftung Kulturwerk. \nBildquelle: Pressefoto Ausstellung_ Finding Margarita Neiteler (c) Margarita Neiteler\, Blick aus dem Kölner Dom nach Nordwesten auf die zerstörte Stadt\, HAStK-RBA\, rba_064572 \n\nDieser Eintrag wird Ihnen zur Verfügung gestellt vom Kölner BilderBogen – eines der beliebtesten Stadtmagazine in Köln. Ihr Termin fehlt? Einfach kostenlos einreichen: www.bilderbogen.de/eventeintrag
URL:https://mein-weiss.de/event/finding-margarita-neiteler-die-fotografierende-nonne/
LOCATION:Räume der Michael Horbach Stiftung\, Wormser Str. 28\, Köln\, 50677
ATTACH;FMTTYPE=image/jpeg:https://mein-weiss.de/wp-content/uploads/2025/10/Pressefoto-Ausstellung_-Finding-Margarita-Neiteler-c-Margarita-Neiteler-Blick-aus-dem-Koelner-Do-1-731x1024-1.jpg
END:VEVENT
BEGIN:VEVENT
DTSTART;VALUE=DATE:20251205
DTEND;VALUE=DATE:20251208
DTSTAMP:20260422T183122
CREATED:20250114T130054Z
LAST-MODIFIED:20250114T130054Z
UID:2927-1764892800-1765151999@mein-weiss.de
SUMMARY:Winterzauber
DESCRIPTION:Dieser Eintrag wird Ihnen zur Verfügung gestellt vom Kölner BilderBogen – eines der beliebtesten Stadtmagazine in Köln. Ihr Termin fehlt? Einfach kostenlos einreichen: www.bilderbogen.de/eventeintrag
URL:https://mein-weiss.de/event/winterzauber/
LOCATION:Matenusplatz Rodenkirchen
ATTACH;FMTTYPE=image/png:https://mein-weiss.de/wp-content/uploads/2025/01/Bildschirmfoto-2025-01-14-um-12.04.00-736x1024-7.png
ORGANIZER;CN="Treffpunkt Rodenkirchen":MAILTO:info@treffpunkt-rodenkirchen.de
END:VEVENT
BEGIN:VEVENT
DTSTART;TZID=Europe/Berlin:20251205T000000
DTEND;TZID=Europe/Berlin:20251207T235959
DTSTAMP:20260422T183122
CREATED:20250918T100104Z
LAST-MODIFIED:20251204T100045Z
UID:5297-1764892800-1765151999@mein-weiss.de
SUMMARY:Weihnachtsmarkt Köln-Sürth
DESCRIPTION:Dieser Eintrag wird Ihnen zur Verfügung gestellt vom Kölner BilderBogen – eines der beliebtesten Stadtmagazine in Köln. Ihr Termin fehlt? Einfach kostenlos einreichen: www.bilderbogen.de/eventeintrag
URL:https://mein-weiss.de/event/weihnachtsmarkt-koeln-suerth/
LOCATION:Sürther Marktplatz\, Marktplatz Sürth\, Sürth\, 50999\, Deutschland
ATTACH;FMTTYPE=image/jpeg:https://mein-weiss.de/wp-content/uploads/2025/12/WhatsApp-Image-2025-11-14-at-01.05.43-683x1024-1.jpeg
END:VEVENT
BEGIN:VEVENT
DTSTART;TZID=Europe/Berlin:20251207T110000
DTEND;TZID=Europe/Berlin:20251207T130000
DTSTAMP:20260422T183122
CREATED:20250114T140046Z
LAST-MODIFIED:20250114T140046Z
UID:2929-1765105200-1765112400@mein-weiss.de
SUMMARY:Winter-Whispers mit Violina Petrychenko (Klavier)
DESCRIPTION:Bei unserem Konzert am zweiten Adventssonntag wird uns die vielfach ausgezeichnete ianistin Violina Petrychenko mit ukrainischen Weihnachts- und Winterkompositionen in diese wundervolle und festliche Jahreszeitentführen und der reichen Musiktradition ihres Heimatlandes eine besondere Stimme geben.  \nDie großzügigen Kompositionen Barvinskys\, zarten Melodien Silvestrovs und die atemberaubenden Arrangements ukrainischer Klassiker zeichnen sich durch ihre tiefe emotionale Ausdruckskraft aus\, mit ihrer feinsinnigen Interpretation berührt Violina Petrychenko Herz und Seele und hinterlässt bei den Zuschauern und Zuhörern unvergessliche Eindrücke. \nDer Eintritt zu unseren Konzerten ist frei – eine Spende zum Erhalt der Konzertreihe ist gerne willkommen. \nBildquelle: RTK Germania \n\nDieser Eintrag wird Ihnen zur Verfügung gestellt vom Kölner BilderBogen – eines der beliebtesten Stadtmagazine in Köln. Ihr Termin fehlt? Einfach kostenlos einreichen: www.bilderbogen.de/eventeintrag
URL:https://mein-weiss.de/event/winter-whispers-mit-violina-petrychenko-klavier/
LOCATION:RTK Germania Köln-Poll\, Alfred-Schütte-Allee 163
ATTACH;FMTTYPE=image/png:https://mein-weiss.de/wp-content/uploads/2025/01/Bildschirmfoto-2025-01-14-um-11.53.47.png
END:VEVENT
BEGIN:VEVENT
DTSTART;TZID=Europe/Berlin:20251207T140000
DTEND;TZID=Europe/Berlin:20251207T180000
DTSTAMP:20260422T183122
CREATED:20251118T100051Z
LAST-MODIFIED:20251118T100051Z
UID:5758-1765116000-1765130400@mein-weiss.de
SUMMARY:Kunstsonntag in der Wachsfabrik von 14 bis 18 Uhr
DESCRIPTION:die Künstler*innen des Kunstzentrum Wachsfabrik laden herzlich am 07. Dezember\, zwischen 14 und 18 Uhr in ihre geöffneten Ateliers ein und freuen sich auf die Besucher und persönliche Begegnungen. Der Eintritt ist frei. Das Café ist geöffnet. \nAdresse: Industriestraße 170\, 50999 Köln\nWeitere Informationen unter www.kunstzentrum-wachsfabrik.koeln. \n8 geöffnete Ateliers: \nAtelier 05 – Sebastian Probst – Art Projekt – Bildhauerei\nAtelier 10 – Jeannette de Payrebrune – Malerei & Bildhauerei\nAtelier 12 – Manfred Wachendorf\, Jovita Majewski\, Pascal Behrendt\, Inge Lager\, Mia Forsch – Skulptur & Malerei\nAtelier 13 – Gertraud Lütkefels – Schmuck & Objekte\nAtelier 14 – miegL + Gastkünstler*in Student*in – Malerei & Bildhauerei\nAtelier 19 – Sabine Burghardt – Fotografie\nAtelier 20 – Joao de Almeida – Objekte\nAtelier 21 – Martha Potempa & Thomas Brück – Singer-Songwriter \nWir würden uns auch über Ihren Besuch freuen! \n\nDieser Eintrag wird Ihnen zur Verfügung gestellt vom Kölner BilderBogen – eines der beliebtesten Stadtmagazine in Köln. Ihr Termin fehlt? Einfach kostenlos einreichen: www.bilderbogen.de/eventeintrag
URL:https://mein-weiss.de/event/kunstsonntag-in-der-wachsfabrik-von-14-bis-18-uhr-2/
LOCATION:Wachsfabrik\, Industriestraße 170\, Köln\, 50999\, Deutschland
END:VEVENT
BEGIN:VEVENT
DTSTART;TZID=Europe/Berlin:20251207T153000
DTEND;TZID=Europe/Berlin:20251207T173000
DTSTAMP:20260422T183122
CREATED:20250929T090050Z
LAST-MODIFIED:20250929T090050Z
UID:5350-1765121400-1765128600@mein-weiss.de
SUMMARY:Advents-Singen mit Church Rocking
DESCRIPTION:Dieser Eintrag wird Ihnen zur Verfügung gestellt vom Kölner BilderBogen – eines der beliebtesten Stadtmagazine in Köln. Ihr Termin fehlt? Einfach kostenlos einreichen: www.bilderbogen.de/eventeintrag
URL:https://mein-weiss.de/event/advents-singen-mit-church-rocking/
LOCATION:Pfarrheim Heilige Drei Könige – Rondorf\, Hahnenstraße 21\, Köln\, NRW\, 50997\, Deutschland
ATTACH;FMTTYPE=image/png:https://mein-weiss.de/wp-content/uploads/2025/09/Bildschirmfoto-2025-09-29-um-09.43.51-726x1024-1.png
END:VEVENT
BEGIN:VEVENT
DTSTART;TZID=Europe/Berlin:20251207T180000
DTEND;TZID=Europe/Berlin:20251207T203000
DTSTAMP:20260422T183122
CREATED:20250828T110120Z
LAST-MODIFIED:20250828T110120Z
UID:5136-1765130400-1765139400@mein-weiss.de
SUMMARY:M-cine spielt „Die Puppe“ Stummfilm neu vertont
DESCRIPTION:Lachmuskeltraining garantiert!\nM-cine greift nicht auf existierende Stummfilmkompositionen zurück\, sondern schaut die Filme seiner Wahl mit dem Blick von heute an und erforscht deren Sprache.  Ist sie konventionell oder experimentell? Laut oder leise? Aus diesen Fragen entwickelt M-cine das musikalische Material zum Film. Improvisierte und auskomponierte Elemente greifen ineinander. So ist jeder Stummfilmabend einzigartig und voller Experimentierfreude.\nEine Verwechslungskomödie von Ernst Lubitsch komplettiert die Reihe am 07.12.2025 um 18 Uhr.\nMit trockenstem Wort- und Bildwitz nimmt der Regisseur in seinem Stummfilm „Die Puppe“ gängige Geschlechterrollen auf die Schippe. Lancelot hat ein ungewöhnliches Problem: vierzig Jungfrauen verfolgen ihn quer durchs ganze Dorf! Sein schwerreicher Erbonkel Baron de Chanterelle hat angeordnet\, dass Lancelot sich endlich eine Frau suchen muss\, damit das Adelsgeschlecht nicht ausstirbt. Doch Lancelot will partout nicht heiraten. Die Lösung? Eine Puppenhochzeit!\nWer lebensechte Puppen samt Bedienungsanleitung verkauft\, wie Lancelot seine Puppe heiratet und wie viel Eigenleben eine solche Beziehung letztendlich verträgt: all das verfolgt der Zuschauer in einer furiosen tour de force an urkomischen Einfällen.\nDoch das ist noch lange nicht alles – heimatliche Nostalgie gibt es noch gratis dazu.  Jeder Abend wird mit einem ganz besonderen Kurzfilm aus der frühen Kölner Filmgeschichte eröffnet. Natürlich mit einer eigens komponierten Filmmusik von M-cine. Etwas Schokoladiges ist natürlich auch dabei… \nBildquelle: Pressebild Gregor Kaluza \n\nDieser Eintrag wird Ihnen zur Verfügung gestellt vom Kölner BilderBogen – eines der beliebtesten Stadtmagazine in Köln. Ihr Termin fehlt? Einfach kostenlos einreichen: www.bilderbogen.de/eventeintrag
URL:https://mein-weiss.de/event/m-cine-spielt-die-puppe-stummfilm-neu-vertont/
LOCATION:Theater509 Bürgerhaus Stollwerck\, Dreikönigenstraße 23\, Köln\, 50678
END:VEVENT
END:VCALENDAR