BEGIN:VCALENDAR
VERSION:2.0
PRODID:-//Dorfgemeinschaft Weiss - ECPv6.15.20//NONSGML v1.0//EN
CALSCALE:GREGORIAN
METHOD:PUBLISH
X-WR-CALNAME:Dorfgemeinschaft Weiss
X-ORIGINAL-URL:https://mein-weiss.de
X-WR-CALDESC:Veranstaltungen für Dorfgemeinschaft Weiss
REFRESH-INTERVAL;VALUE=DURATION:PT1H
X-Robots-Tag:noindex
X-PUBLISHED-TTL:PT1H
BEGIN:VTIMEZONE
TZID:Europe/Berlin
BEGIN:DAYLIGHT
TZOFFSETFROM:+0100
TZOFFSETTO:+0200
TZNAME:CEST
DTSTART:20240331T010000
END:DAYLIGHT
BEGIN:STANDARD
TZOFFSETFROM:+0200
TZOFFSETTO:+0100
TZNAME:CET
DTSTART:20241027T010000
END:STANDARD
BEGIN:DAYLIGHT
TZOFFSETFROM:+0100
TZOFFSETTO:+0200
TZNAME:CEST
DTSTART:20250330T010000
END:DAYLIGHT
BEGIN:STANDARD
TZOFFSETFROM:+0200
TZOFFSETTO:+0100
TZNAME:CET
DTSTART:20251026T010000
END:STANDARD
BEGIN:DAYLIGHT
TZOFFSETFROM:+0100
TZOFFSETTO:+0200
TZNAME:CEST
DTSTART:20260329T010000
END:DAYLIGHT
BEGIN:STANDARD
TZOFFSETFROM:+0200
TZOFFSETTO:+0100
TZNAME:CET
DTSTART:20261025T010000
END:STANDARD
END:VTIMEZONE
BEGIN:VEVENT
DTSTART;TZID=Europe/Berlin:20251024T160000
DTEND;TZID=Europe/Berlin:20251024T173000
DTSTAMP:20260424T144542
CREATED:20250910T080107Z
LAST-MODIFIED:20251010T110053Z
UID:5190-1761321600-1761327000@mein-weiss.de
SUMMARY:Wärmepumpen-Der Weg zu nachhaltiger Wärme
DESCRIPTION:Wer wissen möchte\, wie die Wärmepumpe auch in Bestandsgebäuden funktioniert\, ist hier genau richtig. Es werden Anwenderkenntnisse geteilt und Fragen auf Augenhöhe und ohne Verkaufsabsichten beantwortet. Überzeugte und sehr gut informierte Ehrenamtler:innen informieren über die Wärmepumpe. In Köln haben sich Ehrenamtler:innen der SFV-Infostelle “Solaroffensive” Köln unter dem Dach der heuteStadtmorgen Klimaenossenschaft Köln e.G. auf den Weg gemacht und bieten Infoveranstaltungen rund um die Wärmepumpe an. **** „Wärmepumpen sind nichts als geile Physik!“ (Zitat: Prof. Dr. Stefan Rahmstorf vom Potsdam-Institut für Klimafolgenforschung) \nAnmeldung ab 15. September \nBildquelle: Stadtteilbibliothek Rodenkirchen \n\nDieser Eintrag wird Ihnen zur Verfügung gestellt vom Kölner BilderBogen – eines der beliebtesten Stadtmagazine in Köln. Ihr Termin fehlt? Einfach kostenlos einreichen: www.bilderbogen.de/eventeintrag
URL:https://mein-weiss.de/event/waermepumpen-der-weg-zu-nachhaltiger-waerme/
LOCATION:Stadtteil-Bibliothek Rodenkirchen\, Schillingsrotter Str. 38\, Köln\, NRW\, 50996\, Deutschland
ATTACH;FMTTYPE=image/png:https://mein-weiss.de/wp-content/uploads/2025/09/Bildschirmfoto-2025-09-10-um-09.10.39.png
END:VEVENT
BEGIN:VEVENT
DTSTART;TZID=Europe/Berlin:20251025T110000
DTEND;TZID=Europe/Berlin:20251025T130000
DTSTAMP:20260424T144542
CREATED:20250910T080110Z
LAST-MODIFIED:20251010T110054Z
UID:5192-1761390000-1761397200@mein-weiss.de
SUMMARY:Grundlagen der Computerreparatur
DESCRIPTION:Defekte Festplatte\, kaputter Arbeitsspeicher\, fehlerhaftes Betriebssystem: Lernt\, wie ihr Daten retten und möglichst günstig und schnell drei der häufigsten Probleme bei defekten Computern und Laptops selbst beheben könnt. Bitte keine privaten Geräte mitbringen.\nWorkshop für alle von 15 bis 99 Jahren\nAnmeldestart ist der 15.September 2025. Die Plätze sind heiß begehrt ! \nBildquelle: Stadtteilbibliothek Rodenkirchen \n  \n\nDieser Eintrag wird Ihnen zur Verfügung gestellt vom Kölner BilderBogen – eines der beliebtesten Stadtmagazine in Köln. Ihr Termin fehlt? Einfach kostenlos einreichen: www.bilderbogen.de/eventeintrag
URL:https://mein-weiss.de/event/grundlagen-der-computerreparatur-2/
LOCATION:Stadtteil-Bibliothek Rodenkirchen\, Schillingsrotter Str. 38\, Köln\, NRW\, 50996\, Deutschland
ATTACH;FMTTYPE=image/png:https://mein-weiss.de/wp-content/uploads/2025/09/Bildschirmfoto-2025-09-10-um-09.06.28.png
END:VEVENT
BEGIN:VEVENT
DTSTART;TZID=Europe/Berlin:20251125T170000
DTEND;TZID=Europe/Berlin:20251230T200000
DTSTAMP:20260424T144542
CREATED:20251021T100119Z
LAST-MODIFIED:20251021T100119Z
UID:5574-1764090000-1767124800@mein-weiss.de
SUMMARY:Welcome Day Herbst 2025
DESCRIPTION:Wichtige Schritte sind gemacht: Sie sind Ihre eigene Chefin / Ihr eigener Chef und Sie haben vielleicht bereits Ihre ersten Aufträge erfolgreich abgeschlossen. Und jetzt? Wie können Sie Ihre Firma erfolgreich weiterentwickeln und etablieren? Handwerkliches Können ist zwar die beste Voraussetzung\, doch zum Erfolg gehört noch eine Menge mehr. Handwerksbetriebe\, die sich dauerhaft behaupten\, denken und handeln bewusst kunden- und mitarbeiterorientiert. Am Welcome Day Herbst 2025 haben Sie die Möglichkeit die kostenfreien Beratungsangebote der Handwerkskammer zu Köln kennenzulernen und erste konkrete Fragen von unseren Profis der kaufmännischen und technischen Unternehmensberatung sowie der Rechtsberatung beantworten zu lassen. \nVeranstalter: Handwerkskammer zu Köln \nDatum / Uhrzeit: 25. November 2025\, 17:00 Uhr \nVeranstaltungsort: Handwerkskammer zu Köln (Karrierewerkstatt) \nStraße: Heumarkt 12 \nPostleitzahl / Ort: 50667 Köln \nMehr Infos unter: https://www.hwk-koeln.de \n\nDieser Eintrag wird Ihnen zur Verfügung gestellt vom Kölner BilderBogen – eines der beliebtesten Stadtmagazine in Köln. Ihr Termin fehlt? Einfach kostenlos einreichen: www.bilderbogen.de/eventeintrag
URL:https://mein-weiss.de/event/welcome-day-herbst-2025/
LOCATION:Handwerkskammer zu Köln\, Heumarkt 12\, Köln\, Bundesstaat wählen:\, 50667\, Deutschland
END:VEVENT
BEGIN:VEVENT
DTSTART;TZID=Europe/Berlin:20251127T130000
DTEND;TZID=Europe/Berlin:20251130T210000
DTSTAMP:20260424T144542
CREATED:20251029T120047Z
LAST-MODIFIED:20251029T120047Z
UID:5625-1764248400-1764536400@mein-weiss.de
SUMMARY:ARTgerecht – Vernissage
DESCRIPTION:Dieser Eintrag wird Ihnen zur Verfügung gestellt vom Kölner BilderBogen – eines der beliebtesten Stadtmagazine in Köln. Ihr Termin fehlt? Einfach kostenlos einreichen: www.bilderbogen.de/eventeintrag
URL:https://mein-weiss.de/event/artgerecht-vernissage/
LOCATION:Galerie Wasser\, St. Apern-Str. 11\, Köln\, Bundesstaat wählen:\, 50667\, Deutschland
ATTACH;FMTTYPE=image/png:https://mein-weiss.de/wp-content/uploads/2025/10/Bildschirmfoto-2025-10-29-um-12.13.46-745x1024-1.png
END:VEVENT
BEGIN:VEVENT
DTSTART;TZID=Europe/Berlin:20251128T100000
DTEND;TZID=Europe/Berlin:20251128T160000
DTSTAMP:20260424T144542
CREATED:20251021T110124Z
LAST-MODIFIED:20251021T120109Z
UID:5586-1764324000-1764345600@mein-weiss.de
SUMMARY:Absolventenkongress Deutschland
DESCRIPTION:Seit über 30 Jahren bringt der Absolventenkongress Top Unternehmen aus allen Branchen mit jungen Talenten zusammen. Der Absolventenkongress erleichtert Young Talents den Berufsstart und bietet eine Plattform für Jobsuche und Berufsorientierung. Das Event richtet sich an Studierende\, Absolvent*innen oder Young Professionals mit bis zu fünf Jahren Berufserfahrung. \nVeranstalter: Staufenbiel Institut GmbH \nDatum / Uhrzeit: 27. November 2025\, 10-18 Uhr\, & 28. November 2025\, 10-16 Uhr \nVeranstaltungsort: Köln Messe\, Halle 10.2\, Eingang Ost \nStraße: Messeplatz 1 \nPostleitzahl / Ort: 50679 Köln \nMehr Infos unter: https://absolventenkongress.de \n\nDieser Eintrag wird Ihnen zur Verfügung gestellt vom Kölner BilderBogen – eines der beliebtesten Stadtmagazine in Köln. Ihr Termin fehlt? Einfach kostenlos einreichen: www.bilderbogen.de/eventeintrag
URL:https://mein-weiss.de/event/absolventenkongress-deutschland-2/
LOCATION:Köln Messe\, Messeplatz 1\, Köln\, 50679
END:VEVENT
BEGIN:VEVENT
DTSTART;TZID=Europe/Berlin:20251128T100000
DTEND;TZID=Europe/Berlin:20251130T190000
DTSTAMP:20260424T144542
CREATED:20250924T090102Z
LAST-MODIFIED:20250924T090102Z
UID:5315-1764324000-1764529200@mein-weiss.de
SUMMARY:Weihnachtsmarkt Heilige Drei Könige in Rondorf
DESCRIPTION:Am ersten Adventswochenende lädt der Pfadfinderstamm Rumenthorp wieder zum festlichen Weihnachtsmarkt auf dem Vorplatz der Kirche Heilige Drei Könige in Rondorf ein.🎄 \nWir bieten alles\, was das Herz zur Adventszeit begehrt. 🫶 Wir freuen uns sehr\, Ihnen in diesem Jahr unsere neu aufgelegte Licht- und Projektionsshow (am Samstagabend)\, sowie die große Krippe in der Kirche präsentieren zu können. Ebenso erwarten Sie diverse neue kulinarische sowie handwerkliche Stände. \nWir freuen uns auf Sie! \n\nDieser Eintrag wird Ihnen zur Verfügung gestellt vom Kölner BilderBogen – eines der beliebtesten Stadtmagazine in Köln. Ihr Termin fehlt? Einfach kostenlos einreichen: www.bilderbogen.de/eventeintrag
URL:https://mein-weiss.de/event/weihnachtsmarkt-heilige-drei-koenige-in-rondorf/
LOCATION:Heilige Drei Könige Rondorf\, Hahnenstraße 21\, Köln\, NRW\, 50997\, Deutschland
END:VEVENT
BEGIN:VEVENT
DTSTART;TZID=Europe/Berlin:20251128T140000
DTEND;TZID=Europe/Berlin:20251128T180000
DTSTAMP:20260424T144542
CREATED:20251016T090059Z
LAST-MODIFIED:20251016T180050Z
UID:5543-1764338400-1764352800@mein-weiss.de
SUMMARY:Krippenausstellung in der St. Maternuskirche
DESCRIPTION:Am 1. Adventwochenende werden in der Kirche St. Maternus Hauskrippen von Familien im Rheinbogen gezeigt. Ergänzend findet wieder samstags ein gemütlicher Adventmarkt der Messdiener und sonntags eine Cafeteria der Frauengemeinschaft statt. Außerdem gibt es einen Verkauf von Laternenkrippen und einen Stand der Eine- Welt-Gruppe. Die Ausstellung endet mit einem Konzert des Konvergenz Quartetts. \n\nDieser Eintrag wird Ihnen zur Verfügung gestellt vom Kölner BilderBogen – eines der beliebtesten Stadtmagazine in Köln. Ihr Termin fehlt? Einfach kostenlos einreichen: www.bilderbogen.de/eventeintrag
URL:https://mein-weiss.de/event/krippenausstellung-in-der-st-maternuskirche/
LOCATION:St. Maternus\, Hauptstraße 19\, Köln\, NRW\, 50996\, Deutschland
ATTACH;FMTTYPE=image/png:https://mein-weiss.de/wp-content/uploads/2025/10/Bildschirmfoto-2025-10-16-um-19.15.49-723x1024-1.png
END:VEVENT
BEGIN:VEVENT
DTSTART;TZID=Europe/Berlin:20251128T160000
DTEND;TZID=Europe/Berlin:20251128T220000
DTSTAMP:20260424T144542
CREATED:20251015T090058Z
LAST-MODIFIED:20251015T090058Z
UID:5533-1764345600-1764367200@mein-weiss.de
SUMMARY:3. Adventsglühen in der Eventlocation “Hoch2Werk”
DESCRIPTION:🎄 Adventsglühen im Hoch2Werk –\n28.–30. November 2025 🎄 \n  \nDie besinnliche Weihnachtszeit steht vor der Tür – und unser Hof verwandelt sich wieder in ein funkelndes Winterwunderland! ✨ \nGenießt mit uns ein Wochenende voller Weihnachtszauber:\n🌟 Glühwein & Punsch\n🧇 Waffeln & Flammkuchen\n🌭 Herzhaftes vom Grill\n🔥 Feuerschalen & Stockbrot für Kinder\n💫 Lichterketten & Musik \nKommt vorbei\, bringt Familie & Freunde mit und lasst euch vom Hoch2Werk in Adventsstimmung bringen. \n📍 Sürther Hauptstraße 11\, 50999 Köln\n🕓 Freitag bis Sonntag\, 16–22 Uhr\n🎟️ Eintritt frei | Verpflegung über Bonkasse \nWir freuen uns auf euch! ✨ \n\nDieser Eintrag wird Ihnen zur Verfügung gestellt vom Kölner BilderBogen – eines der beliebtesten Stadtmagazine in Köln. Ihr Termin fehlt? Einfach kostenlos einreichen: www.bilderbogen.de/eventeintrag
URL:https://mein-weiss.de/event/3-adventsgluehen-in-der-eventlocation-hoch2werk/
LOCATION:Hoch2Werk\, Sürther Hauptstraße 11\, Köln\, 50999
ATTACH;FMTTYPE=image/jpeg:https://mein-weiss.de/wp-content/uploads/2025/10/IMG_5176-739x1024-1.jpeg
END:VEVENT
BEGIN:VEVENT
DTSTART;TZID=Europe/Berlin:20251128T200000
DTEND;TZID=Europe/Berlin:20251128T223000
DTSTAMP:20260424T144542
CREATED:20250828T100135Z
LAST-MODIFIED:20250828T100135Z
UID:5128-1764360000-1764369000@mein-weiss.de
SUMMARY:Katrin Geelvink – Träum weiter…! Chansons\, Musikkabarett und Mikrodramen
DESCRIPTION:Katrin Geelvink trifft den richtigen Ton! Ob laut oder leise\, schräg oder tiefsinnig.\nIhre Lieder über die großen und kleinen Dramen des Alltags überraschen immer wieder mit kreativen Lösungsansätzen.\nMit ureigenem Humor und ihrer Campanula\, einem Cello\, ausgerüstet mit 16 verstärkenden Resonanzsaiten\, mit dem sie sich virtuos selber begleitet\, verpackt diese Ausnahmekünstlerin die Tücken des Lebens in kurzweilige Musik-Geschichten.\nDas ist so unterhaltsam und amüsant\, dass Katrin Geelvink im April 2019 den Bochumer Singer-Songwriter-Contest gewinnt und im Frühjahr 2023 in der Schweiz beim Kleinkunstfestival „die Krönung“ zu Königin gekürt wird.\nIn ihrem Programm „Träum weiter …!“ hat die Nacht große Augen\, feine Ohren und immer den passenden Rat zu jeder Lebenslage. Gefangen in der Warteschleife der Telefonseelsorge- Hotline bleibt der erhoffte Schlaf stets aus. Doch wen kümmert’s\, wenn dafür alles andere passiert? \nBildquelle: Pressebild Matin Steffen \n\nDieser Eintrag wird Ihnen zur Verfügung gestellt vom Kölner BilderBogen – eines der beliebtesten Stadtmagazine in Köln. Ihr Termin fehlt? Einfach kostenlos einreichen: www.bilderbogen.de/eventeintrag
URL:https://mein-weiss.de/event/katrin-geelvink-traeum-weiter-chansons-musikkabarett-und-mikrodramen/
LOCATION:Theater509 Bürgerhaus Stollwerck\, Dreikönigenstraße 23\, Köln\, 50678
END:VEVENT
END:VCALENDAR