BEGIN:VCALENDAR
VERSION:2.0
PRODID:-//Dorfgemeinschaft Weiss - ECPv6.15.20//NONSGML v1.0//EN
CALSCALE:GREGORIAN
METHOD:PUBLISH
X-WR-CALNAME:Dorfgemeinschaft Weiss
X-ORIGINAL-URL:https://mein-weiss.de
X-WR-CALDESC:Veranstaltungen für Dorfgemeinschaft Weiss
REFRESH-INTERVAL;VALUE=DURATION:PT1H
X-Robots-Tag:noindex
X-PUBLISHED-TTL:PT1H
BEGIN:VTIMEZONE
TZID:Europe/Berlin
BEGIN:DAYLIGHT
TZOFFSETFROM:+0100
TZOFFSETTO:+0200
TZNAME:CEST
DTSTART:20240331T010000
END:DAYLIGHT
BEGIN:STANDARD
TZOFFSETFROM:+0200
TZOFFSETTO:+0100
TZNAME:CET
DTSTART:20241027T010000
END:STANDARD
BEGIN:DAYLIGHT
TZOFFSETFROM:+0100
TZOFFSETTO:+0200
TZNAME:CEST
DTSTART:20250330T010000
END:DAYLIGHT
BEGIN:STANDARD
TZOFFSETFROM:+0200
TZOFFSETTO:+0100
TZNAME:CET
DTSTART:20251026T010000
END:STANDARD
BEGIN:DAYLIGHT
TZOFFSETFROM:+0100
TZOFFSETTO:+0200
TZNAME:CEST
DTSTART:20260329T010000
END:DAYLIGHT
BEGIN:STANDARD
TZOFFSETFROM:+0200
TZOFFSETTO:+0100
TZNAME:CET
DTSTART:20261025T010000
END:STANDARD
END:VTIMEZONE
BEGIN:VEVENT
DTSTART;TZID=Europe/Berlin:20251024T160000
DTEND;TZID=Europe/Berlin:20251024T173000
DTSTAMP:20260422T232424
CREATED:20250910T080107Z
LAST-MODIFIED:20251010T110053Z
UID:5190-1761321600-1761327000@mein-weiss.de
SUMMARY:Wärmepumpen-Der Weg zu nachhaltiger Wärme
DESCRIPTION:Wer wissen möchte\, wie die Wärmepumpe auch in Bestandsgebäuden funktioniert\, ist hier genau richtig. Es werden Anwenderkenntnisse geteilt und Fragen auf Augenhöhe und ohne Verkaufsabsichten beantwortet. Überzeugte und sehr gut informierte Ehrenamtler:innen informieren über die Wärmepumpe. In Köln haben sich Ehrenamtler:innen der SFV-Infostelle “Solaroffensive” Köln unter dem Dach der heuteStadtmorgen Klimaenossenschaft Köln e.G. auf den Weg gemacht und bieten Infoveranstaltungen rund um die Wärmepumpe an. **** „Wärmepumpen sind nichts als geile Physik!“ (Zitat: Prof. Dr. Stefan Rahmstorf vom Potsdam-Institut für Klimafolgenforschung) \nAnmeldung ab 15. September \nBildquelle: Stadtteilbibliothek Rodenkirchen \n\nDieser Eintrag wird Ihnen zur Verfügung gestellt vom Kölner BilderBogen – eines der beliebtesten Stadtmagazine in Köln. Ihr Termin fehlt? Einfach kostenlos einreichen: www.bilderbogen.de/eventeintrag
URL:https://mein-weiss.de/event/waermepumpen-der-weg-zu-nachhaltiger-waerme/
LOCATION:Stadtteil-Bibliothek Rodenkirchen\, Schillingsrotter Str. 38\, Köln\, NRW\, 50996\, Deutschland
ATTACH;FMTTYPE=image/png:https://mein-weiss.de/wp-content/uploads/2025/09/Bildschirmfoto-2025-09-10-um-09.10.39.png
END:VEVENT
BEGIN:VEVENT
DTSTART;TZID=Europe/Berlin:20251025T110000
DTEND;TZID=Europe/Berlin:20251025T130000
DTSTAMP:20260422T232424
CREATED:20250910T080110Z
LAST-MODIFIED:20251010T110054Z
UID:5192-1761390000-1761397200@mein-weiss.de
SUMMARY:Grundlagen der Computerreparatur
DESCRIPTION:Defekte Festplatte\, kaputter Arbeitsspeicher\, fehlerhaftes Betriebssystem: Lernt\, wie ihr Daten retten und möglichst günstig und schnell drei der häufigsten Probleme bei defekten Computern und Laptops selbst beheben könnt. Bitte keine privaten Geräte mitbringen.\nWorkshop für alle von 15 bis 99 Jahren\nAnmeldestart ist der 15.September 2025. Die Plätze sind heiß begehrt ! \nBildquelle: Stadtteilbibliothek Rodenkirchen \n  \n\nDieser Eintrag wird Ihnen zur Verfügung gestellt vom Kölner BilderBogen – eines der beliebtesten Stadtmagazine in Köln. Ihr Termin fehlt? Einfach kostenlos einreichen: www.bilderbogen.de/eventeintrag
URL:https://mein-weiss.de/event/grundlagen-der-computerreparatur-2/
LOCATION:Stadtteil-Bibliothek Rodenkirchen\, Schillingsrotter Str. 38\, Köln\, NRW\, 50996\, Deutschland
ATTACH;FMTTYPE=image/png:https://mein-weiss.de/wp-content/uploads/2025/09/Bildschirmfoto-2025-09-10-um-09.06.28.png
END:VEVENT
BEGIN:VEVENT
DTSTART;TZID=Europe/Berlin:20251120T153000
DTEND;TZID=Europe/Berlin:20251120T163000
DTSTAMP:20260422T232424
CREATED:20251103T120052Z
LAST-MODIFIED:20251103T120052Z
UID:5655-1763652600-1763656200@mein-weiss.de
SUMMARY:Folklore-Konzert: „Mit der Geige durch Europa“
DESCRIPTION:Bildquelle: Fotolia \n\nDieser Eintrag wird Ihnen zur Verfügung gestellt vom Kölner BilderBogen – eines der beliebtesten Stadtmagazine in Köln. Ihr Termin fehlt? Einfach kostenlos einreichen: www.bilderbogen.de/eventeintrag
URL:https://mein-weiss.de/event/folklore-konzert-mit-der-geige-durch-europa/
LOCATION:Cura SeniorenCentrum Köln Rodenkirchen\, Hauptstraße 128\, Köln\, NRW\, 50996\, Deutschland
ATTACH;FMTTYPE=image/png:https://mein-weiss.de/wp-content/uploads/2025/11/Bildschirmfoto-2025-11-03-um-12.46.10-723x1024-1.png
END:VEVENT
BEGIN:VEVENT
DTSTART;TZID=Europe/Berlin:20251120T160000
DTEND;TZID=Europe/Berlin:20251120T170000
DTSTAMP:20260422T232424
CREATED:20251110T090105Z
LAST-MODIFIED:20251110T090105Z
UID:5706-1763654400-1763658000@mein-weiss.de
SUMMARY:Wir basteln Winter-Eulen mit euch
DESCRIPTION:Winter-Eulen basteln\nTierisch gute Winterlaune! Wir basteln uns eine fröhliche Eule mit buntem Gefieder und Mütze. Sie schmückt die Fenster an trüben Wintertagen.\nFür Kinder von 4 – 6 Jahren\nEine Anmeldung ist erforderlich vor Ort\, per E-Mail rodenkirchen@stbib-koeln.de\noder telefonisch unter 0221 / 221-92370. \n\nDieser Eintrag wird Ihnen zur Verfügung gestellt vom Kölner BilderBogen – eines der beliebtesten Stadtmagazine in Köln. Ihr Termin fehlt? Einfach kostenlos einreichen: www.bilderbogen.de/eventeintrag
URL:https://mein-weiss.de/event/wir-basteln-winter-eulen-mit-euch/
LOCATION:Stadtteil-Bibliothek Rodenkirchen\, Schillingsrotter Str. 38\, Köln\, NRW\, 50996\, Deutschland
ATTACH;FMTTYPE=image/png:https://mein-weiss.de/wp-content/uploads/2025/11/Bildschirmfoto-2025-11-10-um-09.47.51-1024x676-1.png
END:VEVENT
BEGIN:VEVENT
DTSTART;TZID=Europe/Berlin:20251120T160000
DTEND;TZID=Europe/Berlin:20251120T180000
DTSTAMP:20260422T232424
CREATED:20251021T100114Z
LAST-MODIFIED:20251021T110118Z
UID:5568-1763654400-1763661600@mein-weiss.de
SUMMARY:Zukunft Ausbildung 2025
DESCRIPTION:Am 20. November 2025 zeichnet die IHK Köln wieder Innovationen und Erfolge rund um die duale Ausbildung aus und honoriert das besondere Engagement von Ausbildungsunternehmen und Ausbilderinnen und Ausbildern. Geehrt werden Persönlichkeiten und Ausbildungsbetriebe\, die durch ihr Angebot betriebliche Ausbildung in unserer Region stärken. Im Rahmen von „Zukunft Ausbildung” werden spannende Impulse zum Zeitgeist mit Best Practices aus Unternehmen kombiniert. \nVeranstalter: Industrie- und Handelskammer zu Köln \nDatum / Uhrzeit: 20. November 2025\, 16.00 bis 18.00 Uhr \nVeranstaltungsort: Balloni Hallen Köln \nStraße: Ehrenfeldgürtel 96 \nPostleitzahl / Ort: 50823 Köln \nInfos unter: https://www.ihk.de/koeln/hauptnavigation/ausbildung/zukunft-ausbildung-5625138 \n\nDieser Eintrag wird Ihnen zur Verfügung gestellt vom Kölner BilderBogen – eines der beliebtesten Stadtmagazine in Köln. Ihr Termin fehlt? Einfach kostenlos einreichen: www.bilderbogen.de/eventeintrag
URL:https://mein-weiss.de/event/zukunft-ausbildung-2025/
LOCATION:Balloni Halle Köln\, Ehrenfeldgürtel 96\, Köln\, Bundesstaat wählen:\, 50823\, Deutschland
END:VEVENT
BEGIN:VEVENT
DTSTART;TZID=Europe/Berlin:20251120T200000
DTEND;TZID=Europe/Berlin:20251120T223000
DTSTAMP:20260422T232424
CREATED:20250814T110059Z
LAST-MODIFIED:20250814T110059Z
UID:5069-1763668800-1763677800@mein-weiss.de
SUMMARY:Anne Bax liest und Anika Auweiler singt
DESCRIPTION:Anne Bax liest und Anika Auweiler singt.\nWäre es andersherum\, hätten sie es nicht angekündigt\nLesung trifft auf Konzert Seit 2013 bringen Autorin Anne Bax und Sängerin Anika Auweiler die Kleinkunst- und CSD-Bühnen Deutschlands zum Beben. Gemeinsam schaffen sie eine explosive Mischung aus Lesung und Konzert\, bei der Wort und Klang\, Humor und Tiefsinn kunstvoll miteinander verschmelzen. Mal überzeugt jede für sich solo\, dann wieder wagen sie sich gemeinsam in neue Formen der Kleinkunst\, immer mit viel Charme und einer Nähe zum Publikum\, die jedes Event zu einem einmaligen Erlebnis macht.\nAnne Bax ist eine scharfsinnige Beobachterin menschlicher Schwächen und skizziert mit präziser Feder Frauen auf der Suche nach der großen\, manchmal unerreichbaren Liebe. Ihre Geschichten\, voll amüsanter Absurditäten und urkomischer Alltagssituationen\, entfalten einen Sog\, der die Zuhörenden unweigerlich in den Bann zieht. Das Online Magazin Aviva lobt sie als „schreiend komisch\,“ und die Siegessäule nennt sie eine „stilsichere Wortjongleurin\,“ die mit ihren Satiren zum lesbischen Liebesalltag begeistert. Wer erfahren möchte\, was ein „Tupperus interruptus“ ist\, oder sich von Alltagskomik verzaubern lassen will\, ist bei Bax genau richtig.\nAnika Auweiler\, deren Album „Vodka und Lachs“ von der Musikpresse gefeiert wurde\, ist eine Meisterin des musikalischen Storytellings und gestaltet ihre Songs mit einer einzigartigen\, deutschsprachigen Pop-Sprache. Der Rolling Stone vergleicht ihre Mischung aus Chanson und Pop mit Künstlerinnen wie Anna Depenbusch\, lobt jedoch ihre originelle Tiefe. Mit Ekki Maas\, Produzent und Erdmöbel-Musiker\, hat Auweiler auf ihrem aktuellen Album „Sammelalbum“ eine stilistische Vielfalt geschaffen\, die zwischen Chanson\, Pop\, Elektro und Folk oszilliert.\nLive beeindruckt sie als Loopstation-Virtuosin\, die Klang- und Rhythmusfragmente kunstvoll miteinander verwebt und spontane Klangwolken erschafft\, die das Publikum auf musikalische Reisen mitnehmen. Ob scharf beobachteter Alltagshumor\, skurrile Rachefantasien oder sanft ironische Lieder über das Leben und die Liebe – Anne Bax und Anika Auweiler bieten in ihren gemeinsamen Shows eine erfrischende Kombination aus Lesung und Konzert\, die mit Witz\, Charme und Tiefgang jedes Publikum begeistert. Ein Abend voller Geschichten und Lieder\, der Lust macht auf mehr. \nwww.anika-auweiler.de \nBildquelle: Pressebild – Lena Manteuffel \n\nDieser Eintrag wird Ihnen zur Verfügung gestellt vom Kölner BilderBogen – eines der beliebtesten Stadtmagazine in Köln. Ihr Termin fehlt? Einfach kostenlos einreichen: www.bilderbogen.de/eventeintrag
URL:https://mein-weiss.de/event/anne-bax-liest-und-anika-auweiler-singt/
LOCATION:Theater509 Bürgerhaus Stollwerck\, Dreikönigenstraße 23\, Köln\, 50678
ATTACH;FMTTYPE=image/png:https://mein-weiss.de/wp-content/uploads/2025/08/Bildschirmfoto-2025-08-14-um-11.41.13.png
END:VEVENT
END:VCALENDAR