BEGIN:VCALENDAR
VERSION:2.0
PRODID:-//Dorfgemeinschaft Weiss - ECPv6.15.20//NONSGML v1.0//EN
CALSCALE:GREGORIAN
METHOD:PUBLISH
X-WR-CALNAME:Dorfgemeinschaft Weiss
X-ORIGINAL-URL:https://mein-weiss.de
X-WR-CALDESC:Veranstaltungen für Dorfgemeinschaft Weiss
REFRESH-INTERVAL;VALUE=DURATION:PT1H
X-Robots-Tag:noindex
X-PUBLISHED-TTL:PT1H
BEGIN:VTIMEZONE
TZID:Europe/Berlin
BEGIN:DAYLIGHT
TZOFFSETFROM:+0100
TZOFFSETTO:+0200
TZNAME:CEST
DTSTART:20240331T010000
END:DAYLIGHT
BEGIN:STANDARD
TZOFFSETFROM:+0200
TZOFFSETTO:+0100
TZNAME:CET
DTSTART:20241027T010000
END:STANDARD
BEGIN:DAYLIGHT
TZOFFSETFROM:+0100
TZOFFSETTO:+0200
TZNAME:CEST
DTSTART:20250330T010000
END:DAYLIGHT
BEGIN:STANDARD
TZOFFSETFROM:+0200
TZOFFSETTO:+0100
TZNAME:CET
DTSTART:20251026T010000
END:STANDARD
BEGIN:DAYLIGHT
TZOFFSETFROM:+0100
TZOFFSETTO:+0200
TZNAME:CEST
DTSTART:20260329T010000
END:DAYLIGHT
BEGIN:STANDARD
TZOFFSETFROM:+0200
TZOFFSETTO:+0100
TZNAME:CET
DTSTART:20261025T010000
END:STANDARD
END:VTIMEZONE
BEGIN:VEVENT
DTSTART;TZID=Europe/Berlin:20251024T160000
DTEND;TZID=Europe/Berlin:20251024T173000
DTSTAMP:20260424T103008
CREATED:20250910T080107Z
LAST-MODIFIED:20251010T110053Z
UID:5190-1761321600-1761327000@mein-weiss.de
SUMMARY:Wärmepumpen-Der Weg zu nachhaltiger Wärme
DESCRIPTION:Wer wissen möchte\, wie die Wärmepumpe auch in Bestandsgebäuden funktioniert\, ist hier genau richtig. Es werden Anwenderkenntnisse geteilt und Fragen auf Augenhöhe und ohne Verkaufsabsichten beantwortet. Überzeugte und sehr gut informierte Ehrenamtler:innen informieren über die Wärmepumpe. In Köln haben sich Ehrenamtler:innen der SFV-Infostelle “Solaroffensive” Köln unter dem Dach der heuteStadtmorgen Klimaenossenschaft Köln e.G. auf den Weg gemacht und bieten Infoveranstaltungen rund um die Wärmepumpe an. **** „Wärmepumpen sind nichts als geile Physik!“ (Zitat: Prof. Dr. Stefan Rahmstorf vom Potsdam-Institut für Klimafolgenforschung) \nAnmeldung ab 15. September \nBildquelle: Stadtteilbibliothek Rodenkirchen \n\nDieser Eintrag wird Ihnen zur Verfügung gestellt vom Kölner BilderBogen – eines der beliebtesten Stadtmagazine in Köln. Ihr Termin fehlt? Einfach kostenlos einreichen: www.bilderbogen.de/eventeintrag
URL:https://mein-weiss.de/event/waermepumpen-der-weg-zu-nachhaltiger-waerme/
LOCATION:Stadtteil-Bibliothek Rodenkirchen\, Schillingsrotter Str. 38\, Köln\, NRW\, 50996\, Deutschland
ATTACH;FMTTYPE=image/png:https://mein-weiss.de/wp-content/uploads/2025/09/Bildschirmfoto-2025-09-10-um-09.10.39.png
END:VEVENT
BEGIN:VEVENT
DTSTART;TZID=Europe/Berlin:20251025T110000
DTEND;TZID=Europe/Berlin:20251025T130000
DTSTAMP:20260424T103008
CREATED:20250910T080110Z
LAST-MODIFIED:20251010T110054Z
UID:5192-1761390000-1761397200@mein-weiss.de
SUMMARY:Grundlagen der Computerreparatur
DESCRIPTION:Defekte Festplatte\, kaputter Arbeitsspeicher\, fehlerhaftes Betriebssystem: Lernt\, wie ihr Daten retten und möglichst günstig und schnell drei der häufigsten Probleme bei defekten Computern und Laptops selbst beheben könnt. Bitte keine privaten Geräte mitbringen.\nWorkshop für alle von 15 bis 99 Jahren\nAnmeldestart ist der 15.September 2025. Die Plätze sind heiß begehrt ! \nBildquelle: Stadtteilbibliothek Rodenkirchen \n  \n\nDieser Eintrag wird Ihnen zur Verfügung gestellt vom Kölner BilderBogen – eines der beliebtesten Stadtmagazine in Köln. Ihr Termin fehlt? Einfach kostenlos einreichen: www.bilderbogen.de/eventeintrag
URL:https://mein-weiss.de/event/grundlagen-der-computerreparatur-2/
LOCATION:Stadtteil-Bibliothek Rodenkirchen\, Schillingsrotter Str. 38\, Köln\, NRW\, 50996\, Deutschland
ATTACH;FMTTYPE=image/png:https://mein-weiss.de/wp-content/uploads/2025/09/Bildschirmfoto-2025-09-10-um-09.06.28.png
END:VEVENT
BEGIN:VEVENT
DTSTART;TZID=Europe/Berlin:20251116T093000
DTEND;TZID=Europe/Berlin:20251116T133000
DTSTAMP:20260424T103008
CREATED:20251010T130050Z
LAST-MODIFIED:20251010T140044Z
UID:5461-1763285400-1763299800@mein-weiss.de
SUMMARY:Persischer Kochtreff
DESCRIPTION:Kommen Sie vorbei und genießen Sie einen gemütlichen Vormittag beim gemeinsamen Kochen! Anmeldung erforderlich unter: gemeinsamsindwirstaerker@awo-koeln.de\nSpende für die Lebensmittel ist herzlich willkommen. \n\nDieser Eintrag wird Ihnen zur Verfügung gestellt vom Kölner BilderBogen – eines der beliebtesten Stadtmagazine in Köln. Ihr Termin fehlt? Einfach kostenlos einreichen: www.bilderbogen.de/eventeintrag
URL:https://mein-weiss.de/event/persischer-kochtreff-3/
LOCATION:Villa AWO\, Walther-Rathenau-Str. 9\, Köln\, NRW\, 50996\, Deutschland
ATTACH;FMTTYPE=image/png:https://mein-weiss.de/wp-content/uploads/2025/10/Kochtreff-IBA3-724x1024-1.png
END:VEVENT
BEGIN:VEVENT
DTSTART;TZID=Europe/Berlin:20251116T103000
DTEND;TZID=Europe/Berlin:20251116T133000
DTSTAMP:20260424T103008
CREATED:20251029T120041Z
LAST-MODIFIED:20251029T120041Z
UID:5620-1763289000-1763299800@mein-weiss.de
SUMMARY:Persischer Kochtreff. NEUE Uhrzeit
DESCRIPTION:Lust auf leckeres Essen und gute Gesellschaft? Komm vorbei und genieße einen gemütlichen Vormittag beim gemeinsamen Kochen!\nIba zaubert mit Euch persische Köstlichkeiten. \n\nDieser Eintrag wird Ihnen zur Verfügung gestellt vom Kölner BilderBogen – eines der beliebtesten Stadtmagazine in Köln. Ihr Termin fehlt? Einfach kostenlos einreichen: www.bilderbogen.de/eventeintrag
URL:https://mein-weiss.de/event/persischer-kochtreff-neue-uhrzeit/
LOCATION:Villa AWO\, Walther-Rathenau-Str. 9\, Köln\, NRW\, 50996\, Deutschland
ATTACH;FMTTYPE=image/png:https://mein-weiss.de/wp-content/uploads/2025/10/Kochtreff-IBA6-724x1024-1.png
ORGANIZER;CN="AWO":MAILTO:gemeinsamsindwirstaerker@awo-koeln.de
END:VEVENT
BEGIN:VEVENT
DTSTART;TZID=Europe/Berlin:20251116T110000
DTEND;TZID=Europe/Berlin:20251116T163000
DTSTAMP:20260424T103008
CREATED:20251103T120049Z
LAST-MODIFIED:20251103T130046Z
UID:5653-1763290800-1763310600@mein-weiss.de
SUMMARY:Johanniter-Basar 2025
DESCRIPTION:Am 15. November findet von 12:30-17:30 Uhr und am 16. November von 11:00-16:30 Uhr im Evangelischen Gemeindezentrum\, Sürther Straße 34\, der traditionelle vorweih-nachtliche Basar der Johanniter-Hilfsgemeinschaft Köln statt. Dazu lädt Sie das Team der Johanniter-Hilfsgemeinschaft herzlich ein. \nBildquelle: Helga Schröder-Etzdor \n  \n\nDieser Eintrag wird Ihnen zur Verfügung gestellt vom Kölner BilderBogen – eines der beliebtesten Stadtmagazine in Köln. Ihr Termin fehlt? Einfach kostenlos einreichen: www.bilderbogen.de/eventeintrag
URL:https://mein-weiss.de/event/johanniter-basar-2025-2/
LOCATION:Erlöserkirche Rodenkirchen (Saal)\, Sürther Straße 34\, Köln\, 50996\, Deutschland
ATTACH;FMTTYPE=image/png:https://mein-weiss.de/wp-content/uploads/2025/11/Bildschirmfoto-2025-11-03-um-12.52.22-717x1024-1.png
END:VEVENT
BEGIN:VEVENT
DTSTART;TZID=Europe/Berlin:20251116T180000
DTEND;TZID=Europe/Berlin:20251116T203000
DTSTAMP:20260424T103008
CREATED:20250814T110057Z
LAST-MODIFIED:20250814T110057Z
UID:5067-1763316000-1763325000@mein-weiss.de
SUMMARY:Aydin Isik – Mein Dinner mit Gott Ein göttlicher Kabarettabend
DESCRIPTION:Haben Sie sich jemals gefragt\, wie es wäre\, Gott zum Abendessen zu treffen? Aydin Isik hat es nicht nur geschafft\, einen Termin mit dem Allmächtigen zu vereinbaren – er lädt Sie ein\, live dabei zu sein! Gemeinsam mit Gott möchte der preisgekrönte Kabarettist die großen Fragen der Menschheit klären:\nWie kann es sein\, dass Mozart und Trump die Früchte derselben Evolution sind?\nWas hält Gott eigentlich von Elon Musk?\nHat Gott jemals ein Update bekommen oder läuft er noch auf der ersten Version?\nWarum schmeckt ungesundes Essen besser\, wenn Gott will\, dass wir gesund leben?\nHat Gott auch manchmal das Gefühl\, dass er sich hätte mehr Mühe geben können?\nWarum sind Einhörner ausgestorben\, aber Mücken nicht?\nWie konnte Gott einen ganzen Kosmos erschaffen\, aber nicht verhindern\, dass Socken in der Waschmaschine verschwinden?\nAch ja\, und was hat es mit der Schöpfungsgeschichte wirklich auf sich?\nMit seinem scharfsinnigen Humor und tiefgründiger Satire serviert Aydin Isik ein köstliches Menü aus Lachen\, Nachdenklichkeit und absurden Einsichten. Stellen Sie sich vor\, wie weltliche Kabarettkunst auf göttliche Weisheit trifft – und erleben Sie eine Show\, die so unvorhersehbar ist wie das Wetter.\n„Mein Dinner mit Gott“ ist nicht nur ein Kabarettabend\, sondern eine Einladung\, die Welt aus einer völlig neuen Perspektive zu betrachten. Egal\, ob Sie gläubig sind\, skeptisch oder einfach nur neugierig – bei diesem Abendessen ist jeder Platz mit Humor gedeckt.\nErleben Sie einen unvergesslichen Abend\, bei dem die Grenzen zwischen Himmel und Erde verschwimmen. \naydinisik.com \nBildquelle: Pressebild Aydin Isik \n\nDieser Eintrag wird Ihnen zur Verfügung gestellt vom Kölner BilderBogen – eines der beliebtesten Stadtmagazine in Köln. Ihr Termin fehlt? Einfach kostenlos einreichen: www.bilderbogen.de/eventeintrag
URL:https://mein-weiss.de/event/aydin-isik-mein-dinner-mit-gott-ein-goettlicher-kabarettabend-2/
LOCATION:Theater509 Bürgerhaus Stollwerck\, Dreikönigenstraße 23\, Köln\, 50678
ATTACH;FMTTYPE=image/png:https://mein-weiss.de/wp-content/uploads/2025/08/Bildschirmfoto-2025-08-14-um-11.35.39.png
END:VEVENT
BEGIN:VEVENT
DTSTART;TZID=Europe/Berlin:20251116T190000
DTEND;TZID=Europe/Berlin:20251116T210000
DTSTAMP:20260424T103008
CREATED:20251104T110045Z
LAST-MODIFIED:20251105T080048Z
UID:5667-1763319600-1763326800@mein-weiss.de
SUMMARY:„Clavier“ -Konzert
DESCRIPTION:Am Sonntag\, 16. November 2025\, ebenfalls in der Emmanuelkirche ab 19:00 Uhr\, findet im Rahmen der diesjährigen Clavier-Spiele das jährliche Konzert des Rodenkirchener Kammerorchesters statt. Das „Clavier“ tritt hier als Teil der Bassgruppe und als Soloinstrument in Erscheinung. Zu erleben sind Konzertmeister Go Yamamoto als Solist in Haydns Violinkonzert und als Leiter des Divertimentos von Mozart sowie Yuko Inoue in Johann Christoph Bachs Klavierkonzert. \nDa der Eintritt frei ist\, wird zur Finanzierung des Abends herzlich um eine Spende gebeten. \nDie Clavier-Spiele werden veranstaltet vom Verein zur Förderung der Orgelmusik in der Evangelischen Kirchengemeinde Rondorf e.V. und der evangelischen Emmanuel-Kirchengemeinde Rondorf. \n\n\nDieser Eintrag wird Ihnen zur Verfügung gestellt vom Kölner BilderBogen – eines der beliebtesten Stadtmagazine in Köln. Ihr Termin fehlt? Einfach kostenlos einreichen: www.bilderbogen.de/eventeintrag
URL:https://mein-weiss.de/event/clavier-konzert/
LOCATION:Emmanuelkirche in Rondorf\, Carl-Jatho-Straße 1\, Köln\, NRW\, 50997\, Deutschland
ATTACH;FMTTYPE=image/png:https://mein-weiss.de/wp-content/uploads/2025/11/Bildschirmfoto-2025-11-05-um-08.47.21-759x1024-1.png
END:VEVENT
END:VCALENDAR