BEGIN:VCALENDAR
VERSION:2.0
PRODID:-//Dorfgemeinschaft Weiss - ECPv6.15.20//NONSGML v1.0//EN
CALSCALE:GREGORIAN
METHOD:PUBLISH
X-WR-CALNAME:Dorfgemeinschaft Weiss
X-ORIGINAL-URL:https://mein-weiss.de
X-WR-CALDESC:Veranstaltungen für Dorfgemeinschaft Weiss
REFRESH-INTERVAL;VALUE=DURATION:PT1H
X-Robots-Tag:noindex
X-PUBLISHED-TTL:PT1H
BEGIN:VTIMEZONE
TZID:Europe/Berlin
BEGIN:DAYLIGHT
TZOFFSETFROM:+0100
TZOFFSETTO:+0200
TZNAME:CEST
DTSTART:20240331T010000
END:DAYLIGHT
BEGIN:STANDARD
TZOFFSETFROM:+0200
TZOFFSETTO:+0100
TZNAME:CET
DTSTART:20241027T010000
END:STANDARD
BEGIN:DAYLIGHT
TZOFFSETFROM:+0100
TZOFFSETTO:+0200
TZNAME:CEST
DTSTART:20250330T010000
END:DAYLIGHT
BEGIN:STANDARD
TZOFFSETFROM:+0200
TZOFFSETTO:+0100
TZNAME:CET
DTSTART:20251026T010000
END:STANDARD
BEGIN:DAYLIGHT
TZOFFSETFROM:+0100
TZOFFSETTO:+0200
TZNAME:CEST
DTSTART:20260329T010000
END:DAYLIGHT
BEGIN:STANDARD
TZOFFSETFROM:+0200
TZOFFSETTO:+0100
TZNAME:CET
DTSTART:20261025T010000
END:STANDARD
END:VTIMEZONE
BEGIN:VEVENT
DTSTART;TZID=Europe/Berlin:20251024T160000
DTEND;TZID=Europe/Berlin:20251024T173000
DTSTAMP:20260422T214035
CREATED:20250910T080107Z
LAST-MODIFIED:20251010T110053Z
UID:5190-1761321600-1761327000@mein-weiss.de
SUMMARY:Wärmepumpen-Der Weg zu nachhaltiger Wärme
DESCRIPTION:Wer wissen möchte\, wie die Wärmepumpe auch in Bestandsgebäuden funktioniert\, ist hier genau richtig. Es werden Anwenderkenntnisse geteilt und Fragen auf Augenhöhe und ohne Verkaufsabsichten beantwortet. Überzeugte und sehr gut informierte Ehrenamtler:innen informieren über die Wärmepumpe. In Köln haben sich Ehrenamtler:innen der SFV-Infostelle “Solaroffensive” Köln unter dem Dach der heuteStadtmorgen Klimaenossenschaft Köln e.G. auf den Weg gemacht und bieten Infoveranstaltungen rund um die Wärmepumpe an. **** „Wärmepumpen sind nichts als geile Physik!“ (Zitat: Prof. Dr. Stefan Rahmstorf vom Potsdam-Institut für Klimafolgenforschung) \nAnmeldung ab 15. September \nBildquelle: Stadtteilbibliothek Rodenkirchen \n\nDieser Eintrag wird Ihnen zur Verfügung gestellt vom Kölner BilderBogen – eines der beliebtesten Stadtmagazine in Köln. Ihr Termin fehlt? Einfach kostenlos einreichen: www.bilderbogen.de/eventeintrag
URL:https://mein-weiss.de/event/waermepumpen-der-weg-zu-nachhaltiger-waerme/
LOCATION:Stadtteil-Bibliothek Rodenkirchen\, Schillingsrotter Str. 38\, Köln\, NRW\, 50996\, Deutschland
ATTACH;FMTTYPE=image/png:https://mein-weiss.de/wp-content/uploads/2025/09/Bildschirmfoto-2025-09-10-um-09.10.39.png
END:VEVENT
BEGIN:VEVENT
DTSTART;TZID=Europe/Berlin:20251025T110000
DTEND;TZID=Europe/Berlin:20251025T130000
DTSTAMP:20260422T214035
CREATED:20250910T080110Z
LAST-MODIFIED:20251010T110054Z
UID:5192-1761390000-1761397200@mein-weiss.de
SUMMARY:Grundlagen der Computerreparatur
DESCRIPTION:Defekte Festplatte\, kaputter Arbeitsspeicher\, fehlerhaftes Betriebssystem: Lernt\, wie ihr Daten retten und möglichst günstig und schnell drei der häufigsten Probleme bei defekten Computern und Laptops selbst beheben könnt. Bitte keine privaten Geräte mitbringen.\nWorkshop für alle von 15 bis 99 Jahren\nAnmeldestart ist der 15.September 2025. Die Plätze sind heiß begehrt ! \nBildquelle: Stadtteilbibliothek Rodenkirchen \n  \n\nDieser Eintrag wird Ihnen zur Verfügung gestellt vom Kölner BilderBogen – eines der beliebtesten Stadtmagazine in Köln. Ihr Termin fehlt? Einfach kostenlos einreichen: www.bilderbogen.de/eventeintrag
URL:https://mein-weiss.de/event/grundlagen-der-computerreparatur-2/
LOCATION:Stadtteil-Bibliothek Rodenkirchen\, Schillingsrotter Str. 38\, Köln\, NRW\, 50996\, Deutschland
ATTACH;FMTTYPE=image/png:https://mein-weiss.de/wp-content/uploads/2025/09/Bildschirmfoto-2025-09-10-um-09.06.28.png
END:VEVENT
BEGIN:VEVENT
DTSTART;TZID=Europe/Berlin:20251031T160000
DTEND;TZID=Europe/Berlin:20251031T203000
DTSTAMP:20260422T214035
CREATED:20250917T090104Z
LAST-MODIFIED:20250917T100103Z
UID:5278-1761926400-1761942600@mein-weiss.de
SUMMARY:Sparda-Bank-Halloween-Run\, Forstbotanischer Garten
DESCRIPTION:Am 31. Oktober 2025 wird der Forstbotanische Garten zur stimmungsvollen Laufkulisse. Die beleuchtete Strecke sorgt für Gänsehaut\, dunkle Abschnitte bringen zusätzliche Spannung – Stirnlampe nicht vergessen! Der Halloween-Run ist kein Wettkampf\, sondern ein Erlebnis für Laufbegeisterte\, Familien und Verkleidungsfans. Für Kinder und Jugendliche gibt es kürzere Läufe mit süßer Belohnung am Ziel. \nSei dabei und genieße die schaurig stimmungsvolle Strecke im Forstbotanischen Garten. Mit noch mehr Halloween als in den Vorjahren und einer Atmosphäre\, die ihresgleichen sucht. \nDer Halloween-Run ist kein Hindernislauf und es gibt auch keine Zombies die dich jagen. Vielmehr ist der Halloween-Run ein Event für alle\, die gerne laufen\, die Spaß am Verkleiden haben\, die eine Veranstaltung und eine Laufstrecke mit besonderer Atmosphäre mögen\, die gerne mit ihren Kids etwas unternehmen und die Lust auf einen gruseliges Rahmenprogramm haben. \nVerkleidung? Muss man nicht\, sollte man aber! \nZeitplan\n16:00 Uhr: Ausgabe der Startunterlagen\n17:00 Uhr: Start Little Candy-Run (500 m Bambinilauf bis einschl. Jahrgang 2018)\n17:30 Uhr: Start Big Candy-Run (Jahrgänge 2010 bis 2017)\n18:00 Uhr: Start Halloween-Run 5 km (Zielschluss: 50 Minuten Nettolaufzeit)\n19:00 Uhr: Start Halloween-Run 10 km (Zielschluss: 90 Minuten Nettolaufzeit)\n20:10 Uhr: Siegerehrung Halloween-Runs \n  \n\nDieser Eintrag wird Ihnen zur Verfügung gestellt vom Kölner BilderBogen – eines der beliebtesten Stadtmagazine in Köln. Ihr Termin fehlt? Einfach kostenlos einreichen: www.bilderbogen.de/eventeintrag
URL:https://mein-weiss.de/event/sparda-bank-halloween-run-forstbotanischer-garten/
LOCATION:Forstbotanischer Garten\, Schillingsrotter Str. 100\, Köln\, NRW\, 50999\, Deutschland
END:VEVENT
BEGIN:VEVENT
DTSTART;TZID=Europe/Berlin:20251031T170000
DTEND;TZID=Europe/Berlin:20251031T233000
DTSTAMP:20260422T214035
CREATED:20251003T100048Z
LAST-MODIFIED:20251003T100048Z
UID:5384-1761930000-1761953400@mein-weiss.de
SUMMARY:Halloween
DESCRIPTION:Normale Öffnungszeiten – Party ab 17 Uhr \n\nDieser Eintrag wird Ihnen zur Verfügung gestellt vom Kölner BilderBogen – eines der beliebtesten Stadtmagazine in Köln. Ihr Termin fehlt? Einfach kostenlos einreichen: www.bilderbogen.de/eventeintrag
URL:https://mein-weiss.de/event/halloween/
LOCATION:Maternus Stube im Veedel\, Maternusplatz 9\, Köln\, 50996
ATTACH;FMTTYPE=image/jpeg:https://mein-weiss.de/wp-content/uploads/2025/10/WhatsApp-Image-2025-10-02-at-11.55.44-1024x1010-1.jpeg
END:VEVENT
BEGIN:VEVENT
DTSTART;TZID=Europe/Berlin:20251031T190000
DTEND;TZID=Europe/Berlin:20251031T220000
DTSTAMP:20260422T214035
CREATED:20251021T090053Z
LAST-MODIFIED:20251021T090053Z
UID:5558-1761937200-1761948000@mein-weiss.de
SUMMARY:Konzertabend im Atelier 5 mit dem Ensemble des Rodenkirchener Kammerorchesters
DESCRIPTION:Unter dem Titel „Variationen“ erklingen Werke von Mozart\, Hydn\, Händel\, Corelli und weiteren Komponisten – fein ausgewält und mir viel Gespür für Klang und Stil interpretiert. Konzertmeister Go Yamamoto arbeitet mit dem Emsemble regelmäßig an einem homogenen Streicherklang und einer Phrasierung\, die den jeweiligen Epochen gerecht wird. Das Ergebnis ist ein intensives und lebendiges Musikerlebnis – Kammermusik und Symphonik auf hohem Niveau. \nIm Ticketpreis inbegriffen ist ein gemütliches „Come together“ mit Getränken und einem kleinen Pausensnack. \n\nDieser Eintrag wird Ihnen zur Verfügung gestellt vom Kölner BilderBogen – eines der beliebtesten Stadtmagazine in Köln. Ihr Termin fehlt? Einfach kostenlos einreichen: www.bilderbogen.de/eventeintrag
URL:https://mein-weiss.de/event/konzertabend-im-atelier-5-mit-dem-ensemble-des-rodenkirchener-kammerorchesters/
LOCATION:Wachsfabrik\, Industriestraße 170\, Köln\, 50999\, Deutschland
ORGANIZER;CN="Kulturforum Wachsfabrik":MAILTO:info@kulturforum-wachsfabrik.koeln
END:VEVENT
BEGIN:VEVENT
DTSTART;TZID=Europe/Berlin:20251031T193000
DTEND;TZID=Europe/Berlin:20251031T223000
DTSTAMP:20260422T214035
CREATED:20250818T100050Z
LAST-MODIFIED:20250818T100050Z
UID:5085-1761939000-1761949800@mein-weiss.de
SUMMARY:„Charity-Gala für Long-Covid-Kids“
DESCRIPTION:Fünf Jahre nach Corona gibt es Menschen\, die noch immer an den Folgen der Krankheit leiden. – Auch jüngere Menschen tragen noch heute schwer an irreparablen Spätfolgen. Um diesen „Long-Covid-Kids“ mehr Aufmerksamkeit und mit Spenden Erleichterung zu verschaffen\, veranstalte ich in Zusammenarbeit mit Thorsten Badura vom Leonardo Hotel Royal Köln – am Stadtwald diese Charity Gala und hoffe auch auf Ihre Unterstützung                                                                                          \nVerlauf der Gala: \nEinlass und Sektempfang ist ab 19:30 Uhr. Ab 20:00 Uhr startet das Programm mit kurzen Redebeiträgen \nvom\n– Veranstalter\, Wolfgang Ziemer\n– Hotelmanager\, Thorsten Badura \nvon der\n– Vorsitzenden des Fatigatio e.V. / Bundesverband ME/CFS\, Berlin Frau Dr. L. Lange-Riechmann\n(Empfänger der Spendengelder/ https://www.fatigatio.de/helfen-sie-mit/gala-long-covid-kids-spenden)\, \nvon\n– Long-Covid-Kids \nDanach kann am Buffet sukzessive auf ein 4-Gänge Menü zugegriffen werden. \n\nWährend des Verzehrs dieses Menüs spielt ein Trio (Enrique Delgado) Jazz/ Lounge- Musik und Fotos der Online-Ausstellung CORONA HUGS (Wolfgang Ziemer) werden auf verschiedenen Projektionsflächen präsentiert. \nIm Laufe des Essens tritt ein Zauberer auf (Lukas Hilken) auf.\nNach dem Essen sorgt der Auftritt eines Comedians (Lukas Wandke) für Unterhaltung.\nUnd den furiosen Abschluss der Gala bildet eine Variete-Nummer (Swanee / Annemarie Haupert). \nDas Ende der Veranstaltung ist um 22:30 Uhr vorgesehen. \nWo und wie man Tickets für die Gala kaufen kann: auf eventim.de mit dem Stichwort: „Long-Covid-Kids“ oder direkt hier: https://www.eventim.de/event/charity-gala-fuer-long-covid-erkrankte-holiday-inn-koeln-19899423/ . \n\nDieser Eintrag wird Ihnen zur Verfügung gestellt vom Kölner BilderBogen – eines der beliebtesten Stadtmagazine in Köln. Ihr Termin fehlt? Einfach kostenlos einreichen: www.bilderbogen.de/eventeintrag
URL:https://mein-weiss.de/event/charity-gala-fuer-long-covid-kids/
LOCATION:Leonardo Royal Hotel\, Dürener Str. 287\, Köln\, 50935
END:VEVENT
END:VCALENDAR