BEGIN:VCALENDAR
VERSION:2.0
PRODID:-//Dorfgemeinschaft Weiss - ECPv6.15.20//NONSGML v1.0//EN
CALSCALE:GREGORIAN
METHOD:PUBLISH
X-WR-CALNAME:Dorfgemeinschaft Weiss
X-ORIGINAL-URL:https://mein-weiss.de
X-WR-CALDESC:Veranstaltungen für Dorfgemeinschaft Weiss
REFRESH-INTERVAL;VALUE=DURATION:PT1H
X-Robots-Tag:noindex
X-PUBLISHED-TTL:PT1H
BEGIN:VTIMEZONE
TZID:Europe/Berlin
BEGIN:DAYLIGHT
TZOFFSETFROM:+0100
TZOFFSETTO:+0200
TZNAME:CEST
DTSTART:20240331T010000
END:DAYLIGHT
BEGIN:STANDARD
TZOFFSETFROM:+0200
TZOFFSETTO:+0100
TZNAME:CET
DTSTART:20241027T010000
END:STANDARD
BEGIN:DAYLIGHT
TZOFFSETFROM:+0100
TZOFFSETTO:+0200
TZNAME:CEST
DTSTART:20250330T010000
END:DAYLIGHT
BEGIN:STANDARD
TZOFFSETFROM:+0200
TZOFFSETTO:+0100
TZNAME:CET
DTSTART:20251026T010000
END:STANDARD
BEGIN:DAYLIGHT
TZOFFSETFROM:+0100
TZOFFSETTO:+0200
TZNAME:CEST
DTSTART:20260329T010000
END:DAYLIGHT
BEGIN:STANDARD
TZOFFSETFROM:+0200
TZOFFSETTO:+0100
TZNAME:CET
DTSTART:20261025T010000
END:STANDARD
END:VTIMEZONE
BEGIN:VEVENT
DTSTART;TZID=Europe/Berlin:20251024T160000
DTEND;TZID=Europe/Berlin:20251024T173000
DTSTAMP:20260422T214125
CREATED:20250910T080107Z
LAST-MODIFIED:20251010T110053Z
UID:5190-1761321600-1761327000@mein-weiss.de
SUMMARY:Wärmepumpen-Der Weg zu nachhaltiger Wärme
DESCRIPTION:Wer wissen möchte\, wie die Wärmepumpe auch in Bestandsgebäuden funktioniert\, ist hier genau richtig. Es werden Anwenderkenntnisse geteilt und Fragen auf Augenhöhe und ohne Verkaufsabsichten beantwortet. Überzeugte und sehr gut informierte Ehrenamtler:innen informieren über die Wärmepumpe. In Köln haben sich Ehrenamtler:innen der SFV-Infostelle “Solaroffensive” Köln unter dem Dach der heuteStadtmorgen Klimaenossenschaft Köln e.G. auf den Weg gemacht und bieten Infoveranstaltungen rund um die Wärmepumpe an. **** „Wärmepumpen sind nichts als geile Physik!“ (Zitat: Prof. Dr. Stefan Rahmstorf vom Potsdam-Institut für Klimafolgenforschung) \nAnmeldung ab 15. September \nBildquelle: Stadtteilbibliothek Rodenkirchen \n\nDieser Eintrag wird Ihnen zur Verfügung gestellt vom Kölner BilderBogen – eines der beliebtesten Stadtmagazine in Köln. Ihr Termin fehlt? Einfach kostenlos einreichen: www.bilderbogen.de/eventeintrag
URL:https://mein-weiss.de/event/waermepumpen-der-weg-zu-nachhaltiger-waerme/
LOCATION:Stadtteil-Bibliothek Rodenkirchen\, Schillingsrotter Str. 38\, Köln\, NRW\, 50996\, Deutschland
ATTACH;FMTTYPE=image/png:https://mein-weiss.de/wp-content/uploads/2025/09/Bildschirmfoto-2025-09-10-um-09.10.39.png
END:VEVENT
BEGIN:VEVENT
DTSTART;TZID=Europe/Berlin:20251025T110000
DTEND;TZID=Europe/Berlin:20251025T130000
DTSTAMP:20260422T214125
CREATED:20250910T080110Z
LAST-MODIFIED:20251010T110054Z
UID:5192-1761390000-1761397200@mein-weiss.de
SUMMARY:Grundlagen der Computerreparatur
DESCRIPTION:Defekte Festplatte\, kaputter Arbeitsspeicher\, fehlerhaftes Betriebssystem: Lernt\, wie ihr Daten retten und möglichst günstig und schnell drei der häufigsten Probleme bei defekten Computern und Laptops selbst beheben könnt. Bitte keine privaten Geräte mitbringen.\nWorkshop für alle von 15 bis 99 Jahren\nAnmeldestart ist der 15.September 2025. Die Plätze sind heiß begehrt ! \nBildquelle: Stadtteilbibliothek Rodenkirchen \n  \n\nDieser Eintrag wird Ihnen zur Verfügung gestellt vom Kölner BilderBogen – eines der beliebtesten Stadtmagazine in Köln. Ihr Termin fehlt? Einfach kostenlos einreichen: www.bilderbogen.de/eventeintrag
URL:https://mein-weiss.de/event/grundlagen-der-computerreparatur-2/
LOCATION:Stadtteil-Bibliothek Rodenkirchen\, Schillingsrotter Str. 38\, Köln\, NRW\, 50996\, Deutschland
ATTACH;FMTTYPE=image/png:https://mein-weiss.de/wp-content/uploads/2025/09/Bildschirmfoto-2025-09-10-um-09.06.28.png
END:VEVENT
BEGIN:VEVENT
DTSTART;TZID=Europe/Berlin:20251027T133000
DTEND;TZID=Europe/Berlin:20251027T153000
DTSTAMP:20260422T214125
CREATED:20251010T110057Z
LAST-MODIFIED:20251010T120045Z
UID:5437-1761571800-1761579000@mein-weiss.de
SUMMARY:Spielenachmittag
DESCRIPTION:Wir laden Sie herzlich zu einem gemütlichen Nachmittag in die Villa AWO ein.\nBringen Sie gerne Ihr Lieblingsspiel mit! \n\nDieser Eintrag wird Ihnen zur Verfügung gestellt vom Kölner BilderBogen – eines der beliebtesten Stadtmagazine in Köln. Ihr Termin fehlt? Einfach kostenlos einreichen: www.bilderbogen.de/eventeintrag
URL:https://mein-weiss.de/event/spielenachmittag-3/
LOCATION:Villa AWO\, Walther-Rathenau-Str. 9\, Köln\, NRW\, 50996\, Deutschland
ATTACH;FMTTYPE=image/png:https://mein-weiss.de/wp-content/uploads/2025/10/Spielenachmittag-2.Quartal3-724x1024-1.png
END:VEVENT
BEGIN:VEVENT
DTSTART;TZID=Europe/Berlin:20251027T143000
DTEND;TZID=Europe/Berlin:20251027T160000
DTSTAMP:20260422T214125
CREATED:20251010T090047Z
LAST-MODIFIED:20251010T090047Z
UID:5416-1761575400-1761580800@mein-weiss.de
SUMMARY:Café
DESCRIPTION:Kommen Sie vorbei und genießen Sie einen selbstgebackenen Kuchen.\nSpenden sind herzlich willkommen. \n\nDieser Eintrag wird Ihnen zur Verfügung gestellt vom Kölner BilderBogen – eines der beliebtesten Stadtmagazine in Köln. Ihr Termin fehlt? Einfach kostenlos einreichen: www.bilderbogen.de/eventeintrag
URL:https://mein-weiss.de/event/cafe/
LOCATION:Villa AWO\, Walther-Rathenau-Str. 9\, Köln\, NRW\, 50996\, Deutschland
ATTACH;FMTTYPE=image/png:https://mein-weiss.de/wp-content/uploads/2025/10/Cafe1-724x1024-1.png
END:VEVENT
BEGIN:VEVENT
DTSTART;TZID=Europe/Berlin:20251027T160000
DTEND;TZID=Europe/Berlin:20251027T170000
DTSTAMP:20260422T214125
CREATED:20251010T110101Z
LAST-MODIFIED:20251010T120046Z
UID:5439-1761580800-1761584400@mein-weiss.de
SUMMARY:Vorlesen für Kinder
DESCRIPTION:Ulla und Deran lesen dir tolle Geschichten vor.\nKomm vorbei und hör zu! \n\nDieser Eintrag wird Ihnen zur Verfügung gestellt vom Kölner BilderBogen – eines der beliebtesten Stadtmagazine in Köln. Ihr Termin fehlt? Einfach kostenlos einreichen: www.bilderbogen.de/eventeintrag
URL:https://mein-weiss.de/event/vorlesen-fuer-kinder/
LOCATION:Villa AWO\, Walther-Rathenau-Str. 9\, Köln\, NRW\, 50996\, Deutschland
ATTACH;FMTTYPE=image/png:https://mein-weiss.de/wp-content/uploads/2025/10/Vorlesen-fuer-Kinder2-724x1024-1.png
END:VEVENT
BEGIN:VEVENT
DTSTART;TZID=Europe/Berlin:20251027T180000
DTEND;TZID=Europe/Berlin:20251027T200000
DTSTAMP:20260422T214125
CREATED:20251010T110103Z
LAST-MODIFIED:20251010T110103Z
UID:5441-1761588000-1761595200@mein-weiss.de
SUMMARY:Kinoabend in der Villa AWO
DESCRIPTION:Film „Sonntagskind“. Die Wiederentdeckung einer Jahrhundertautorin: Helga Schubert. Im zweiten Anlauf im Alter von 80 Jahren mit dem Ingeborg-Bachmann-Preis ausgezeichnet. Literatin\, Poetin\, Chronistin. \n  \nIrgendwo im Nirgendwo zwischen Schwerin und Wismar lebt die 83-jährige Helga Schubert\, pflegt ihren 95-jährigen kranken Ehemann\, den ehemaligen Psychologieprofessor und Maler Johannes Helm und schreibt\, wie in den vergangenen Jahrzehnten\, jeden Tag an ihren Geschichten. \nVon hier aus bricht sie\, so oft es möglich ist\, auf zu Lesungen\, Vorträgen und Empfängen\, denn seit dem Gewinn des Bachmannpreises im ersten Coronasommer 2020 ist sie wieder eine gefragte Person des öffentlichen Lebens. \n\nDieser Eintrag wird Ihnen zur Verfügung gestellt vom Kölner BilderBogen – eines der beliebtesten Stadtmagazine in Köln. Ihr Termin fehlt? Einfach kostenlos einreichen: www.bilderbogen.de/eventeintrag
URL:https://mein-weiss.de/event/kinoabend-in-der-villa-awo/
LOCATION:Villa AWO\, Walther-Rathenau-Str. 9\, Köln\, NRW\, 50996\, Deutschland
ATTACH;FMTTYPE=image/png:https://mein-weiss.de/wp-content/uploads/2025/10/Kinoabend15-724x1024-1.png
END:VEVENT
END:VCALENDAR