BEGIN:VCALENDAR
VERSION:2.0
PRODID:-//Dorfgemeinschaft Weiss - ECPv6.15.20//NONSGML v1.0//EN
CALSCALE:GREGORIAN
METHOD:PUBLISH
X-WR-CALNAME:Dorfgemeinschaft Weiss
X-ORIGINAL-URL:https://mein-weiss.de
X-WR-CALDESC:Veranstaltungen für Dorfgemeinschaft Weiss
REFRESH-INTERVAL;VALUE=DURATION:PT1H
X-Robots-Tag:noindex
X-PUBLISHED-TTL:PT1H
BEGIN:VTIMEZONE
TZID:Europe/Berlin
BEGIN:DAYLIGHT
TZOFFSETFROM:+0100
TZOFFSETTO:+0200
TZNAME:CEST
DTSTART:20240331T010000
END:DAYLIGHT
BEGIN:STANDARD
TZOFFSETFROM:+0200
TZOFFSETTO:+0100
TZNAME:CET
DTSTART:20241027T010000
END:STANDARD
BEGIN:DAYLIGHT
TZOFFSETFROM:+0100
TZOFFSETTO:+0200
TZNAME:CEST
DTSTART:20250330T010000
END:DAYLIGHT
BEGIN:STANDARD
TZOFFSETFROM:+0200
TZOFFSETTO:+0100
TZNAME:CET
DTSTART:20251026T010000
END:STANDARD
BEGIN:DAYLIGHT
TZOFFSETFROM:+0100
TZOFFSETTO:+0200
TZNAME:CEST
DTSTART:20260329T010000
END:DAYLIGHT
BEGIN:STANDARD
TZOFFSETFROM:+0200
TZOFFSETTO:+0100
TZNAME:CET
DTSTART:20261025T010000
END:STANDARD
END:VTIMEZONE
BEGIN:VEVENT
DTSTART;VALUE=DATE:20250914
DTEND;VALUE=DATE:20250915
DTSTAMP:20260425T141631
CREATED:20250708T090047Z
LAST-MODIFIED:20250708T090047Z
UID:4793-1757808000-1757894399@mein-weiss.de
SUMMARY:Tag des offenen Denkmals
DESCRIPTION:Der Tag des offenen Denkmals öffnet am 14. September 2025 wieder die Türen zu faszinierenden historischen Stätten in und um Köln. Dies bietet die einzigartige Möglichkeit\, tief in die Geschichte der Stadt einzutauchen und ihre kulturelle Vielfalt aus erster Hand zu erleben. \n\nDieser Eintrag wird Ihnen zur Verfügung gestellt vom Kölner BilderBogen – eines der beliebtesten Stadtmagazine in Köln. Ihr Termin fehlt? Einfach kostenlos einreichen: www.bilderbogen.de/eventeintrag
URL:https://mein-weiss.de/event/tag-des-offenen-denkmals/
LOCATION:NRW
END:VEVENT
BEGIN:VEVENT
DTSTART;TZID=Europe/Berlin:20250914T093000
DTEND;TZID=Europe/Berlin:20250914T170000
DTSTAMP:20260425T141631
CREATED:20250911T090102Z
LAST-MODIFIED:20250911T090102Z
UID:5209-1757842200-1757869200@mein-weiss.de
SUMMARY:15. Offene Kölner Rollstuhltennis-Meisterschaften
DESCRIPTION:Traditionsreiches Rollstuhltennis-Turnier für Breiten- und Nachwuchssportler*innen \nDie Gold-Kraemer-Stiftung veranstaltet im Rahmen des Projekts „Tennis für Alle“ am 13. und 14. September 2025 die 15. Auflage der Offenen Kölner Rollstuhltennis-Meisterschaften. Auf dem Gelände des Marienburger SC an der Schillingsrotter Straße 99 in Köln-Rodenkirchen kommen Nachwuchs- und Breitensportler*innen aus ganz Deutschland zusammen. \nDie 15. Offenen Kölner Rollstuhltennis-Meisterschaften sind Teil der nationalen Turnierserie des Deutschen Tennis Bundes: dem „DTB-Rollstuhltennis-Race“. Sie richtet sich an Breitensportler*innen\, die in den Startklassen „Herren“ und „Damen“ für die deutsche Rangliste Punkte sammeln können. \nParallel zum Wettbewerb der Erwachsenen richtet das Team der Gold-Kraemer-Stiftung\, rund um Projektleiter und Rollstuhltennis-Bundestrainer Niklas Höfken\, auch in diesem Jahr die „2. Wheelchair Junior Open“ aus – ein internationales Event der Kategorie „Junior Series“. Das Turnier ist das einzige seiner Art in Deutschland\, bei dem der Rollstuhltennis-Nachwuchs um Weltranglistenpunkte spielen kann. Es werden in Köln die stärksten Jugendlichen der Welt erwartet. Einige von ihnen treten in der Woche zuvor noch beim Rollstuhl-Event der US Open an. \nZuschauer*innen sind bereits am Samstag\, 13. September\, von 9.30 Uhr bis 18 Uhr herzlich eingeladen\, die Spiele zu verfolgen. Am Sonntag\, 14. September\, 9.30 Uhr\, starten dann zunächst die Viertel- und Halbfinals\, die Finalspiele werden um 13.30 Uhr erwartet. Auch hier sind Zuschauer*innen herzlich eingeladen\, vorbeizuschauen. Der Eintritt ist frei. Bei schlechter Witterung werden die Begegnungen in der Tennishalle auf dem Vereinsgelände des MSC ausgetragen. \n\nDieser Eintrag wird Ihnen zur Verfügung gestellt vom Kölner BilderBogen – eines der beliebtesten Stadtmagazine in Köln. Ihr Termin fehlt? Einfach kostenlos einreichen: www.bilderbogen.de/eventeintrag
URL:https://mein-weiss.de/event/15-offene-koelner-rollstuhltennis-meisterschaften-2/
LOCATION:Marienburger Sportclub 1920 e.V.\, Schillingsrotter Str. 99\, Köln\, NRW\, 50996\, Deutschland
END:VEVENT
BEGIN:VEVENT
DTSTART;TZID=Europe/Berlin:20250914T140000
DTEND;TZID=Europe/Berlin:20250914T183000
DTSTAMP:20260425T141631
CREATED:20250902T080131Z
LAST-MODIFIED:20250902T080131Z
UID:5145-1757858400-1757874600@mein-weiss.de
SUMMARY:MINI DESIGNMARKT Goodbye Summer
DESCRIPTION:☀️ GOODBYE SUMMER – Dein Spätsommer-Highlight in der @wachsfabrik.koeln! ☀️ \nBereit für die letzten Summer-Vibes? 🌸 Dann komm am 14. September von 14–18 Uhr in die Wachsfabrik und feiere mit uns den Spätsommer in einer ganz besonderen Location! ✨ \nWir verwandeln den G’ART’EN & die Ateliers 4\, 7 & 8 in eine Oase voller Kreativität\, Design & Good Vibes. Dich erwarten: \n🛍️ MINI DESIGNMARKT\nRegionale Labels\, handmade Produkte & Lieblingsstücke – schlendere durch Ateliers & Holzhütten und tausche dich direkt mit den Designer:innen aus. \n♡ TATTOO SPOT\nSommer-Highlight gefällig? Lara von @inkara.tattoo sticht dir dein Wunschmotiv live vor Ort. Tipp: Früh kommen – die Slots sind heiß begehrt! \n🌸 DIY WORKSHOP\nWerde selbst kreativ und gestalte dein eigenes Upcycling Piece. Was genau? Bleibt unser kleines kreatives Geheimnis 🤫. \n🎶 DJ SOUNDS\nBoho-Hängematte + spritzige Drinks + lässige Beats = 100% Urlaubsfeeling 🌴🍹. \n👉 Komm vorbei\, genieße die entspannte Atmosphäre der Wachsfabrik und sag mit uns: Goodbye Summer – aber mit Style! 💛 \n📍 Wachsfabrik | Industriestraße 170 | 50999 Köln\n⏰ 14.09.25 | 14–18 Uhr\nℹ️ Mehr Infos: @manufact.event \nBildquelle: sieben8 events \n\nDieser Eintrag wird Ihnen zur Verfügung gestellt vom Kölner BilderBogen – eines der beliebtesten Stadtmagazine in Köln. Ihr Termin fehlt? Einfach kostenlos einreichen: www.bilderbogen.de/eventeintrag
URL:https://mein-weiss.de/event/mini-designmarkt-goodbye-summer/
LOCATION:Wachsfabrik\, Industriestraße 170\, Köln\, 50999\, Deutschland
ATTACH;FMTTYPE=image/png:https://mein-weiss.de/wp-content/uploads/2025/09/Bildschirmfoto-2025-09-02-um-09.13.09.png
END:VEVENT
BEGIN:VEVENT
DTSTART;TZID=Europe/Berlin:20250914T163000
DTEND;TZID=Europe/Berlin:20250914T183000
DTSTAMP:20260425T141631
CREATED:20250811T100049Z
LAST-MODIFIED:20250811T100049Z
UID:4983-1757867400-1757874600@mein-weiss.de
SUMMARY:Festkonzert „Harmonie in Europa“ – Männer-Quartett „Frohsinn“
DESCRIPTION:Dieser Eintrag wird Ihnen zur Verfügung gestellt vom Kölner BilderBogen – eines der beliebtesten Stadtmagazine in Köln. Ihr Termin fehlt? Einfach kostenlos einreichen: www.bilderbogen.de/eventeintrag
URL:https://mein-weiss.de/event/festkonzert-harmonie-in-europa-maenner-quartett-frohsinn/
LOCATION:Berufsbildungswerk Michaelshoven\, Martinsweg 11\, Köln\, NRW\, 50999\, Deutschland
END:VEVENT
BEGIN:VEVENT
DTSTART;TZID=Europe/Berlin:20250914T173000
DTEND;TZID=Europe/Berlin:20250914T193000
DTSTAMP:20260425T141631
CREATED:20250811T110046Z
LAST-MODIFIED:20250811T110046Z
UID:4992-1757871000-1757878200@mein-weiss.de
SUMMARY:Musikalisch-literarischer Salon : Goethe und Beethoven
DESCRIPTION:Zum ersten Mal findet im großen Saal neben der Erlöserkirche ein Musikalisch-Literarischer Salon für alle Freunde von Literatur und Musik statt. Er stellt Goethe und Beethoven in den Mittelpunkt. \nProf. Dr. Manfred Osten spricht als ausgewiesener Goethekenner und begeisternder Vermittler zur Aktualität des Goetheschen Beethovenverständnisses unter dem Leitgedanken  „ Energischer\, inniger\, zusammengeraffter habe ich noch keinen Künstler gesehen“. \nProf. Ilja Scheps spielt Beethovens Klaviersonaten „Sonata quasi una Fantasia“ op. 27 Nr. 2 und die Klaviersonate „Grande Sonate Pathétique“ op. 13 . \nDas inspirierend angelegte Format findet statt am Sonntag 14.9.2025\, um 17.30 Uhr im Saal neben der Erlöserkirche\, Sürther Str.34. Karten sind an der Tageskasse erhältlich zu 15\,-€. Schüler und Studierende zahlen 5\,-€. Die Veranstaltung findet in Zusammenarbeit mit dem Lions-Hilfswerk Köln-Caligula e.V. statt. \n\nDieser Eintrag wird Ihnen zur Verfügung gestellt vom Kölner BilderBogen – eines der beliebtesten Stadtmagazine in Köln. Ihr Termin fehlt? Einfach kostenlos einreichen: www.bilderbogen.de/eventeintrag
URL:https://mein-weiss.de/event/musikalisch-literarischer-salon-goethe-und-beethoven/
LOCATION:Ev. Kirche Rodenkirchen Gemeindesaal\, Sürther Straße 34\, Köln\, NRW\, 50996\, Deutschland
ATTACH;FMTTYPE=image/png:https://mein-weiss.de/wp-content/uploads/2025/08/Bildschirmfoto-2025-08-11-um-12.33.09-726x1024-1.png
END:VEVENT
BEGIN:VEVENT
DTSTART;TZID=Europe/Berlin:20250914T180000
DTEND;TZID=Europe/Berlin:20250914T203000
DTSTAMP:20260425T141631
CREATED:20250813T080051Z
LAST-MODIFIED:20250813T080051Z
UID:5004-1757872800-1757881800@mein-weiss.de
SUMMARY:Selbstauslöser – Improvisiertes Theater deluxe Improcomedy
DESCRIPTION:Selbstauslöser lassen spontan improvisierte Comedy-Szenen\, fesselnde Geschichten und ganze Welten aus dem Stegreif entstehen. Alles was sie dafür benötigen sind die Inspirationen aus dem Publikum. Bei selbstauslöser wird sehr viel gelacht\, gesungen und ge-[hier Verb Einfügen\, denn es passt fast immer]. Untermalt von der Musik ihres Multi-Instrumentalisten verwandeln die vier SchauspielerInnen von selbstauslöser jede Vorgabe in eine Weltpremiere. \nselbstausloeser-impro.de \n\n\n\nTheater 509\n\n\nAK 23\,- €/ 19\,- € (erm) / VVK 19\,- € / 15\,- € (erm) (+Gebühren)\n\n\n\n\n\n\nBildquelle: Pressebild Selbstauslöser \n  \n\nDieser Eintrag wird Ihnen zur Verfügung gestellt vom Kölner BilderBogen – eines der beliebtesten Stadtmagazine in Köln. Ihr Termin fehlt? Einfach kostenlos einreichen: www.bilderbogen.de/eventeintrag
URL:https://mein-weiss.de/event/selbstausloeser-improvisiertes-theater-deluxe-improcomedy/
LOCATION:Theater509 Bürgerhaus Stollwerck\, Dreikönigenstraße 23\, Köln\, 50678
ATTACH;FMTTYPE=image/png:https://mein-weiss.de/wp-content/uploads/2025/08/Bildschirmfoto-2025-08-13-um-09.49.18.png
END:VEVENT
END:VCALENDAR