BEGIN:VCALENDAR
VERSION:2.0
PRODID:-//Dorfgemeinschaft Weiss - ECPv6.15.20//NONSGML v1.0//EN
CALSCALE:GREGORIAN
METHOD:PUBLISH
X-WR-CALNAME:Dorfgemeinschaft Weiss
X-ORIGINAL-URL:https://mein-weiss.de
X-WR-CALDESC:Veranstaltungen für Dorfgemeinschaft Weiss
REFRESH-INTERVAL;VALUE=DURATION:PT1H
X-Robots-Tag:noindex
X-PUBLISHED-TTL:PT1H
BEGIN:VTIMEZONE
TZID:Europe/Berlin
BEGIN:DAYLIGHT
TZOFFSETFROM:+0100
TZOFFSETTO:+0200
TZNAME:CEST
DTSTART:20240331T010000
END:DAYLIGHT
BEGIN:STANDARD
TZOFFSETFROM:+0200
TZOFFSETTO:+0100
TZNAME:CET
DTSTART:20241027T010000
END:STANDARD
BEGIN:DAYLIGHT
TZOFFSETFROM:+0100
TZOFFSETTO:+0200
TZNAME:CEST
DTSTART:20250330T010000
END:DAYLIGHT
BEGIN:STANDARD
TZOFFSETFROM:+0200
TZOFFSETTO:+0100
TZNAME:CET
DTSTART:20251026T010000
END:STANDARD
BEGIN:DAYLIGHT
TZOFFSETFROM:+0100
TZOFFSETTO:+0200
TZNAME:CEST
DTSTART:20260329T010000
END:DAYLIGHT
BEGIN:STANDARD
TZOFFSETFROM:+0200
TZOFFSETTO:+0100
TZNAME:CET
DTSTART:20261025T010000
END:STANDARD
END:VTIMEZONE
BEGIN:VEVENT
DTSTART;VALUE=DATE:20250913
DTEND;VALUE=DATE:20250914
DTSTAMP:20260423T052228
CREATED:20250826T070052Z
LAST-MODIFIED:20250826T070052Z
UID:5123-1757721600-1757807999@mein-weiss.de
SUMMARY:Fit and Flow Festival 2025
DESCRIPTION:Dieser Eintrag wird Ihnen zur Verfügung gestellt vom Kölner BilderBogen – eines der beliebtesten Stadtmagazine in Köln. Ihr Termin fehlt? Einfach kostenlos einreichen: www.bilderbogen.de/eventeintrag
URL:https://mein-weiss.de/event/fit-and-flow-festival-2025/
LOCATION:my Figero\, Kelvinstr. 16\, Köln\, 50996
ATTACH;FMTTYPE=image/png:https://mein-weiss.de/wp-content/uploads/2025/08/Bildschirmfoto-2025-08-26-um-08.48.01-670x1024-1.png
END:VEVENT
BEGIN:VEVENT
DTSTART;TZID=Europe/Berlin:20250913T093000
DTEND;TZID=Europe/Berlin:20250913T180000
DTSTAMP:20260423T052228
CREATED:20250911T090100Z
LAST-MODIFIED:20250911T090100Z
UID:5208-1757755800-1757786400@mein-weiss.de
SUMMARY:15. Offene Kölner Rollstuhltennis-Meisterschaften
DESCRIPTION:Traditionsreiches Rollstuhltennis-Turnier für Breiten- und Nachwuchssportler*innen \nDie Gold-Kraemer-Stiftung veranstaltet im Rahmen des Projekts „Tennis für Alle“ am 13. und 14. September 2025 die 15. Auflage der Offenen Kölner Rollstuhltennis-Meisterschaften. Auf dem Gelände des Marienburger SC an der Schillingsrotter Straße 99 in Köln-Rodenkirchen kommen Nachwuchs- und Breitensportler*innen aus ganz Deutschland zusammen. \nDie 15. Offenen Kölner Rollstuhltennis-Meisterschaften sind Teil der nationalen Turnierserie des Deutschen Tennis Bundes: dem „DTB-Rollstuhltennis-Race“. Sie richtet sich an Breitensportler*innen\, die in den Startklassen „Herren“ und „Damen“ für die deutsche Rangliste Punkte sammeln können. \nParallel zum Wettbewerb der Erwachsenen richtet das Team der Gold-Kraemer-Stiftung\, rund um Projektleiter und Rollstuhltennis-Bundestrainer Niklas Höfken\, auch in diesem Jahr die „2. Wheelchair Junior Open“ aus – ein internationales Event der Kategorie „Junior Series“. Das Turnier ist das einzige seiner Art in Deutschland\, bei dem der Rollstuhltennis-Nachwuchs um Weltranglistenpunkte spielen kann. Es werden in Köln die stärksten Jugendlichen der Welt erwartet. Einige von ihnen treten in der Woche zuvor noch beim Rollstuhl-Event der US Open an. \nZuschauer*innen sind bereits am Samstag\, 13. September\, von 9.30 Uhr bis 18 Uhr herzlich eingeladen\, die Spiele zu verfolgen. Am Sonntag\, 14. September\, 9.30 Uhr\, starten dann zunächst die Viertel- und Halbfinals\, die Finalspiele werden um 13.30 Uhr erwartet. Auch hier sind Zuschauer*innen herzlich eingeladen\, vorbeizuschauen. Der Eintritt ist frei. Bei schlechter Witterung werden die Begegnungen in der Tennishalle auf dem Vereinsgelände des MSC ausgetragen. \n\nDieser Eintrag wird Ihnen zur Verfügung gestellt vom Kölner BilderBogen – eines der beliebtesten Stadtmagazine in Köln. Ihr Termin fehlt? Einfach kostenlos einreichen: www.bilderbogen.de/eventeintrag
URL:https://mein-weiss.de/event/15-offene-koelner-rollstuhltennis-meisterschaften/
LOCATION:Marienburger Sportclub 1920 e.V.\, Schillingsrotter Str. 99\, Köln\, NRW\, 50996\, Deutschland
END:VEVENT
BEGIN:VEVENT
DTSTART;TZID=Europe/Berlin:20250913T100000
DTEND;TZID=Europe/Berlin:20250913T160000
DTSTAMP:20260423T052228
CREATED:20250903T110052Z
LAST-MODIFIED:20250903T110052Z
UID:5159-1757757600-1757779200@mein-weiss.de
SUMMARY:Fernweh? Info-Veranstaltung zu Auslandsaufenthalten\,JuBi – Die JugendBildungsmesse
DESCRIPTION:JuBi in Köln zu Gast\nWer sich zu den aktuellen Möglichkeiten eines längeren Auslandsaufenthaltes informieren möchte\, der sollte sich die JugendBildungsmesse “JuBi” in Köln nicht entgehen lassen. Die Spezialmesse für Auslandsaufenthalte ist am Samstag\, den 13. September 2025\, von 10 bis 16 Uhr an der Königin-Luise-Schule zu Gast und steht allen Schüler:innen\, jungen Erwachsenen und Eltern aus Köln und Umgebung offen. Der Eintritt ist frei. \nWarum jetzt planen?\nDie Welt steht offen: High School in Australien\, Au-Pair in den Irland oder Freiwilligenarbeit in Europa – die Möglichkeiten sind vielfältig für ein Auslandsjahr oder Gap Year. Eine gute Vorbereitung ist der Schlüssel zu einem erfolgreichen Fernweh-Abenteuer und jetzt ist der ideale Zeitpunkt\, um für eine Ausreise in 2026 Programme zu vergleichen\, Bewerbungen vorzubereiten und Finanzierungsmöglichkeiten zu prüfen. Die JuBi bietet dir die Möglichkeit\, frühzeitig mit internationalen Bildungsexpert:innen und ehemaligen Teilnehmer:innen ins Gespräch zu kommen. Lass dich von ihren Erfahrungen inspirieren und finde heraus\, welches Programm zu dir passt! \nIndividuelle Beratung und Unterstützung vor Ort\nNeben den vielen Aussteller:innen ist auch der unabhängige Bildungsberatungsdienst weltweiser als Veranstalter in Köln mit einem Infostand vor Ort. Hier erhältst du eine persönliche Beratung zu deinen Möglichkeiten und zur Finanzierung deines Aufenthalts. Thomas Terbeck\, Gründer von weltweiser\, betont: „Die Vorbereitung auf einen Auslandsaufenthalt benötigt viel Zeit und Geduld. Unterstützung in dieser Phase ist die Voraussetzung für eine erfolgreiche Auslandserfahrung.“ \nDie JuBi ist eine der größten Spezial-Messen zum Thema „Bildung im Ausland“ und tourt jährlich mit über 60 Terminen durch Deutschland und Österreich. Sie bietet dir nicht nur Einblicke in die vielfältigen Programme\, sondern auch die Chance\, direkt Kontakte zu knüpfen und konkrete Fragen zu stellen. Weitere Informationen gibt es unter weltweiser.de. \nKurz und bündig:\nJuBi – Die JugendBildungsmesse in Köln\n13. September 2025 | 10 bis 16 Uhr\nKönigin-Luise-Schule | Der Eintritt ist frei!\nAlle Infos: https://weltweiser.de/jubi-messe-koeln/ \n\nDieser Eintrag wird Ihnen zur Verfügung gestellt vom Kölner BilderBogen – eines der beliebtesten Stadtmagazine in Köln. Ihr Termin fehlt? Einfach kostenlos einreichen: www.bilderbogen.de/eventeintrag
URL:https://mein-weiss.de/event/fernweh-info-veranstaltung-zu-auslandsaufenthaltenjubi-die-jugendbildungsmesse/
LOCATION:Königen-Luise -Schule\, Alte Wallgasse 10\, Köln\, 50682
END:VEVENT
BEGIN:VEVENT
DTSTART;TZID=Europe/Berlin:20250913T100000
DTEND;TZID=Europe/Berlin:20250913T190000
DTSTAMP:20260423T052228
CREATED:20250821T080104Z
LAST-MODIFIED:20250821T090053Z
UID:5099-1757757600-1757790000@mein-weiss.de
SUMMARY:Alius zu Gast bei Via Moda
DESCRIPTION:Am 12. und 13.09.2025 zeigen wir kreativen Schmuck aus der neusten Kollektion von Kathrin Alius zusammen mit unserer Herbst-Kollektion. \nDie Künstlerin wird selbst anwesend sein. \n \n\nDieser Eintrag wird Ihnen zur Verfügung gestellt vom Kölner BilderBogen – eines der beliebtesten Stadtmagazine in Köln. Ihr Termin fehlt? Einfach kostenlos einreichen: www.bilderbogen.de/eventeintrag
URL:https://mein-weiss.de/event/alius-zu-gast-bei-via-moda-4/
LOCATION:Via Moda\, Hauptstraße 102\, Köln\, NRW\, 50996\, Deutschland
ATTACH;FMTTYPE=image/png:https://mein-weiss.de/wp-content/uploads/2025/08/Plakat_Alius_A1_final_Neu-723x1024-1.png
END:VEVENT
BEGIN:VEVENT
DTSTART;TZID=Europe/Berlin:20250913T110000
DTEND;TZID=Europe/Berlin:20250913T190000
DTSTAMP:20260423T052228
CREATED:20250818T090046Z
LAST-MODIFIED:20250818T090046Z
UID:5080-1757761200-1757790000@mein-weiss.de
SUMMARY:Tag der offenen Tür bei den Wassersportfreunden31 Köln e.V. in Rodenkirchen
DESCRIPTION:Tag der offenen Tür WSF31\, Schnupperpaddeln \nBildquelle : Sabine Musshoff -WSF31 \n\nDieser Eintrag wird Ihnen zur Verfügung gestellt vom Kölner BilderBogen – eines der beliebtesten Stadtmagazine in Köln. Ihr Termin fehlt? Einfach kostenlos einreichen: www.bilderbogen.de/eventeintrag
URL:https://mein-weiss.de/event/tag-der-offenen-tuer-bei-den-wassersportfreunden31-koeln-e-v-in-rodenkirchen/
LOCATION:Wassersportfreunden31 Köln e.V. in Rodenkirchen\, Uferstr. 49d\, Köln\, 50996
ATTACH;FMTTYPE=image/png:https://mein-weiss.de/wp-content/uploads/2025/08/Bildschirmfoto-2025-08-18-um-10.32.01-663x1024-1.png
END:VEVENT
BEGIN:VEVENT
DTSTART;TZID=Europe/Berlin:20250913T120000
DTEND;TZID=Europe/Berlin:20250913T180000
DTSTAMP:20260423T052228
CREATED:20250909T110057Z
LAST-MODIFIED:20250909T110057Z
UID:5182-1757764800-1757786400@mein-weiss.de
SUMMARY:Spielzeitfest 2025/26 im COMEDIA Theater in Köln
DESCRIPTION:Die COMEDIA eröffnet am Samstag\, den 13.9. die neue Spielzeit nicht nur mit einer Premiere\, sondern auch mit dem jährlichen Straßenfest. Dafür sperren wir – wie auch schon im letzten Jahr – die Straße und laden dazu ein\, den Tag mit vielen Programmpunkten bei und mit uns zu verbringen. \nFest zur Spielzeiteröffnung: Samstag\, 13. September 2025 12–18 Uhr \nim und vor dem COMEDIA Theater\, Vondelstraße 4–8\, 50677 Köln \nDas Programm geht von 12–18 Uhr. \nIm Rahmen des Tages des offenen Denkmals laden wir zusammen mit der Feuerwehr um 12 Uhr zu einer Familienführung durch das Theater. \nAb 13 Uhr gibt es auf der Straße ein musikalisches Programm. \nKinder können ihrer Kreativität an Basteltischen freien Lauf lassen und auf der Vondelstraße ist Platz zum Spielen. Ludmilla de Grussa wird personalisierte Gedichte für Besucher*innen schreiben und Kinder sind eingeladen zur „Zirkusstunde mit Simon“. Zum ersten Mal gibt es ein Karussell und einen Crêpes-Stand. An der große Tafel können Menschen gekauftes oder mitgebrachtes Essen und Trinken genießen. \nIm Roten Saal zeigen zwei der Theaterkollektive ihre Stücke\, die beim BOHEI Festival im Juni Premiere hatten:\num 13 Uhr spielen die Utopist*innen „FÜNFZEHN vor weltuntergang“ und\num 17 Uhr zeigen die Urbanist*innen „Liebling\, der Honig brennt“\n(Bei diesen beiden Vorstellungen ist der Eintritt frei!) \nDas ausführliche Programm finden Sie hier online: https://www.comedia-koeln.de/magazin/spielzeiteroeffnung-25-26/ \nUm 18 Uhr ist die dann erste Premiere der Saison: „Riesen Probleme“ (6+).  (Für diese Vorstellung muss man Tickets kaufen.) \n\nDieser Eintrag wird Ihnen zur Verfügung gestellt vom Kölner BilderBogen – eines der beliebtesten Stadtmagazine in Köln. Ihr Termin fehlt? Einfach kostenlos einreichen: www.bilderbogen.de/eventeintrag
URL:https://mein-weiss.de/event/spielzeitfest-2025-26-im-comedia-theater-in-koeln/
LOCATION:Comedia Theater\, Vondelstr. 4-8\, Köln\, Bundesstaat wählen:\, 50677\, Deutschland
END:VEVENT
BEGIN:VEVENT
DTSTART;TZID=Europe/Berlin:20250913T150000
DTEND;TZID=Europe/Berlin:20250913T220000
DTSTAMP:20260423T052228
CREATED:20250804T110044Z
LAST-MODIFIED:20250804T110044Z
UID:4904-1757775600-1757800800@mein-weiss.de
SUMMARY:Ackerparty 2025
DESCRIPTION:Zum 18. Mal findet am Samstag\, dem 13. September die Ackerparty\, das legendäre und größte Jugend-Rockfestival im Kölner Süden statt. Ab 15 Uhr treten auf zwei Bühnen etliche Newcomer und etablierte Bands auf. Ihr könnt Euch freuen auf die bekannten Stimmen von u.a. Soulful Pack\, Deltido Blair\, Frisch vom Bass und Merlin’s Way. Von Rap über Rock-Pop bis Chor und mit vielen Klassikern zum Mittanzen und Schunkeln ist für jeden und jede etwas dabei! \nDie Pänz können sich auf der Hüpfburg austoben\, während Jung und Alt brandneuen Songs lauscht oder zu den Klassikern aus Pop und Rock mitsingt. \nDas Festival ist wie immer kostenlos und bietet eine große Auswahl günstiger Speisen und Getränke sowie ein vielfältiges Angebot für Kinder mit der ganzen Familie und Freunden. \nBildquelle: Haus der Familie \n\nDieser Eintrag wird Ihnen zur Verfügung gestellt vom Kölner BilderBogen – eines der beliebtesten Stadtmagazine in Köln. Ihr Termin fehlt? Einfach kostenlos einreichen: www.bilderbogen.de/eventeintrag
URL:https://mein-weiss.de/event/ackerparty-2025/
LOCATION:Ackerparty Rondorf\, Kapellenstraße\, Köln\, NRW\, 50997\, Deutschland
ATTACH;FMTTYPE=image/png:https://mein-weiss.de/wp-content/uploads/2025/08/Bildschirmfoto-2025-08-04-um-12.38.03-723x1024-1.png
END:VEVENT
BEGIN:VEVENT
DTSTART;TZID=Europe/Berlin:20250913T183000
DTEND;TZID=Europe/Berlin:20250913T233000
DTSTAMP:20260423T052228
CREATED:20250811T100048Z
LAST-MODIFIED:20250811T110044Z
UID:4982-1757788200-1757806200@mein-weiss.de
SUMMARY:Harmonie in Europa – Internationale Chorbegegnung Immendorf
DESCRIPTION:Dieser Eintrag wird Ihnen zur Verfügung gestellt vom Kölner BilderBogen – eines der beliebtesten Stadtmagazine in Köln. Ihr Termin fehlt? Einfach kostenlos einreichen: www.bilderbogen.de/eventeintrag
URL:https://mein-weiss.de/event/harmonie-in-europa-internationale-chorbegegnung-immendorf/
LOCATION:Festzelt Immendorf\, Godorfer Str.
ATTACH;FMTTYPE=image/png:https://mein-weiss.de/wp-content/uploads/2025/08/Bildschirmfoto-2025-08-11-um-11.13.30-787x1024-1.png
END:VEVENT
BEGIN:VEVENT
DTSTART;TZID=Europe/Berlin:20250913T200000
DTEND;TZID=Europe/Berlin:20250913T223000
DTSTAMP:20260423T052228
CREATED:20250813T080049Z
LAST-MODIFIED:20250813T080049Z
UID:5002-1757793600-1757802600@mein-weiss.de
SUMMARY:Der Zauberer von Oz – Live-Hörspiel Köln Interaktives Hörspiel
DESCRIPTION:Theaterstücke\, Lesungen und Hörspiele kennen alle. Doch was passiert\, wenn man diese drei Kunstformen miteinander verschmilzt? Es entsteht ein faszinierendes und einzigartiges Bühnenereignis: ein interaktives Live-Hörspiel!\nMit Kreativität und Spielfreude erweckt das Ensemble von Live-Hörspiel Köln den zeitlosen Klassiker „Der Zauberer von Oz“ in einer innovativen Form zu neuem Leben. \nMit ihren vielseitigen Stimmen hauchen die drei Schauspielerinnen den fantasievollen Figuren des berühmten Romans von L. Frank Baum Leben ein. Mit Witz\, Spannung und aktuellen Bezügen erzählen sie die Geschichte von Dorothy\, die ein plötzlicher Wirbelsturm in das geheimnisvolle Land Oz katapultiert hat. Nun muss sie versuchen\, den Weg zurück nach Hause zu finden. Dabei trifft sie auf eine Vogelscheuche ohne Hirn\, einen Blechmann ohne Herz und einen Löwen ohne Mut. Gemeinsam stellen sie sich zahlreichen Gefahren und Abenteuern und entdecken dabei\, dass nichts so ist\, wie es scheint.\nDas Besondere an diesem Theaterabend: Die Zuschauenden können nicht nur gebannt lauschen\, sondern auch live verfolgen\, wie die Geräusche der Geschichte auf der Bühne aus Alltagsgegenständen entstehen\, die man so vielleicht nie mit einem Theatersaal in Verbindung bringen würde: Dann wird schon mal eine Mülltüte zum Tornado\, eine Kokosnuss zu hämmernden Schritten.\nUnd sogar das Publikum selbst wird Teil der akustischen Kulisse. Vom eigenen Sitzplatz aus kann es sich nach Lust und Laune etwa als Wirbelsturm durch den Theatersaal heulen oder mit seinen Stimmen gemeinsam einen Schwarm fliegender Affen entstehen lassen. Dieser interaktive Ansatz macht das Live-Hörspiel zu einem echten Highlight\, das lange in Erinnerung bleibt. \nlivehoerspiel.koeln \n\n\n\nTheater 509\n\n\nAK 23\,- €/ 19\,- € (erm) / VVK 19\,- € / 15\,- € (erm) (+Gebühren)\n\n\n\n\n\n\nBildquelle: Pressebild – Live Hörspiel Köln \n\nDieser Eintrag wird Ihnen zur Verfügung gestellt vom Kölner BilderBogen – eines der beliebtesten Stadtmagazine in Köln. Ihr Termin fehlt? Einfach kostenlos einreichen: www.bilderbogen.de/eventeintrag
URL:https://mein-weiss.de/event/der-zauberer-von-oz-live-hoerspiel-koeln-interaktives-hoerspiel-2/
LOCATION:Theater509 Bürgerhaus Stollwerck\, Dreikönigenstraße 23\, Köln\, 50678
ATTACH;FMTTYPE=image/png:https://mein-weiss.de/wp-content/uploads/2025/08/Bildschirmfoto-2025-08-13-um-09.38.00.png
END:VEVENT
BEGIN:VEVENT
DTSTART;TZID=Europe/Berlin:20250913T200000
DTEND;TZID=Europe/Berlin:20250913T223000
DTSTAMP:20260423T052228
CREATED:20250902T080126Z
LAST-MODIFIED:20250902T080126Z
UID:5143-1757793600-1757802600@mein-weiss.de
SUMMARY:„Shalasunshine“ – Sing & Strum auf dem Böötchen
DESCRIPTION:Liebe Sängerinnen und Sänger\, Ukulelistas\, Gitarreros\, Bassisten\, Quetschisten und alle anderen\, die nach Akkorden spielen können! \nBei der nächsten nächsten „Sing & Strum“-Veranstaltung am 13.09. wird auf dem Böötchen gesungen und geschrammelt\, bis die Planken wanken!\nDie Songs werden per Beamer auf eine Leinwand projiziert\, sodass alle problemlos mitsingen und -spielen können. Für die Ukulelistas gibt es obendrein sogar noch die Griffbilder dazu.\nSchreibt bei Interesse gerne an „schrammelschorsch@online.de„\, dann erhaltet ihr nähere Infos. \n\nDieser Eintrag wird Ihnen zur Verfügung gestellt vom Kölner BilderBogen – eines der beliebtesten Stadtmagazine in Köln. Ihr Termin fehlt? Einfach kostenlos einreichen: www.bilderbogen.de/eventeintrag
URL:https://mein-weiss.de/event/shalasunshine-sing-strum-auf-dem-boeoetchen/
LOCATION:MS Bootshaus Rodenkirchen\, Rodenkirchener Leinpfad\, Köln\, NRW\, 50996\, Deutschland
END:VEVENT
END:VCALENDAR