BEGIN:VCALENDAR
VERSION:2.0
PRODID:-//Dorfgemeinschaft Weiss - ECPv6.15.20//NONSGML v1.0//EN
CALSCALE:GREGORIAN
METHOD:PUBLISH
X-WR-CALNAME:Dorfgemeinschaft Weiss
X-ORIGINAL-URL:https://mein-weiss.de
X-WR-CALDESC:Veranstaltungen für Dorfgemeinschaft Weiss
REFRESH-INTERVAL;VALUE=DURATION:PT1H
X-Robots-Tag:noindex
X-PUBLISHED-TTL:PT1H
BEGIN:VTIMEZONE
TZID:Europe/Berlin
BEGIN:DAYLIGHT
TZOFFSETFROM:+0100
TZOFFSETTO:+0200
TZNAME:CEST
DTSTART:20240331T010000
END:DAYLIGHT
BEGIN:STANDARD
TZOFFSETFROM:+0200
TZOFFSETTO:+0100
TZNAME:CET
DTSTART:20241027T010000
END:STANDARD
BEGIN:DAYLIGHT
TZOFFSETFROM:+0100
TZOFFSETTO:+0200
TZNAME:CEST
DTSTART:20250330T010000
END:DAYLIGHT
BEGIN:STANDARD
TZOFFSETFROM:+0200
TZOFFSETTO:+0100
TZNAME:CET
DTSTART:20251026T010000
END:STANDARD
BEGIN:DAYLIGHT
TZOFFSETFROM:+0100
TZOFFSETTO:+0200
TZNAME:CEST
DTSTART:20260329T010000
END:DAYLIGHT
BEGIN:STANDARD
TZOFFSETFROM:+0200
TZOFFSETTO:+0100
TZNAME:CET
DTSTART:20261025T010000
END:STANDARD
END:VTIMEZONE
BEGIN:VEVENT
DTSTART;TZID=Europe/Berlin:20250830T110000
DTEND;TZID=Europe/Berlin:20250831T010000
DTSTAMP:20260423T052109
CREATED:20250812T080038Z
LAST-MODIFIED:20250812T080038Z
UID:4999-1756551600-1756602000@mein-weiss.de
SUMMARY:Sommerfest LorDation II-Rodenkirchen
DESCRIPTION:Dieser Eintrag wird Ihnen zur Verfügung gestellt vom Kölner BilderBogen – eines der beliebtesten Stadtmagazine in Köln. Ihr Termin fehlt? Einfach kostenlos einreichen: www.bilderbogen.de/eventeintrag
URL:https://mein-weiss.de/event/sommerfest-lordation-ii-rodenkirchen/
LOCATION:LORDation\, Weißer Straße 147\, Köln\, NRW\, 50999\, Deutschland
ATTACH;FMTTYPE=image/png:https://mein-weiss.de/wp-content/uploads/2025/08/Bildschirmfoto-2025-08-12-um-09.49.29-358x1024-1.png
END:VEVENT
BEGIN:VEVENT
DTSTART;TZID=Europe/Berlin:20250831T100000
DTEND;TZID=Europe/Berlin:20250831T180000
DTSTAMP:20260423T052109
CREATED:20250402T110054Z
LAST-MODIFIED:20250402T110054Z
UID:4201-1756634400-1756663200@mein-weiss.de
SUMMARY:2.  Charity-Golfturnier
DESCRIPTION:Dieser Eintrag wird Ihnen zur Verfügung gestellt vom Kölner BilderBogen – eines der beliebtesten Stadtmagazine in Köln. Ihr Termin fehlt? Einfach kostenlos einreichen: www.bilderbogen.de/eventeintrag
URL:https://mein-weiss.de/event/2-charity-golfturnier/
LOCATION:Golfanlage Römerhof\, Römerhof 1\, Bornheim\, 53332
ATTACH;FMTTYPE=image/png:https://mein-weiss.de/wp-content/uploads/2025/04/Bildschirmfoto-2025-04-02-um-12.22.00-727x1024-1.png
END:VEVENT
BEGIN:VEVENT
DTSTART;TZID=Europe/Berlin:20250831T160000
DTEND;TZID=Europe/Berlin:20250831T220000
DTSTAMP:20260423T052109
CREATED:20250708T090045Z
LAST-MODIFIED:20250708T090045Z
UID:4792-1756656000-1756677600@mein-weiss.de
SUMMARY:MINI DESIGNMARKT in der Wachsfabrik
DESCRIPTION:Der G’ART’EN und die Ateliers 4\, 7 und 8 strahlen in der Zeit von 14 – 18 Uhr mit den hippsten handmade Labels und vielen nachhaltigen Produkten aus der Region. \nSTREETFOOD. SOUNDS & HANDMADE GOODS. \nEs erwarten dich \n💚 lässige DJ-Beats \n💚 bestes Soulfood & Drinks \n💚 DIY Workshops \n💚 Tattoo Spot \n💚 und die schönsten Lofts \n\nDieser Eintrag wird Ihnen zur Verfügung gestellt vom Kölner BilderBogen – eines der beliebtesten Stadtmagazine in Köln. Ihr Termin fehlt? Einfach kostenlos einreichen: www.bilderbogen.de/eventeintrag
URL:https://mein-weiss.de/event/mini-designmarkt-in-der-wachsfabrik/
LOCATION:NRW
ATTACH;FMTTYPE=image/png:https://mein-weiss.de/wp-content/uploads/2025/07/Bildschirmfoto-2025-07-08-um-10.52.00-1024x576-1.png
END:VEVENT
END:VCALENDAR