BEGIN:VCALENDAR
VERSION:2.0
PRODID:-//Dorfgemeinschaft Weiss - ECPv6.15.20//NONSGML v1.0//EN
CALSCALE:GREGORIAN
METHOD:PUBLISH
X-WR-CALNAME:Dorfgemeinschaft Weiss
X-ORIGINAL-URL:https://mein-weiss.de
X-WR-CALDESC:Veranstaltungen für Dorfgemeinschaft Weiss
REFRESH-INTERVAL;VALUE=DURATION:PT1H
X-Robots-Tag:noindex
X-PUBLISHED-TTL:PT1H
BEGIN:VTIMEZONE
TZID:Europe/Berlin
BEGIN:DAYLIGHT
TZOFFSETFROM:+0100
TZOFFSETTO:+0200
TZNAME:CEST
DTSTART:20240331T010000
END:DAYLIGHT
BEGIN:STANDARD
TZOFFSETFROM:+0200
TZOFFSETTO:+0100
TZNAME:CET
DTSTART:20241027T010000
END:STANDARD
BEGIN:DAYLIGHT
TZOFFSETFROM:+0100
TZOFFSETTO:+0200
TZNAME:CEST
DTSTART:20250330T010000
END:DAYLIGHT
BEGIN:STANDARD
TZOFFSETFROM:+0200
TZOFFSETTO:+0100
TZNAME:CET
DTSTART:20251026T010000
END:STANDARD
BEGIN:DAYLIGHT
TZOFFSETFROM:+0100
TZOFFSETTO:+0200
TZNAME:CEST
DTSTART:20260329T010000
END:DAYLIGHT
BEGIN:STANDARD
TZOFFSETFROM:+0200
TZOFFSETTO:+0100
TZNAME:CET
DTSTART:20261025T010000
END:STANDARD
END:VTIMEZONE
BEGIN:VEVENT
DTSTART;TZID=Europe/Berlin:20250827T100000
DTEND;TZID=Europe/Berlin:20250827T120000
DTSTAMP:20260425T141627
CREATED:20250804T110039Z
LAST-MODIFIED:20250811T070040Z
UID:4899-1756288800-1756296000@mein-weiss.de
SUMMARY:persönlicher Polit-Talk mit Lars Wolfram\, VOLT
DESCRIPTION:Frühstücken Sie gemeinsam mit den OB-Kandidaten und stellen Ihre Fragen \nTeilnahme nur nach vorheriger Anmeldung möglich. \n\nDieser Eintrag wird Ihnen zur Verfügung gestellt vom Kölner BilderBogen – eines der beliebtesten Stadtmagazine in Köln. Ihr Termin fehlt? Einfach kostenlos einreichen: www.bilderbogen.de/eventeintrag
URL:https://mein-weiss.de/event/persoenlicher-polit-talk-mit-lars-wolfram-volt/
LOCATION:ASB Service-Wohnen\, Ringstr. 28\, Köln\, 50996
END:VEVENT
BEGIN:VEVENT
DTSTART;TZID=Europe/Berlin:20250827T163000
DTEND;TZID=Europe/Berlin:20250827T180000
DTSTAMP:20260425T141627
CREATED:20250730T080037Z
LAST-MODIFIED:20250730T080037Z
UID:4886-1756312200-1756317600@mein-weiss.de
SUMMARY:Shared reading in der Villa AWO
DESCRIPTION:Gemeinsam lesen und in Begegnung sein.\nDie Kraft der Literatur spüren.\nFühlen\, was uns als Menschen verbindet. \nSHARED READING ist offen für alle\, immer kostenfrei und ermöglicht lebendige und warmherzige Begegnungen in Gemeinschaft. \n\nDieser Eintrag wird Ihnen zur Verfügung gestellt vom Kölner BilderBogen – eines der beliebtesten Stadtmagazine in Köln. Ihr Termin fehlt? Einfach kostenlos einreichen: www.bilderbogen.de/eventeintrag
URL:https://mein-weiss.de/event/shared-reading-in-der-villa-awo-7/
LOCATION:Villa AWO\, Walther-Rathenau-Str. 9\, Köln\, NRW\, 50996\, Deutschland
ATTACH;FMTTYPE=image/png:https://mein-weiss.de/wp-content/uploads/2025/07/Bildschirmfoto-2025-07-30-um-08.50.51-718x1024-1.png
ORGANIZER;CN="AWO":MAILTO:gemeinsamsindwirstaerker@awo-koeln.de
END:VEVENT
END:VCALENDAR