BEGIN:VCALENDAR
VERSION:2.0
PRODID:-//Dorfgemeinschaft Weiss - ECPv6.15.20//NONSGML v1.0//EN
CALSCALE:GREGORIAN
METHOD:PUBLISH
X-WR-CALNAME:Dorfgemeinschaft Weiss
X-ORIGINAL-URL:https://mein-weiss.de
X-WR-CALDESC:Veranstaltungen für Dorfgemeinschaft Weiss
REFRESH-INTERVAL;VALUE=DURATION:PT1H
X-Robots-Tag:noindex
X-PUBLISHED-TTL:PT1H
BEGIN:VTIMEZONE
TZID:Europe/Berlin
BEGIN:DAYLIGHT
TZOFFSETFROM:+0100
TZOFFSETTO:+0200
TZNAME:CEST
DTSTART:20240331T010000
END:DAYLIGHT
BEGIN:STANDARD
TZOFFSETFROM:+0200
TZOFFSETTO:+0100
TZNAME:CET
DTSTART:20241027T010000
END:STANDARD
BEGIN:DAYLIGHT
TZOFFSETFROM:+0100
TZOFFSETTO:+0200
TZNAME:CEST
DTSTART:20250330T010000
END:DAYLIGHT
BEGIN:STANDARD
TZOFFSETFROM:+0200
TZOFFSETTO:+0100
TZNAME:CET
DTSTART:20251026T010000
END:STANDARD
BEGIN:DAYLIGHT
TZOFFSETFROM:+0100
TZOFFSETTO:+0200
TZNAME:CEST
DTSTART:20260329T010000
END:DAYLIGHT
BEGIN:STANDARD
TZOFFSETFROM:+0200
TZOFFSETTO:+0100
TZNAME:CET
DTSTART:20261025T010000
END:STANDARD
END:VTIMEZONE
BEGIN:VEVENT
DTSTART;TZID=Europe/Berlin:20250818T090000
DTEND;TZID=Europe/Berlin:20250822T140000
DTSTAMP:20260423T052325
CREATED:20250603T090056Z
LAST-MODIFIED:20250603T090056Z
UID:4636-1755507600-1755871200@mein-weiss.de
SUMMARY:Fußball Sommercamp 2025 vom 18.08.2025 bis 22.08.2025
DESCRIPTION:Fußball Sommercamp 2025      Stefan Rygol \nvom 18.08.205 bis zum 22.08.2025 jeweils von 9:00 bis 14:00 Uhr \nbei Nachfragen :  Handy  015774101880    oder      mailto:nc-rygolst2@netcologne.de \n  \n  \n\nDieser Eintrag wird Ihnen zur Verfügung gestellt vom Kölner BilderBogen – eines der beliebtesten Stadtmagazine in Köln. Ihr Termin fehlt? Einfach kostenlos einreichen: www.bilderbogen.de/eventeintrag
URL:https://mein-weiss.de/event/fussball-sommercamp-2025-vom-18-08-2025-bis-22-08-2025/
LOCATION:Bezirkssportanlage Köln-Rodenkirchen\, Sürther Str. 195\, Köln\, 50999
ATTACH;FMTTYPE=image/png:https://mein-weiss.de/wp-content/uploads/2025/06/Bildschirmfoto-2025-06-03-um-10.05.11-595x1024-1.png
ORGANIZER;CN="Stefan Rygol":MAILTO:nc-rygolst2@netcologne.de
END:VEVENT
BEGIN:VEVENT
DTSTART;TZID=Europe/Berlin:20250821T100000
DTEND;TZID=Europe/Berlin:20250821T120000
DTSTAMP:20260423T052325
CREATED:20250804T110037Z
LAST-MODIFIED:20250804T110037Z
UID:4898-1755770400-1755777600@mein-weiss.de
SUMMARY:Frühstück mit Roberto Campione\, KSG\, OB-Kandidat
DESCRIPTION:Die von uns (ASB) angebotene politische Fragestunde war gut besucht. Auch das anschließende persönliche Gespräch mit den Politikern kam sehr gut bei Ihnen an. Daher möchten wir Ihnen die Gelegenheit geben\, Ihre offen gebliebenen Fragen noch einmal den Politikern zu stellen\, und zwar bei einem Frühstück mit Kaffee und Croissants. Wir laden jeweils einen der OB-Kandidaten und die Kommunalpolitiker ein\, die Ihnen dann in kleiner Runde Rede und Antwort stehen werden.\nBitte melden Sie sich für unsere bessere Planung unter 0221 66 007 651 an. Denn eine Teilnahme ist nur mit vorheriger telefonischer Anmeldung möglich. \n\nDieser Eintrag wird Ihnen zur Verfügung gestellt vom Kölner BilderBogen – eines der beliebtesten Stadtmagazine in Köln. Ihr Termin fehlt? Einfach kostenlos einreichen: www.bilderbogen.de/eventeintrag
URL:https://mein-weiss.de/event/fruehstueck-mit-roberto-campione-ksg-ob-kandidat/
LOCATION:ASB Service-Wohnen\, Ringstr. 28\, Köln\, 50996
END:VEVENT
END:VCALENDAR