BEGIN:VCALENDAR
VERSION:2.0
PRODID:-//Dorfgemeinschaft Weiss - ECPv6.15.20//NONSGML v1.0//EN
CALSCALE:GREGORIAN
METHOD:PUBLISH
X-WR-CALNAME:Dorfgemeinschaft Weiss
X-ORIGINAL-URL:https://mein-weiss.de
X-WR-CALDESC:Veranstaltungen für Dorfgemeinschaft Weiss
REFRESH-INTERVAL;VALUE=DURATION:PT1H
X-Robots-Tag:noindex
X-PUBLISHED-TTL:PT1H
BEGIN:VTIMEZONE
TZID:Europe/Berlin
BEGIN:DAYLIGHT
TZOFFSETFROM:+0100
TZOFFSETTO:+0200
TZNAME:CEST
DTSTART:20240331T010000
END:DAYLIGHT
BEGIN:STANDARD
TZOFFSETFROM:+0200
TZOFFSETTO:+0100
TZNAME:CET
DTSTART:20241027T010000
END:STANDARD
BEGIN:DAYLIGHT
TZOFFSETFROM:+0100
TZOFFSETTO:+0200
TZNAME:CEST
DTSTART:20250330T010000
END:DAYLIGHT
BEGIN:STANDARD
TZOFFSETFROM:+0200
TZOFFSETTO:+0100
TZNAME:CET
DTSTART:20251026T010000
END:STANDARD
BEGIN:DAYLIGHT
TZOFFSETFROM:+0100
TZOFFSETTO:+0200
TZNAME:CEST
DTSTART:20260329T010000
END:DAYLIGHT
BEGIN:STANDARD
TZOFFSETFROM:+0200
TZOFFSETTO:+0100
TZNAME:CET
DTSTART:20261025T010000
END:STANDARD
END:VTIMEZONE
BEGIN:VEVENT
DTSTART;TZID=Europe/Berlin:20250625T000000
DTEND;TZID=Europe/Berlin:20250815T235959
DTSTAMP:20260423T080712
CREATED:20250623T090044Z
LAST-MODIFIED:20250623T100044Z
UID:4725-1750809600-1755302399@mein-weiss.de
SUMMARY:Kunstausstellung
DESCRIPTION:Zwei Perspektiven: In dieser Ausstellung treffen zwei künstlerische Handschriften aufeinander\, die auf individuelle Weise mit Material\, Struktur und Ausdruck arbeiten – und genau darin ihren Reiz entfalten. \nFabian Eickeler\, ausgebildeter Kommunikationsdesigner\, widmet sich in seinen Arbeiten der freien Kunst\, dem Objekt und der Fotografie. Seine Werke entstehen aus Acrylfarbe\,  Spachtelmasse und Gaffer Tape – kraftvolle\, strukturierte Kompositionen\, in denen Material und Idee eine Einheit bilden. \nDie künstlerische Laufbahn von Vera P. Frank verlief u.a. in der Hochschule der Künste Berlin und wurde durch Privat-Unterricht vertieft. Thema ihrer Ausstellung:\nPoesie der Vergänglichkeit\n– Strukturen –\nBaum – Stahl – Rost – Beton – Natur\nIhre Ausstellung zeigt Fotografien und collagenartig montierte Fotos auf gemalten Bilder\, die die unterschiedlichen Strukturen im Prozess der Vergänglichkeit in ihrer lebendigen bis morbiden Schönheit wiedergeben. \nMEET THE ARTISTS:\nPersönlich anzutreffen sind die Künstler*innen am 04.07. von 18:00 bis 20:00 Uhr sowie am 05.07. von 14:00 bis 18:00 Uhr – die beiden freuen sich auf inspirierende Gespräche! \nReguläre Öffnungszeiten sind jeden Mittwoch und Donnerstag (an Feiertagen geschlossen) von 10:00 Uhr bis 17:00 Uhr.\nWir freuen uns auf euch! \nBildquelle: aboutcommunication-events \n\nDieser Eintrag wird Ihnen zur Verfügung gestellt vom Kölner BilderBogen – eines der beliebtesten Stadtmagazine in Köln. Ihr Termin fehlt? Einfach kostenlos einreichen: www.bilderbogen.de/eventeintrag
URL:https://mein-weiss.de/event/kunstausstellung/
LOCATION:ABOUT:EVENTS\, Barbarastraße 15-17\, Köln\, NRW\, 50996\, Deutschland
ATTACH;FMTTYPE=image/png:https://mein-weiss.de/wp-content/uploads/2025/06/Bildschirmfoto-2025-06-23-um-10.20.36-822x1024-1.png
END:VEVENT
BEGIN:VEVENT
DTSTART;TZID=Europe/Berlin:20250709T123000
DTEND;TZID=Europe/Berlin:20250709T190000
DTSTAMP:20260423T080712
CREATED:20250320T100050Z
LAST-MODIFIED:20250320T100050Z
UID:4071-1752064200-1752087600@mein-weiss.de
SUMMARY:Seniorenfahrt des Senioren-Kreis Köln-Weiss “ Joode Honger\, in Hellenthal\, Kölner Str. 81″
DESCRIPTION:Abfahrt: 12:30 Uhr ab Heinrichstrass 8\, 50999 Köln (bei Altenhoven\, weitere Stopps wie gehabt) \nRückfahrt: etwa 18:00 Uhr \nDer Fahrpreis beträgt jeweils 27\,00€ und beinhaltet Kaffee und Kuchen\, und ist be der Anmeldung zu entrichten. \nAnmeldung bitte bei Frau Witzel\, Telefon 02236/67769 \n\nDieser Eintrag wird Ihnen zur Verfügung gestellt vom Kölner BilderBogen – eines der beliebtesten Stadtmagazine in Köln. Ihr Termin fehlt? Einfach kostenlos einreichen: www.bilderbogen.de/eventeintrag
URL:https://mein-weiss.de/event/seniorenfahrt-des-senioren-kreis-koeln-weiss-joode-honger-in-hellenthal-koelner-str-81/
LOCATION:NRW
END:VEVENT
BEGIN:VEVENT
DTSTART;TZID=Europe/Berlin:20250709T183000
DTEND;TZID=Europe/Berlin:20250709T203000
DTSTAMP:20260423T080712
CREATED:20250617T100049Z
LAST-MODIFIED:20250617T100049Z
UID:4699-1752085800-1752093000@mein-weiss.de
SUMMARY:Geschichtswerkstatt RES 60 – Rodenkirchen erinnert sich
DESCRIPTION:Thema ist das 145. Gründungsjubiläum der Freiwilligen Feuerwehr Rodenkirchen. \nDr. Cornelius Steckner hat aus diesem Anlass Stephan Neuhoff zu einem  \nVortrag eingeladen. Er war bis 2014 Direktor der Kölner Feuerwehr war und ist \nheutiger stellvertretender Vorsitzender des Verbands der Feuerwehren in NRW. \n\nDieser Eintrag wird Ihnen zur Verfügung gestellt vom Kölner BilderBogen – eines der beliebtesten Stadtmagazine in Köln. Ihr Termin fehlt? Einfach kostenlos einreichen: www.bilderbogen.de/eventeintrag
URL:https://mein-weiss.de/event/geschichtswerkstatt-res-60-rodenkirchen-erinnert-sich/
LOCATION:Stadtteil-Bibliothek Rodenkirchen\, Schillingsrotter Str. 38\, Köln\, NRW\, 50996\, Deutschland
ORGANIZER;CN="Literamus e.V.":MAILTO:literamus.rodenkirchen@gmail.com
END:VEVENT
END:VCALENDAR