BEGIN:VCALENDAR
VERSION:2.0
PRODID:-//Dorfgemeinschaft Weiss - ECPv6.15.20//NONSGML v1.0//EN
CALSCALE:GREGORIAN
METHOD:PUBLISH
X-ORIGINAL-URL:https://mein-weiss.de
X-WR-CALDESC:Veranstaltungen für Dorfgemeinschaft Weiss
REFRESH-INTERVAL;VALUE=DURATION:PT1H
X-Robots-Tag:noindex
X-PUBLISHED-TTL:PT1H
BEGIN:VTIMEZONE
TZID:Europe/Berlin
BEGIN:DAYLIGHT
TZOFFSETFROM:+0100
TZOFFSETTO:+0200
TZNAME:CEST
DTSTART:20240331T010000
END:DAYLIGHT
BEGIN:STANDARD
TZOFFSETFROM:+0200
TZOFFSETTO:+0100
TZNAME:CET
DTSTART:20241027T010000
END:STANDARD
BEGIN:DAYLIGHT
TZOFFSETFROM:+0100
TZOFFSETTO:+0200
TZNAME:CEST
DTSTART:20250330T010000
END:DAYLIGHT
BEGIN:STANDARD
TZOFFSETFROM:+0200
TZOFFSETTO:+0100
TZNAME:CET
DTSTART:20251026T010000
END:STANDARD
BEGIN:DAYLIGHT
TZOFFSETFROM:+0100
TZOFFSETTO:+0200
TZNAME:CEST
DTSTART:20260329T010000
END:DAYLIGHT
BEGIN:STANDARD
TZOFFSETFROM:+0200
TZOFFSETTO:+0100
TZNAME:CET
DTSTART:20261025T010000
END:STANDARD
END:VTIMEZONE
BEGIN:VEVENT
DTSTART;TZID=Europe/Berlin:20250624T150000
DTEND;TZID=Europe/Berlin:20250624T220000
DTSTAMP:20260423T110813
CREATED:20250318T100048Z
LAST-MODIFIED:20250318T110047Z
UID:4002-1750777200-1750802400@mein-weiss.de
SUMMARY:Schlemmer- und Abendmarkt in Rodenkirchen 2025
DESCRIPTION:Jeden letzten Dienstag im Monat können sich Anwohner und Besucher auf dem Schlemmer- und Abendmarkt in Rodenkirchen treffen. Hier gibt’s leckere Speisen und tolle Drinks. Die Stände stehen auf dem Maternusplatz. \n29. April 2025\n27. Mai 2025\n24. Juni 2025\n29. Juli 2025\n26. August 2025\n30. September 2025 \nBildquelle: Rolf Kaus \n\nDieser Eintrag wird Ihnen zur Verfügung gestellt vom Kölner BilderBogen – eines der beliebtesten Stadtmagazine in Köln. Ihr Termin fehlt? Einfach kostenlos einreichen: www.bilderbogen.de/eventeintrag
URL:https://mein-weiss.de/event/schlemmer-und-abendmarkt-in-rodenkirchen-2025-2/
LOCATION:Maternusplatz Rodenkirchen\, Maternusplatz 1\, Köln\, NRW\, 50996\, Deutschland
ATTACH;FMTTYPE=image/png:https://mein-weiss.de/wp-content/uploads/2025/03/Bildschirmfoto-2025-03-18-um-10.30.23-1024x760-1.png
END:VEVENT
BEGIN:VEVENT
DTSTART;TZID=Europe/Berlin:20250624T160000
DTEND;TZID=Europe/Berlin:20250624T170000
DTSTAMP:20260423T110813
CREATED:20250526T080051Z
LAST-MODIFIED:20250526T080051Z
UID:4584-1750780800-1750784400@mein-weiss.de
SUMMARY:Bilderbuchkino zur Kinderbuchwoche ‚Junges Buch für die Stadt‘
DESCRIPTION:Bilderbuchkino für Kinder ab 6 Jahren mit unserer Vorlesepatin von LeseWelten . Im diesjährigen Buch von Nikolaus Heidelbach und Ole Könnecke erzählt das Duo eine eine Gutenachtgeschichte zum Mitfiebern\, Mitlachen und Sich-Mitgruseln mit dem Titel: Gutenachtgeschichten für Celeste\nEine Aktionswoche der Stadtbibliothek Köln gemeinsam mit dem Jungen Literaturhaus Köln und dem Kölner Stadt-Anzeiger – diesmal in Kooperation mit dem Hanser Verlag.\nEs ist eine Anmeldung über unser Buchungssystem notwendig. Die Veranstaltung ist kostenlos. \nBildquelle:Hanser Verlag\, Nikolaus Heidelbach\, Ole Könnecke \n\nDieser Eintrag wird Ihnen zur Verfügung gestellt vom Kölner BilderBogen – eines der beliebtesten Stadtmagazine in Köln. Ihr Termin fehlt? Einfach kostenlos einreichen: www.bilderbogen.de/eventeintrag
URL:https://mein-weiss.de/event/bilderbuchkino-zur-kinderbuchwoche-junges-buch-fuer-die-stadt/
LOCATION:Stadtteil-Bibliothek Rodenkirchen\, Schillingsrotter Str. 38\, Köln\, NRW\, 50996\, Deutschland
ATTACH;FMTTYPE=image/png:https://mein-weiss.de/wp-content/uploads/2025/05/Bildschirmfoto-2025-05-26-um-09.39.07.png
END:VEVENT
BEGIN:VEVENT
DTSTART;TZID=Europe/Berlin:20250624T160000
DTEND;TZID=Europe/Berlin:20250624T170000
DTSTAMP:20260423T110813
CREATED:20250617T100040Z
LAST-MODIFIED:20250617T100040Z
UID:4690-1750780800-1750784400@mein-weiss.de
SUMMARY:Bilderbuchkino in der Stadtteilbibliothek Rodenkirchen
DESCRIPTION:LeseWelten mit Bilderbuchkino und anschließender Malaktion\nJedes Jahr organisieren wir die Aktionswoche für Kinder ab 4 Jahren gemeinsam mit dem Jungen Literaturhaus Köln und dem Kölner Stadt-Anzeiger – diesmal in Kooperation mit dem Hanser Verlag: \nHeute Abend sind Boris und Celeste allein zu Haus\, die Eltern gehen zu den Nachbarn. Boris ist begeistert\, endlich Chips und Kekse zum Abendbrot! Celeste will unbedingt noch eine Gutenachtgeschichte hören – und zwar eine richtig gruselige. Nichts lieber als das! Boris weiß von schrecklichen Gespenstern zu erzählen\, die nachts auf kleine Mädchen warten … Langweilig\, findet Celeste. Oder von gefährlichen Riesenkröten\, die sich heimlich anschleichen. Aber Kröten findet Celeste süß. Sogar über Drachen\, menschenfressende Echsen und mehrköpfige Ungeheuer macht sich Celeste lustig. Sie gruselt sich einfach nicht. Bis sie sich selbst eine Geschichte ausdenkt\, die Boris dann das Fürchten lehrt. \nDas Duo Nikolaus Heidelbach und Ole Könnecke erzählt eine Gutenachtgeschichte zum Mitfiebern\, Mitlachen und Sich-Mitgruseln. \nAnmeldung erforderlich unter: \nhttps://stadt-koeln.easy2book.de/junges-buch-fuer-die-stadt-gutenachtgeschichten-fuer-celeste-3-event-4370 \nBildquelle: Stadtteibibliothek Rodenkirchen \n\nDieser Eintrag wird Ihnen zur Verfügung gestellt vom Kölner BilderBogen – eines der beliebtesten Stadtmagazine in Köln. Ihr Termin fehlt? Einfach kostenlos einreichen: www.bilderbogen.de/eventeintrag
URL:https://mein-weiss.de/event/bilderbuchkino-in-der-stadtteilbibliothek-rodenkirchen/
LOCATION:Stadtteil-Bibliothek Rodenkirchen\, Schillingsrotter Str. 38\, Köln\, NRW\, 50996\, Deutschland
ATTACH;FMTTYPE=image/png:https://mein-weiss.de/wp-content/uploads/2025/06/Bildschirmfoto-2025-06-17-um-11.32.54-600x1024-1.png
END:VEVENT
END:VCALENDAR