BEGIN:VCALENDAR
VERSION:2.0
PRODID:-//Dorfgemeinschaft Weiss - ECPv6.15.20//NONSGML v1.0//EN
CALSCALE:GREGORIAN
METHOD:PUBLISH
X-WR-CALNAME:Dorfgemeinschaft Weiss
X-ORIGINAL-URL:https://mein-weiss.de
X-WR-CALDESC:Veranstaltungen für Dorfgemeinschaft Weiss
REFRESH-INTERVAL;VALUE=DURATION:PT1H
X-Robots-Tag:noindex
X-PUBLISHED-TTL:PT1H
BEGIN:VTIMEZONE
TZID:Europe/Berlin
BEGIN:DAYLIGHT
TZOFFSETFROM:+0100
TZOFFSETTO:+0200
TZNAME:CEST
DTSTART:20240331T010000
END:DAYLIGHT
BEGIN:STANDARD
TZOFFSETFROM:+0200
TZOFFSETTO:+0100
TZNAME:CET
DTSTART:20241027T010000
END:STANDARD
BEGIN:DAYLIGHT
TZOFFSETFROM:+0100
TZOFFSETTO:+0200
TZNAME:CEST
DTSTART:20250330T010000
END:DAYLIGHT
BEGIN:STANDARD
TZOFFSETFROM:+0200
TZOFFSETTO:+0100
TZNAME:CET
DTSTART:20251026T010000
END:STANDARD
BEGIN:DAYLIGHT
TZOFFSETFROM:+0100
TZOFFSETTO:+0200
TZNAME:CEST
DTSTART:20260329T010000
END:DAYLIGHT
BEGIN:STANDARD
TZOFFSETFROM:+0200
TZOFFSETTO:+0100
TZNAME:CET
DTSTART:20261025T010000
END:STANDARD
END:VTIMEZONE
BEGIN:VEVENT
DTSTART;VALUE=DATE:20250619
DTEND;VALUE=DATE:20250621
DTSTAMP:20260423T110505
CREATED:20250114T120223Z
LAST-MODIFIED:20250114T120223Z
UID:2917-1750291200-1750463999@mein-weiss.de
SUMMARY:Frühlingsmarkt – Rodenkirchen
DESCRIPTION:Dieser Eintrag wird Ihnen zur Verfügung gestellt vom Kölner BilderBogen – eines der beliebtesten Stadtmagazine in Köln. Ihr Termin fehlt? Einfach kostenlos einreichen: www.bilderbogen.de/eventeintrag
URL:https://mein-weiss.de/event/fruehlingsmarkt-rodenkirchen/
LOCATION:Matenusplatz Rodenkirchen
ATTACH;FMTTYPE=image/png:https://mein-weiss.de/wp-content/uploads/2025/01/Bildschirmfoto-2025-01-14-um-12.04.00-736x1024-3.png
ORGANIZER;CN="Treffpunkt Rodenkirchen":MAILTO:info@treffpunkt-rodenkirchen.de
END:VEVENT
BEGIN:VEVENT
DTSTART;TZID=Europe/Berlin:20250628T150000
DTEND;TZID=Europe/Berlin:20250628T220000
DTSTAMP:20260423T110505
CREATED:20250515T140054Z
LAST-MODIFIED:20250621T110038Z
UID:4490-1751122800-1751148000@mein-weiss.de
SUMMARY:Sommerfest 2025 – 20 Jahre SANTOS
DESCRIPTION:Liebe Grillfans\, \nam 28. Juni 2025 ist es endlich wieder soweit: Wir feiern von 15 bis 22 Uhr das SANTOS Sommerfest 2025 in Köln und freuen uns riesig auf Euch! An diesem Tag wird gefeiert\, gegrillt & gechillt! In diesem Jahr sind wir in besonderer Feierlaune\, denn: SANTOS wird 20 und wir wollen unser Jubiläum mit Euch feiern! \nDas erwartet Euch:\n\nGrillen & Chillen mit Euch – unseren Freunden\, Grillenthusiasten und besten Kunden!\nUnsere Santos Grillmeister moderieren das Event von Tag bis Abend\nZahlreiche Hersteller sind vor Ort und zaubern auf ihren Grills unverwechselbare Köstlichkeiten\nEisfahrrad und Foodtruck aus der Santos Familie\nLivemusik von Ben Randerath und den The Stompin‘ Gents\nEine Tombola mit starken Preisen (unter anderem 20x unser S418 im Wert von 1249 € sowie Pizzaöfen\, Grillzubehör und Co.)\nViel Platz für jeden Gast\, viel Auswahl\, k(l)eine Schlangen an den Ständen 😉\n\nFür unsere kleinen Grillfans:\n\nDas große Santos Kindergrillen\nSuperhelden-Schminken\nDer zauberhafte Magier Astro Aldino\nRitterhüpfburg zum Erobern\n\n\nDieser Eintrag wird Ihnen zur Verfügung gestellt vom Kölner BilderBogen – eines der beliebtesten Stadtmagazine in Köln. Ihr Termin fehlt? Einfach kostenlos einreichen: www.bilderbogen.de/eventeintrag
URL:https://mein-weiss.de/event/sommerfest-2025-20-jahre-santos/
LOCATION:Santos\, Hafenstraße 1\, Köln\, NRW\, 51063\, Deutschland
ATTACH;FMTTYPE=image/png:https://mein-weiss.de/wp-content/uploads/2025/05/Bildschirmfoto-2025-05-15-um-14.53.34-725x1024-1.png
END:VEVENT
BEGIN:VEVENT
DTSTART;TZID=Europe/Berlin:20250620T160000
DTEND;TZID=Europe/Berlin:20250620T170000
DTSTAMP:20260423T110505
CREATED:20250526T080050Z
LAST-MODIFIED:20250526T080050Z
UID:4582-1750435200-1750438800@mein-weiss.de
SUMMARY:MINT-Zeit: Vorlesen und Experimentieren / Stadtteilbibliothek Rodenkirchen
DESCRIPTION:Für Kinder von 6 bis 8 Jahren.\nIn der MINT-Zeit regen wir Kinder an\, sich kreativ mit MINT-Themen zu beschäftigen. Nach einem Vorlesen zur Einführung in das Thema der Stunde können die Kinder eigene kleine Experimente machen.\nTeilnahme kostenlos\nAnmeldung erforderlich unter rodenkirchen@stbib-koeln.de \nBildquelle: Stadtbibliothek Köln \n  \n\nDieser Eintrag wird Ihnen zur Verfügung gestellt vom Kölner BilderBogen – eines der beliebtesten Stadtmagazine in Köln. Ihr Termin fehlt? Einfach kostenlos einreichen: www.bilderbogen.de/eventeintrag
URL:https://mein-weiss.de/event/mint-zeit-vorlesen-und-experimentieren-stadtteilbibliothek-rodenkirchen-3/
LOCATION:Stadtteil-Bibliothek Rodenkirchen\, Schillingsrotter Str. 38\, Köln\, NRW\, 50996\, Deutschland
ATTACH;FMTTYPE=image/png:https://mein-weiss.de/wp-content/uploads/2025/05/Bildschirmfoto-2025-05-26-um-09.26.44-1024x660-1.png
END:VEVENT
END:VCALENDAR