BEGIN:VCALENDAR
VERSION:2.0
PRODID:-//Dorfgemeinschaft Weiss - ECPv6.15.20//NONSGML v1.0//EN
CALSCALE:GREGORIAN
METHOD:PUBLISH
X-WR-CALNAME:Dorfgemeinschaft Weiss
X-ORIGINAL-URL:https://mein-weiss.de
X-WR-CALDESC:Veranstaltungen für Dorfgemeinschaft Weiss
REFRESH-INTERVAL;VALUE=DURATION:PT1H
X-Robots-Tag:noindex
X-PUBLISHED-TTL:PT1H
BEGIN:VTIMEZONE
TZID:Europe/Berlin
BEGIN:DAYLIGHT
TZOFFSETFROM:+0100
TZOFFSETTO:+0200
TZNAME:CEST
DTSTART:20240331T010000
END:DAYLIGHT
BEGIN:STANDARD
TZOFFSETFROM:+0200
TZOFFSETTO:+0100
TZNAME:CET
DTSTART:20241027T010000
END:STANDARD
BEGIN:DAYLIGHT
TZOFFSETFROM:+0100
TZOFFSETTO:+0200
TZNAME:CEST
DTSTART:20250330T010000
END:DAYLIGHT
BEGIN:STANDARD
TZOFFSETFROM:+0200
TZOFFSETTO:+0100
TZNAME:CET
DTSTART:20251026T010000
END:STANDARD
BEGIN:DAYLIGHT
TZOFFSETFROM:+0100
TZOFFSETTO:+0200
TZNAME:CEST
DTSTART:20260329T010000
END:DAYLIGHT
BEGIN:STANDARD
TZOFFSETFROM:+0200
TZOFFSETTO:+0100
TZNAME:CET
DTSTART:20261025T010000
END:STANDARD
END:VTIMEZONE
BEGIN:VEVENT
DTSTART;TZID=Europe/Berlin:20250605T160000
DTEND;TZID=Europe/Berlin:20250605T170000
DTSTAMP:20260423T130845
CREATED:20250526T080047Z
LAST-MODIFIED:20250526T080047Z
UID:4580-1749139200-1749142800@mein-weiss.de
SUMMARY:Die Vorlesepatin kommt und liest vor!
DESCRIPTION:Für Kinder ab 3 Jahren.\nUnsere Vorlesepatin kommt und liest vor: lustige\, spannende\, bunte Geschichten für Kinder. Kommen Sie mit Ihrem Kind einfach vorbei-ohne Anmeldung. \nBildquelle:Stadtbibliothek Köln \n\nDieser Eintrag wird Ihnen zur Verfügung gestellt vom Kölner BilderBogen – eines der beliebtesten Stadtmagazine in Köln. Ihr Termin fehlt? Einfach kostenlos einreichen: www.bilderbogen.de/eventeintrag
URL:https://mein-weiss.de/event/die-vorlesepatin-kommt-und-liest-vor/
LOCATION:Stadtteil-Bibliothek Rodenkirchen\, Schillingsrotter Str. 38\, Köln\, NRW\, 50996\, Deutschland
ATTACH;FMTTYPE=image/png:https://mein-weiss.de/wp-content/uploads/2025/05/Bildschirmfoto-2025-05-26-um-09.26.44-1024x660-1.png
END:VEVENT
BEGIN:VEVENT
DTSTART;TZID=Europe/Berlin:20250605T160000
DTEND;TZID=Europe/Berlin:20250605T173000
DTSTAMP:20260423T130845
CREATED:20250506T100056Z
LAST-MODIFIED:20250506T100056Z
UID:4445-1749139200-1749144600@mein-weiss.de
SUMMARY:Kreatives Malen – AWO Villa
DESCRIPTION:Egal\, ob Anfängerin oder Fortgeschrittener – alle sind willkommen! Melde dich jetzt an und sichere dir deinen Platz! \nAnmeldung & Info: gemeinsamsindwirstaerker@awo-koeln.de\noder unter 0178 1463796\nWir freuen uns über Spenden fürs Material. \n\nDieser Eintrag wird Ihnen zur Verfügung gestellt vom Kölner BilderBogen – eines der beliebtesten Stadtmagazine in Köln. Ihr Termin fehlt? Einfach kostenlos einreichen: www.bilderbogen.de/eventeintrag
URL:https://mein-weiss.de/event/kreatives-malen-awo-villa-3/
LOCATION:Villa AWO\, Walther-Rathenau-Str. 9\, Köln\, NRW\, 50996\, Deutschland
ATTACH;FMTTYPE=image/png:https://mein-weiss.de/wp-content/uploads/2025/05/Bildschirmfoto-2025-05-06-um-10.54.31.png
ORGANIZER;CN="AWO":MAILTO:gemeinsamsindwirstaerker@awo-koeln.de
END:VEVENT
END:VCALENDAR