BEGIN:VCALENDAR
VERSION:2.0
PRODID:-//Dorfgemeinschaft Weiss - ECPv6.15.20//NONSGML v1.0//EN
CALSCALE:GREGORIAN
METHOD:PUBLISH
X-ORIGINAL-URL:https://mein-weiss.de
X-WR-CALDESC:Veranstaltungen für Dorfgemeinschaft Weiss
REFRESH-INTERVAL;VALUE=DURATION:PT1H
X-Robots-Tag:noindex
X-PUBLISHED-TTL:PT1H
BEGIN:VTIMEZONE
TZID:Europe/Berlin
BEGIN:DAYLIGHT
TZOFFSETFROM:+0100
TZOFFSETTO:+0200
TZNAME:CEST
DTSTART:20240331T010000
END:DAYLIGHT
BEGIN:STANDARD
TZOFFSETFROM:+0200
TZOFFSETTO:+0100
TZNAME:CET
DTSTART:20241027T010000
END:STANDARD
BEGIN:DAYLIGHT
TZOFFSETFROM:+0100
TZOFFSETTO:+0200
TZNAME:CEST
DTSTART:20250330T010000
END:DAYLIGHT
BEGIN:STANDARD
TZOFFSETFROM:+0200
TZOFFSETTO:+0100
TZNAME:CET
DTSTART:20251026T010000
END:STANDARD
BEGIN:DAYLIGHT
TZOFFSETFROM:+0100
TZOFFSETTO:+0200
TZNAME:CEST
DTSTART:20260329T010000
END:DAYLIGHT
BEGIN:STANDARD
TZOFFSETFROM:+0200
TZOFFSETTO:+0100
TZNAME:CET
DTSTART:20261025T010000
END:STANDARD
END:VTIMEZONE
BEGIN:VEVENT
DTSTART;TZID=Europe/Berlin:20250603T180000
DTEND;TZID=Europe/Berlin:20250603T190000
DTSTAMP:20260423T110805
CREATED:20250528T110044Z
LAST-MODIFIED:20250528T110044Z
UID:4600-1748973600-1748977200@mein-weiss.de
SUMMARY:Klassisches Klavierkonzert „Tanz in den Sommer“
DESCRIPTION:Die gefühlvolle Pianistin Hiroko Nakano spielt für Sie beschwingte Stücke von Johann Strauss\, Camille Saint-Saëns\, Franz Schubert u.a. Ein musikalischer Tanz in den Sommer. \n\nDieser Eintrag wird Ihnen zur Verfügung gestellt vom Kölner BilderBogen – eines der beliebtesten Stadtmagazine in Köln. Ihr Termin fehlt? Einfach kostenlos einreichen: www.bilderbogen.de/eventeintrag
URL:https://mein-weiss.de/event/klassisches-klavierkonzert-tanz-in-den-sommer/
LOCATION:Cura SeniorenCentrum Köln Rodenkirchen\, Hauptstraße 128\, Köln\, NRW\, 50996\, Deutschland
ATTACH;FMTTYPE=image/png:https://mein-weiss.de/wp-content/uploads/2025/05/Bildschirmfoto-2025-05-28-um-12.43.19-724x1024-1.png
END:VEVENT
BEGIN:VEVENT
DTSTART;TZID=Europe/Berlin:20250603T180000
DTEND;TZID=Europe/Berlin:20250603T190000
DTSTAMP:20260423T110805
CREATED:20250602T110043Z
LAST-MODIFIED:20250602T110043Z
UID:4611-1748973600-1748977200@mein-weiss.de
SUMMARY:Virtueller Kreißsaal Infoabend im Severinsklösterchen
DESCRIPTION:An jedem ersten Dienstag im Juni und Juli findet um 18.00 Uhr ein virtueller Infoabend unseres Kreißsaals statt. Da hier die Teilnehmerzahl pro Veranstaltung auf 30 Personen bzw. Paare begrenzt ist\, ist eine Anmeldung erforderlich. \n  \nBitte melden Sie sich für den Online-Infoabend bis spätestens montags\, 16 Uhr vor dem jeweiligen Termin bei der Kreißsaalambulanz an: kkreisssaal@severinskloesterchen.de \n\nDieser Eintrag wird Ihnen zur Verfügung gestellt vom Kölner BilderBogen – eines der beliebtesten Stadtmagazine in Köln. Ihr Termin fehlt? Einfach kostenlos einreichen: www.bilderbogen.de/eventeintrag
URL:https://mein-weiss.de/event/virtueller-kreisssaal-infoabend-im-severinskloesterchen/
LOCATION:Krankenhaus der Augustinerinnen\, Jakobstraße 27–31\, Köln\, NRW\, 50678\, Deutschland
ATTACH;FMTTYPE=image/png:https://mein-weiss.de/wp-content/uploads/2025/06/Bildschirmfoto-2025-06-02-um-12.20.02-1-1024x719-1.png
END:VEVENT
END:VCALENDAR