BEGIN:VCALENDAR
VERSION:2.0
PRODID:-//Dorfgemeinschaft Weiss - ECPv6.15.20//NONSGML v1.0//EN
CALSCALE:GREGORIAN
METHOD:PUBLISH
X-ORIGINAL-URL:https://mein-weiss.de
X-WR-CALDESC:Veranstaltungen für Dorfgemeinschaft Weiss
REFRESH-INTERVAL;VALUE=DURATION:PT1H
X-Robots-Tag:noindex
X-PUBLISHED-TTL:PT1H
BEGIN:VTIMEZONE
TZID:Europe/Berlin
BEGIN:DAYLIGHT
TZOFFSETFROM:+0100
TZOFFSETTO:+0200
TZNAME:CEST
DTSTART:20240331T010000
END:DAYLIGHT
BEGIN:STANDARD
TZOFFSETFROM:+0200
TZOFFSETTO:+0100
TZNAME:CET
DTSTART:20241027T010000
END:STANDARD
BEGIN:DAYLIGHT
TZOFFSETFROM:+0100
TZOFFSETTO:+0200
TZNAME:CEST
DTSTART:20250330T010000
END:DAYLIGHT
BEGIN:STANDARD
TZOFFSETFROM:+0200
TZOFFSETTO:+0100
TZNAME:CET
DTSTART:20251026T010000
END:STANDARD
BEGIN:DAYLIGHT
TZOFFSETFROM:+0100
TZOFFSETTO:+0200
TZNAME:CEST
DTSTART:20260329T010000
END:DAYLIGHT
BEGIN:STANDARD
TZOFFSETFROM:+0200
TZOFFSETTO:+0100
TZNAME:CET
DTSTART:20261025T010000
END:STANDARD
END:VTIMEZONE
BEGIN:VEVENT
DTSTART;TZID=Europe/Berlin:20250529T000000
DTEND;TZID=Europe/Berlin:20250601T235959
DTSTAMP:20260423T110752
CREATED:20250114T120221Z
LAST-MODIFIED:20250519T150050Z
UID:2915-1748476800-1748822399@mein-weiss.de
SUMMARY:Wine-Time  – 9. Rodenkirchener Weintage
DESCRIPTION:Dieser Eintrag wird Ihnen zur Verfügung gestellt vom Kölner BilderBogen – eines der beliebtesten Stadtmagazine in Köln. Ihr Termin fehlt? Einfach kostenlos einreichen: www.bilderbogen.de/eventeintrag
URL:https://mein-weiss.de/event/winetime-9-rodenkirchener-weintage/
LOCATION:Matenusplatz Rodenkirchen
ATTACH;FMTTYPE=image/png:https://mein-weiss.de/wp-content/uploads/2025/05/wintime_2025_Plakat_A3_FINAL-1-725x1024-1.png
ORGANIZER;CN="Treffpunkt Rodenkirchen":MAILTO:info@treffpunkt-rodenkirchen.de
END:VEVENT
BEGIN:VEVENT
DTSTART;TZID=Europe/Berlin:20250530T190000
DTEND;TZID=Europe/Berlin:20250530T220000
DTSTAMP:20260423T110752
CREATED:20250520T100052Z
LAST-MODIFIED:20250520T100052Z
UID:4520-1748631600-1748642400@mein-weiss.de
SUMMARY:Konzert „La vie en rose“ von Paula Götz & Gleb Tchepki
DESCRIPTION:Die Freundschaft der Sängerinnen Edit Piaf und Marlene Dietrich wunderbar musikalisch & lebendig präsentiert \n\nMai 2025 – 19 bis ca. 22 Uhr (Einlass ab 18:30 Uhr)\n\nHof vor Loft 18 im Kunstzentrum Wachsfabrik \nTicket incl. Getränken und Pausensnack:  25\,- € \nKarten im Vorverkauf über https://kulturforum-wachsfabrik.koeln/produkt/30-05-2025-konzert-paula-goetz-gleb \noder an der Abendkasse (es sind 40 Plätze vorhanden). \n  \nAdresse: Industriestraße 170\, 50999 Köln \nWeitere Informationen unter  www.kulturforum-wachsfabrik.koeln und www.kunstzentrum-wachsfabrik.koeln. \n  \nDieses Konzert ist das Erste des Jahres 2025\, welches vom Förderverein des Kunstzentrums Wachsfabrik organisiert und gefördert wird. \nEs werden 4 weitere Konzerte in den Sommermonaten folgen. Der Förderverein „Freunde vom Kulturforum Wachsfabrik e.V.“ hat sich unter Anderem zur Aufgabe gemacht Musikerinnen und Musikern eine Bühne mit einer gesicherten Gage zu bieten und das Kunstzentrum auch für Musikbegeisterte zu öffnen. \nBildquelle: Kunstzentrum Wachsfabrik \n\nDieser Eintrag wird Ihnen zur Verfügung gestellt vom Kölner BilderBogen – eines der beliebtesten Stadtmagazine in Köln. Ihr Termin fehlt? Einfach kostenlos einreichen: www.bilderbogen.de/eventeintrag
URL:https://mein-weiss.de/event/konzert-la-vie-en-rose-von-paula-goetz-gleb-tchepki/
LOCATION:Wachsfabrik\, Industriestraße 170\, Köln\, 50999\, Deutschland
ATTACH;FMTTYPE=image/png:https://mein-weiss.de/wp-content/uploads/2025/05/Bildschirmfoto-2025-05-20-um-10.53.06.png
END:VEVENT
END:VCALENDAR