BEGIN:VCALENDAR
VERSION:2.0
PRODID:-//Dorfgemeinschaft Weiss - ECPv6.15.20//NONSGML v1.0//EN
CALSCALE:GREGORIAN
METHOD:PUBLISH
X-ORIGINAL-URL:https://mein-weiss.de
X-WR-CALDESC:Veranstaltungen für Dorfgemeinschaft Weiss
REFRESH-INTERVAL;VALUE=DURATION:PT1H
X-Robots-Tag:noindex
X-PUBLISHED-TTL:PT1H
BEGIN:VTIMEZONE
TZID:Europe/Berlin
BEGIN:DAYLIGHT
TZOFFSETFROM:+0100
TZOFFSETTO:+0200
TZNAME:CEST
DTSTART:20240331T010000
END:DAYLIGHT
BEGIN:STANDARD
TZOFFSETFROM:+0200
TZOFFSETTO:+0100
TZNAME:CET
DTSTART:20241027T010000
END:STANDARD
BEGIN:DAYLIGHT
TZOFFSETFROM:+0100
TZOFFSETTO:+0200
TZNAME:CEST
DTSTART:20250330T010000
END:DAYLIGHT
BEGIN:STANDARD
TZOFFSETFROM:+0200
TZOFFSETTO:+0100
TZNAME:CET
DTSTART:20251026T010000
END:STANDARD
BEGIN:DAYLIGHT
TZOFFSETFROM:+0100
TZOFFSETTO:+0200
TZNAME:CEST
DTSTART:20260329T010000
END:DAYLIGHT
BEGIN:STANDARD
TZOFFSETFROM:+0200
TZOFFSETTO:+0100
TZNAME:CET
DTSTART:20261025T010000
END:STANDARD
END:VTIMEZONE
BEGIN:VEVENT
DTSTART;TZID=Europe/Berlin:20250515T150000
DTEND;TZID=Europe/Berlin:20250515T180000
DTSTAMP:20260423T123421
CREATED:20250428T100055Z
LAST-MODIFIED:20250428T100055Z
UID:4400-1747321200-1747332000@mein-weiss.de
SUMMARY:Einladung  B2B Showroom / Corporate/ Promo/ Sportswear
DESCRIPTION:Dieser Eintrag wird Ihnen zur Verfügung gestellt vom Kölner BilderBogen – eines der beliebtesten Stadtmagazine in Köln. Ihr Termin fehlt? Einfach kostenlos einreichen: www.bilderbogen.de/eventeintrag
URL:https://mein-weiss.de/event/einladung-b2b-showroom-corporate-promo-sportswear/
LOCATION:Leskan Park\, Walther Str. 49-51\, Köln\, 51069
ATTACH;FMTTYPE=image/png:https://mein-weiss.de/wp-content/uploads/2025/04/Bildschirmfoto-2025-04-28-um-09.56.47-726x1024-1.png
END:VEVENT
BEGIN:VEVENT
DTSTART;TZID=Europe/Berlin:20250515T160000
DTEND;TZID=Europe/Berlin:20250515T173000
DTSTAMP:20260423T123421
CREATED:20250506T090056Z
LAST-MODIFIED:20250506T100047Z
UID:4433-1747324800-1747330200@mein-weiss.de
SUMMARY:Kreatives Malen – AWO Villa
DESCRIPTION:Egal\, ob Anfängerin oder Fortgeschrittener – alle sind willkommen! Melde dich jetzt an und sichere dir deinen Platz! \nAnmeldung & Info: gemeinsamsindwirstaerker@awo-koeln.de\noder unter 0178 1463796\nWir freuen uns über Spenden fürs Material. \n\nDieser Eintrag wird Ihnen zur Verfügung gestellt vom Kölner BilderBogen – eines der beliebtesten Stadtmagazine in Köln. Ihr Termin fehlt? Einfach kostenlos einreichen: www.bilderbogen.de/eventeintrag
URL:https://mein-weiss.de/event/kreatives-malen-awo-villa/
LOCATION:Villa AWO\, Walther-Rathenau-Str. 9\, Köln\, NRW\, 50996\, Deutschland
ATTACH;FMTTYPE=image/png:https://mein-weiss.de/wp-content/uploads/2025/05/Bildschirmfoto-2025-05-06-um-10.54.31.png
ORGANIZER;CN="AWO":MAILTO:gemeinsamsindwirstaerker@awo-koeln.de
END:VEVENT
BEGIN:VEVENT
DTSTART;TZID=Europe/Berlin:20250515T173000
DTEND;TZID=Europe/Berlin:20250515T190000
DTSTAMP:20260423T123421
CREATED:20250128T170046Z
LAST-MODIFIED:20250312T110101Z
UID:2993-1747330200-1747335600@mein-weiss.de
SUMMARY:Das Schultergelenk: Die Diva der Gelenke
DESCRIPTION:Schultererkrankungen sind ein weit verbreitetes orthopädisches Problem. Wenn Schmerzen in der Schulter zur Qual werden\, kann das unseren gesamten Alltag aus der Bahn werfen. Die Schulter ist vor allem deshalb so schmerzempfindlich\, weil in ihr verschiedene Knochen\, Muskeln\, Knorpelstrukturen\, Sehnen und Bänder aufeinandertreffen und für ein freies und stabiles Bewegungsspiel sorgen. Doch warum ist die Schulter so anfällig für Schmerzen und Verletzungen? Wo haben die Beschwerden ihren Ursprung und welche Behandlungsmethoden gibt es?\nDiese und viele weitere Fragen beantworten Priv. Doz. Dr. med. Thomas Randau – Chefarzt der Klinik für Orthopädie\, Spezielle Orthopädische Chirurgie und Sportmedizin\, Dr. Thomas Paffrath – Chefarzt der Klinik für Unfall- und Handchirurgie\, dr. med. Univ. Pécs Arndt Schulte – Facharzt der Klinik für Orthopädie\, Spezielle Orthopädische Chirurgie und Sportmedizin gemeinsam mit ihren Teams und stellen moderne Behandlungsmöglichkeiten vor. Für Fragen rund um Narkose und Rehabilitation stehen ein Facharzt für Anästhesie und ein Physiotherapeut ebenfalls zur Verfügung. \nFoto: Augustinerinnen Krankenhäuser gGmbH \n\nDieser Eintrag wird Ihnen zur Verfügung gestellt vom Kölner BilderBogen – eines der beliebtesten Stadtmagazine in Köln. Ihr Termin fehlt? Einfach kostenlos einreichen: www.bilderbogen.de/eventeintrag
URL:https://mein-weiss.de/event/das-schultergelenk-die-diva-der-gelenke/
LOCATION:Severinsklösterchen
ATTACH;FMTTYPE=image/jpeg:https://mein-weiss.de/wp-content/uploads/2025/03/Schultergelenk-petol-WEB.jpg
END:VEVENT
BEGIN:VEVENT
DTSTART;TZID=Europe/Berlin:20250515T193000
DTEND;TZID=Europe/Berlin:20250515T210000
DTSTAMP:20260423T123421
CREATED:20250403T090048Z
LAST-MODIFIED:20250403T100048Z
UID:4231-1747337400-1747342800@mein-weiss.de
SUMMARY:Jenseits aller Vorstellung – Lesung
DESCRIPTION:Heiter-hintergründige Gedichte und Kurzgeschichten mit Evert Everts\, Rolf Polander\, Petra Reategui\, Amir ShaheenLesung \n\nDieser Eintrag wird Ihnen zur Verfügung gestellt vom Kölner BilderBogen – eines der beliebtesten Stadtmagazine in Köln. Ihr Termin fehlt? Einfach kostenlos einreichen: www.bilderbogen.de/eventeintrag
URL:https://mein-weiss.de/event/jenseits-aller-vorstellung-lesung/
LOCATION:Stadtteilbibliothek Haus Balchem\, Severinstraße 15\, Köln\, 50678
ATTACH;FMTTYPE=image/png:https://mein-weiss.de/wp-content/uploads/2025/04/Bildschirmfoto-2025-04-03-um-10.27.12.png
END:VEVENT
END:VCALENDAR