BEGIN:VCALENDAR
VERSION:2.0
PRODID:-//Dorfgemeinschaft Weiss - ECPv6.15.20//NONSGML v1.0//EN
CALSCALE:GREGORIAN
METHOD:PUBLISH
X-ORIGINAL-URL:https://mein-weiss.de
X-WR-CALDESC:Veranstaltungen für Dorfgemeinschaft Weiss
REFRESH-INTERVAL;VALUE=DURATION:PT1H
X-Robots-Tag:noindex
X-PUBLISHED-TTL:PT1H
BEGIN:VTIMEZONE
TZID:Europe/Berlin
BEGIN:DAYLIGHT
TZOFFSETFROM:+0100
TZOFFSETTO:+0200
TZNAME:CEST
DTSTART:20240331T010000
END:DAYLIGHT
BEGIN:STANDARD
TZOFFSETFROM:+0200
TZOFFSETTO:+0100
TZNAME:CET
DTSTART:20241027T010000
END:STANDARD
BEGIN:DAYLIGHT
TZOFFSETFROM:+0100
TZOFFSETTO:+0200
TZNAME:CEST
DTSTART:20250330T010000
END:DAYLIGHT
BEGIN:STANDARD
TZOFFSETFROM:+0200
TZOFFSETTO:+0100
TZNAME:CET
DTSTART:20251026T010000
END:STANDARD
BEGIN:DAYLIGHT
TZOFFSETFROM:+0100
TZOFFSETTO:+0200
TZNAME:CEST
DTSTART:20260329T010000
END:DAYLIGHT
BEGIN:STANDARD
TZOFFSETFROM:+0200
TZOFFSETTO:+0100
TZNAME:CET
DTSTART:20261025T010000
END:STANDARD
END:VTIMEZONE
BEGIN:VEVENT
DTSTART;VALUE=DATE:20250427
DTEND;VALUE=DATE:20250512
DTSTAMP:20260423T145409
CREATED:20250114T120220Z
LAST-MODIFIED:20250114T120220Z
UID:2913-1745712000-1747007999@mein-weiss.de
SUMMARY:Kunst & KulturMeile – Rodenkirchen
DESCRIPTION:Dieser Eintrag wird Ihnen zur Verfügung gestellt vom Kölner BilderBogen – eines der beliebtesten Stadtmagazine in Köln. Ihr Termin fehlt? Einfach kostenlos einreichen: www.bilderbogen.de/eventeintrag
URL:https://mein-weiss.de/event/kunst-kulturmeile-rodenkirchen/
LOCATION:NRW
ATTACH;FMTTYPE=image/png:https://mein-weiss.de/wp-content/uploads/2025/01/Bildschirmfoto-2025-01-14-um-12.04.00-736x1024-1.png
ORGANIZER;CN="Treffpunkt Rodenkirchen":MAILTO:info@treffpunkt-rodenkirchen.de
END:VEVENT
BEGIN:VEVENT
DTSTART;TZID=Europe/Berlin:20250427T120000
DTEND;TZID=Europe/Berlin:20250511T180000
DTSTAMP:20260423T145409
CREATED:20250404T110049Z
LAST-MODIFIED:20250404T130045Z
UID:4250-1745755200-1746986400@mein-weiss.de
SUMMARY:23. RODENKIRCHENER KUNSTMEILE
DESCRIPTION:Vernissage auf dem Maternusplatz am Sonntag den 27. April ab 12 Uhr. \n\nDieser Eintrag wird Ihnen zur Verfügung gestellt vom Kölner BilderBogen – eines der beliebtesten Stadtmagazine in Köln. Ihr Termin fehlt? Einfach kostenlos einreichen: www.bilderbogen.de/eventeintrag
URL:https://mein-weiss.de/event/23-kunstmeile-in-rodenkirchen/
LOCATION:Rodenkirchen City\, Maternusplatz 1\, Köln\, NRW\, 50999\, Deutschland
ATTACH;FMTTYPE=image/png:https://mein-weiss.de/wp-content/uploads/2025/04/KUMEI_2025_Plakat_FINAL-722x1024-1.png
END:VEVENT
BEGIN:VEVENT
DTSTART;TZID=Europe/Berlin:20250511T090000
DTEND;TZID=Europe/Berlin:20250511T160000
DTSTAMP:20260423T145409
CREATED:20250318T110045Z
LAST-MODIFIED:20250318T120047Z
UID:4018-1746954000-1746979200@mein-weiss.de
SUMMARY:Camper Pop Up Messe bei Camping Berger
DESCRIPTION:Camper Pop Up Messe – Premium Manufaktur Camper erleben  \nKöln Rodenkirchen\, 10.-11.05.2025  \nErlebe die Welt der hochwertigen\, individuell ausgebauten Camper \nVom 10. bis 11. Mai 2025 versammeln sich erstmalig 12 exklusive Camper-Manufakturen auf dem ältesten Campingplatz Deutschland – Camping Berger – in Köln direkt am Rhein. Tauche ein in die faszinierende Welt des Vanlife und entdecke hochwertige\, handgefertigte Camper\, die Freiheit\, Komfort und Abenteuer vereinen. \n📍 Camping Berger\, Köln – der älteste Campingplatz Deutschlands\nUferstraße 71\, 50996 Köln-Rodenkirchen \n 10.05.2025 | 12:00 – 19:00 Uhr \n 11.05.2025  | 09:00 – 16:00 Uhr \n✨ Was dich erwartet: \n🔹 Persönlicher Austausch & Beratung – Triff die Manufakturen\, erhalte exklusive Einblicke und finde dein perfektes Fahrzeug. \n🔹 Pop up Ausstellungskonzept – Erlebe individuelle Camper-Designs und innovative Ausbaukonzepte\, gebündelt an einem Ort. Diese Veranstaltung verbindet das authentische Flair eines historischen Campingplatzes mit der Innovationskraft moderner Camper-Manufakturen. \n🔹 Vanlife hautnah erleben – Lasse dich inspirieren\, sammle Ideen und entdecke neue Möglichkeiten für dein nächstes Abenteuer. \nAussteller (wird fortlaufend ergänzt) \n \n Ob Offroad-Enthusiast oder Reisemobil-Neuling – diese Camper Pop Up Messe ist der  Place-to-be für alle\, die auf der Suche nach einem einzigartigen und hochwertigen Camper sind. \n🎟 Eintritt frei! \nBitte sendet vor eurem Besuch eine kurze E-Mail an jan@campervanspot.com\, da auf dem Campingplatz laufender Betrieb herrscht. \nMehr Infos unter:\nhttps://app2.campervanspot.com/pop-up-messe \n\nDieser Eintrag wird Ihnen zur Verfügung gestellt vom Kölner BilderBogen – eines der beliebtesten Stadtmagazine in Köln. Ihr Termin fehlt? Einfach kostenlos einreichen: www.bilderbogen.de/eventeintrag
URL:https://mein-weiss.de/event/camper-pop-up-messe-bei-camping-berger-2/
LOCATION:Haus Berger\, Uferstraße 71\, Köln\, NRW\, 50996\, Deutschland
ATTACH;FMTTYPE=image/jpeg:https://mein-weiss.de/wp-content/uploads/2025/03/WhatsApp-Image-2025-02-20-at-15.18.59-1024x585-1.jpeg
END:VEVENT
BEGIN:VEVENT
DTSTART;TZID=Europe/Berlin:20250511T180000
DTEND;TZID=Europe/Berlin:20250511T200000
DTSTAMP:20260423T145409
CREATED:20250430T100041Z
LAST-MODIFIED:20250430T100041Z
UID:4429-1746986400-1746993600@mein-weiss.de
SUMMARY:Orgelkonzert in der Emmanuelkirche Werke von Bach\, Sweelinck und anderen erklingen
DESCRIPTION:Orgelkonzert in der EmmanuelkircheWerke von Bach\, Sweelinck und anderen erklingenZu einem Orgelkonzert mit Guido Harzen\, Kantor an St. Servatius zu Siegburg\, am Sonntag\, 11. Mai\, 18 Uhr\, lädt die Evangelische Kirchengemeinde Rondorf in die Emmanuelkirche\, Carl-Jatho-Straße 1\, ein. An der Teschemacher-Orgel von 1743 und der Gerhardt-Orgel von 1880 erklingen Werke von Blasius Ammon (1558 bis 1590)\, Jan Pieterszoon Sweelinck (1561 bis 1621)\, Johann Sebastian Bach (1685 bis 1750)\, Carl Philipp Emanuel Bach (1714 bis 1788) sowie von Felix Mendelssohn Bartholdy (1809 bis 1847). Der Eintritt ist frei\, Spenden sind willkommen. \n\nDieser Eintrag wird Ihnen zur Verfügung gestellt vom Kölner BilderBogen – eines der beliebtesten Stadtmagazine in Köln. Ihr Termin fehlt? Einfach kostenlos einreichen: www.bilderbogen.de/eventeintrag
URL:https://mein-weiss.de/event/orgelkonzert-in-der-emmanuelkirche-werke-von-bach-sweelinck-und-anderen-erklingen/
LOCATION:Emmanuelkirche in Rondorf\, Carl-Jatho-Straße 1\, Köln\, NRW\, 50997\, Deutschland
END:VEVENT
BEGIN:VEVENT
DTSTART;TZID=Europe/Berlin:20250511T180000
DTEND;TZID=Europe/Berlin:20250511T203000
DTSTAMP:20260423T145409
CREATED:20250403T080057Z
LAST-MODIFIED:20250403T080057Z
UID:4220-1746986400-1746995400@mein-weiss.de
SUMMARY:Usjebomb & Opjebaut
DESCRIPTION:Zeitrevue mit den Bläck Fööss: 80 Jahre Kriegsende in Köln\n\nDieser Eintrag wird Ihnen zur Verfügung gestellt vom Kölner BilderBogen – eines der beliebtesten Stadtmagazine in Köln. Ihr Termin fehlt? Einfach kostenlos einreichen: www.bilderbogen.de/eventeintrag
URL:https://mein-weiss.de/event/usjebomb-opjebaut-4/
LOCATION:Flora\, Am Botanischen Garten 1a\, Köln\, 50735
ATTACH;FMTTYPE=image/png:https://mein-weiss.de/wp-content/uploads/2025/04/Bildschirmfoto-2025-04-03-um-09.22.28.png
END:VEVENT
END:VCALENDAR