BEGIN:VCALENDAR
VERSION:2.0
PRODID:-//Dorfgemeinschaft Weiss - ECPv6.15.20//NONSGML v1.0//EN
CALSCALE:GREGORIAN
METHOD:PUBLISH
X-WR-CALNAME:Dorfgemeinschaft Weiss
X-ORIGINAL-URL:https://mein-weiss.de
X-WR-CALDESC:Veranstaltungen für Dorfgemeinschaft Weiss
REFRESH-INTERVAL;VALUE=DURATION:PT1H
X-Robots-Tag:noindex
X-PUBLISHED-TTL:PT1H
BEGIN:VTIMEZONE
TZID:Europe/Berlin
BEGIN:DAYLIGHT
TZOFFSETFROM:+0100
TZOFFSETTO:+0200
TZNAME:CEST
DTSTART:20240331T010000
END:DAYLIGHT
BEGIN:STANDARD
TZOFFSETFROM:+0200
TZOFFSETTO:+0100
TZNAME:CET
DTSTART:20241027T010000
END:STANDARD
BEGIN:DAYLIGHT
TZOFFSETFROM:+0100
TZOFFSETTO:+0200
TZNAME:CEST
DTSTART:20250330T010000
END:DAYLIGHT
BEGIN:STANDARD
TZOFFSETFROM:+0200
TZOFFSETTO:+0100
TZNAME:CET
DTSTART:20251026T010000
END:STANDARD
BEGIN:DAYLIGHT
TZOFFSETFROM:+0100
TZOFFSETTO:+0200
TZNAME:CEST
DTSTART:20260329T010000
END:DAYLIGHT
BEGIN:STANDARD
TZOFFSETFROM:+0200
TZOFFSETTO:+0100
TZNAME:CET
DTSTART:20261025T010000
END:STANDARD
END:VTIMEZONE
BEGIN:VEVENT
DTSTART;VALUE=DATE:20250427
DTEND;VALUE=DATE:20250512
DTSTAMP:20260425T141743
CREATED:20250114T120220Z
LAST-MODIFIED:20250114T120220Z
UID:2913-1745712000-1747007999@mein-weiss.de
SUMMARY:Kunst & KulturMeile – Rodenkirchen
DESCRIPTION:Dieser Eintrag wird Ihnen zur Verfügung gestellt vom Kölner BilderBogen – eines der beliebtesten Stadtmagazine in Köln. Ihr Termin fehlt? Einfach kostenlos einreichen: www.bilderbogen.de/eventeintrag
URL:https://mein-weiss.de/event/kunst-kulturmeile-rodenkirchen/
LOCATION:NRW
ATTACH;FMTTYPE=image/png:https://mein-weiss.de/wp-content/uploads/2025/01/Bildschirmfoto-2025-01-14-um-12.04.00-736x1024-1.png
ORGANIZER;CN="Treffpunkt Rodenkirchen":MAILTO:info@treffpunkt-rodenkirchen.de
END:VEVENT
BEGIN:VEVENT
DTSTART;TZID=Europe/Berlin:20250427T120000
DTEND;TZID=Europe/Berlin:20250511T180000
DTSTAMP:20260425T141743
CREATED:20250404T110049Z
LAST-MODIFIED:20250404T130045Z
UID:4250-1745755200-1746986400@mein-weiss.de
SUMMARY:23. RODENKIRCHENER KUNSTMEILE
DESCRIPTION:Vernissage auf dem Maternusplatz am Sonntag den 27. April ab 12 Uhr. \n\nDieser Eintrag wird Ihnen zur Verfügung gestellt vom Kölner BilderBogen – eines der beliebtesten Stadtmagazine in Köln. Ihr Termin fehlt? Einfach kostenlos einreichen: www.bilderbogen.de/eventeintrag
URL:https://mein-weiss.de/event/23-kunstmeile-in-rodenkirchen/
LOCATION:Rodenkirchen City\, Maternusplatz 1\, Köln\, NRW\, 50999\, Deutschland
ATTACH;FMTTYPE=image/png:https://mein-weiss.de/wp-content/uploads/2025/04/KUMEI_2025_Plakat_FINAL-722x1024-1.png
END:VEVENT
BEGIN:VEVENT
DTSTART;TZID=Europe/Berlin:20250504T110000
DTEND;TZID=Europe/Berlin:20250504T130000
DTSTAMP:20260425T141743
CREATED:20250114T110053Z
LAST-MODIFIED:20250312T110100Z
UID:2908-1746356400-1746363600@mein-weiss.de
SUMMARY:TRIO-ENTDECKUNGEN mit Musikern der Königlich Schwedischen Oper Stockholm
DESCRIPTION:Ein Blick rechts und links ausgetretener Pfade kann sich lohnen… und hören lassen ! Das Trio möchte einmal mehr zeigen\, dass Kammermusik keine todernste Sache ist\, sondern begeistern\, mitreißen\, Emotionen wecken und richtig gut unterhalten kann.  \nOliver Drechsel (Klavier)\, Fredrik Söhngen (Oboe)  \nund Berthold Große (Fagott)  spielen – unter anderem – die Kölner Erstaufführung einer Triosonate des amerikanischen Komponisten  \nPhilip Rugel (*1970) und das „Grand Trio“ der französischen\, romantischen Komponistin Marie Clemence de Grandval (1826-1907) \nDer Eintritt zu unseren Konzerten ist frei – eine Spende zum Erhalt der Konzertreihe ist gerne willkommen. \nBildquelle: RTK-Germania \n\nDieser Eintrag wird Ihnen zur Verfügung gestellt vom Kölner BilderBogen – eines der beliebtesten Stadtmagazine in Köln. Ihr Termin fehlt? Einfach kostenlos einreichen: www.bilderbogen.de/eventeintrag
URL:https://mein-weiss.de/event/trio-entdeckungen-mit-musikern-der-koeniglich-schwedischen-oper-stockholm/
LOCATION:RTK Germania Köln-Poll\, Alfred-Schütte-Allee 163
ATTACH;FMTTYPE=image/png:https://mein-weiss.de/wp-content/uploads/2025/03/Bildschirmfoto-2025-01-14-um-11.25.44-1024x523-1.png
END:VEVENT
BEGIN:VEVENT
DTSTART;TZID=Europe/Berlin:20250504T110000
DTEND;TZID=Europe/Berlin:20250504T150000
DTSTAMP:20260425T141743
CREATED:20250428T100051Z
LAST-MODIFIED:20250428T100051Z
UID:4396-1746356400-1746370800@mein-weiss.de
SUMMARY:Kita Flohmarkt e.v. Philippus Raderthal
DESCRIPTION:Dieser Eintrag wird Ihnen zur Verfügung gestellt vom Kölner BilderBogen – eines der beliebtesten Stadtmagazine in Köln. Ihr Termin fehlt? Einfach kostenlos einreichen: www.bilderbogen.de/eventeintrag
URL:https://mein-weiss.de/event/kita-flohmarkt-e-v-philippus-raderthal/
LOCATION:Ev. Philippuskirche Köln-Raderthal\, Albert-Schweitzer-Straße 3\, Köln\, NRW\, 50968\, Deutschland
END:VEVENT
BEGIN:VEVENT
DTSTART;TZID=Europe/Berlin:20250504T140000
DTEND;TZID=Europe/Berlin:20250504T180000
DTSTAMP:20260425T141743
CREATED:20250410T080047Z
LAST-MODIFIED:20250410T080047Z
UID:4280-1746367200-1746381600@mein-weiss.de
SUMMARY:Kunstsonntag in der Wachsfabrik von 14 bis 18 Uhr mit Führung ab 13 Uhr
DESCRIPTION:Die Künstler*innen des Kunstzentrum Wachsfabrik laden herzlich am 04. Mail zwischen 14 und 18 Uhr in ihre geöffneten Ateliers ein und freuen sich auf die Besucher und persönliche Begegnungen. Der Eintritt ist frei. Das Café ist geöffnet. \nAb 13 Uhr bietet die Kunsthistorikerin Hanna Styrie bis ca. 14:30 Uhr eine Führung durch die Ateliers auf Spendenbasis an. Treffpunkt ist am Rolltor vorne. \nAdresse: Industriestraße 170\, 50999 Köln.    Weitere Informationen unter www.kunstzentrum-wachsfabrik.koeln. \n9 geöffnete Ateliers: \nAtelier 05 – Sebastian Probst – Art Projekt – Bildhauerei \nAtelier 10 – Jeannette de Payrebrune – Malerei & Skulptur \nAtelier 12 – Manfred Wachendorf\, Jovita Majewski\, Pascal Behrendt\, Inge Lager\, Mia Forsch – Skulptur & Malerei \nAtelier 13 – Gertraud Lütkefels – Schmuck & Objekte \nAtelier 14 – miegL + Gastkünstler*in Student*in – Malerei & Bildhauerei \nAtelier 19 – Sabine Burghardt – Fotografie + Gastkünstler Josta Stapper – Zeichnung \nAtelier 20 – Joao de Almeida – Objekte \nAtelier 21 – Martha Potempa & Thomas Brück + Gastkünstler*in \nAtelier 25 – Hans Jürgen Greve – Boxs Bücherschränke + Gaskünstler*in Student*in \n\nDieser Eintrag wird Ihnen zur Verfügung gestellt vom Kölner BilderBogen – eines der beliebtesten Stadtmagazine in Köln. Ihr Termin fehlt? Einfach kostenlos einreichen: www.bilderbogen.de/eventeintrag
URL:https://mein-weiss.de/event/kunstsonntag-in-der-wachsfabrik-von-14-bis-18-uhr-mit-fuehrung-ab-13-uhr/
LOCATION:Wachsfabrik\, Industriestraße 170\, Köln\, 50999\, Deutschland
END:VEVENT
END:VCALENDAR