BEGIN:VCALENDAR
VERSION:2.0
PRODID:-//Dorfgemeinschaft Weiss - ECPv6.15.20//NONSGML v1.0//EN
CALSCALE:GREGORIAN
METHOD:PUBLISH
X-ORIGINAL-URL:https://mein-weiss.de
X-WR-CALDESC:Veranstaltungen für Dorfgemeinschaft Weiss
REFRESH-INTERVAL;VALUE=DURATION:PT1H
X-Robots-Tag:noindex
X-PUBLISHED-TTL:PT1H
BEGIN:VTIMEZONE
TZID:Europe/Berlin
BEGIN:DAYLIGHT
TZOFFSETFROM:+0100
TZOFFSETTO:+0200
TZNAME:CEST
DTSTART:20240331T010000
END:DAYLIGHT
BEGIN:STANDARD
TZOFFSETFROM:+0200
TZOFFSETTO:+0100
TZNAME:CET
DTSTART:20241027T010000
END:STANDARD
BEGIN:DAYLIGHT
TZOFFSETFROM:+0100
TZOFFSETTO:+0200
TZNAME:CEST
DTSTART:20250330T010000
END:DAYLIGHT
BEGIN:STANDARD
TZOFFSETFROM:+0200
TZOFFSETTO:+0100
TZNAME:CET
DTSTART:20251026T010000
END:STANDARD
BEGIN:DAYLIGHT
TZOFFSETFROM:+0100
TZOFFSETTO:+0200
TZNAME:CEST
DTSTART:20260329T010000
END:DAYLIGHT
BEGIN:STANDARD
TZOFFSETFROM:+0200
TZOFFSETTO:+0100
TZNAME:CET
DTSTART:20261025T010000
END:STANDARD
END:VTIMEZONE
BEGIN:VEVENT
DTSTART;VALUE=DATE:20250412
DTEND;VALUE=DATE:20250428
DTSTAMP:20260423T131250
CREATED:20250324T090044Z
LAST-MODIFIED:20250324T090044Z
UID:4083-1744416000-1745798399@mein-weiss.de
SUMMARY:Ausstellung „schwarzweiß 8“
DESCRIPTION:Dieser Eintrag wird Ihnen zur Verfügung gestellt vom Kölner BilderBogen – eines der beliebtesten Stadtmagazine in Köln. Ihr Termin fehlt? Einfach kostenlos einreichen: www.bilderbogen.de/eventeintrag
URL:https://mein-weiss.de/event/ausstellung-schwarzweiss-8/
LOCATION:K49 – Raum für Kreative.\, Goltsteinstr. 49\, Köln\, NRW\, 50968\, Deutschland
ATTACH;FMTTYPE=image/png:https://mein-weiss.de/wp-content/uploads/2025/03/Bildschirmfoto-2025-03-24-um-09.18.22.png
END:VEVENT
BEGIN:VEVENT
DTSTART;TZID=Europe/Berlin:20250419T000000
DTEND;TZID=Europe/Berlin:20250427T235959
DTSTAMP:20260423T131250
CREATED:20250414T080103Z
LAST-MODIFIED:20250414T090054Z
UID:4286-1745020800-1745798399@mein-weiss.de
SUMMARY:Kirmes in Rodenkirchen
DESCRIPTION:Dieser Eintrag wird Ihnen zur Verfügung gestellt vom Kölner BilderBogen – eines der beliebtesten Stadtmagazine in Köln. Ihr Termin fehlt? Einfach kostenlos einreichen: www.bilderbogen.de/eventeintrag
URL:https://mein-weiss.de/event/kirmes-in-rodenkirchen/
LOCATION:Rodenkirchen\, Uferstraße
END:VEVENT
BEGIN:VEVENT
DTSTART;VALUE=DATE:20250425
DTEND;VALUE=DATE:20250428
DTSTAMP:20260423T131250
CREATED:20250326T120049Z
LAST-MODIFIED:20250326T120049Z
UID:4123-1745539200-1745798399@mein-weiss.de
SUMMARY:Street Food Festival Köln-Ehrenfeld
DESCRIPTION:Die beliebte Street Food-Szene von Köln kommt zum zweiten Mal dieses Jahr während der c/o Pop nach Köln! Vom 25. – 27. April öffnet das Street Food Festival in Köln Ehrenfeld erneut seine Tore und lädt alle Feinschmecker*innen\, Gourmets und Abenteuerlustigen zu einem einzigartigen Geschmackserlebnis ein. Mit über 30 handverlesenen Street Food Ständen aus der ganzen Welt treffen Burger mit Entenfleisch\, auf Waffeln oder Kichererbsen\, sodass alle\, mit kleinem oder großem Hunger\, etwas finden können. Das von uns präsentierte Street Food ist selbst-gebacken\, frisch zubereitet\, abwechslungsreich und vor allem international. \nDie Daten auf einen Blick: \nStreet Food Festival Köln-Ehrenfeld\n\nWann?\nFr.\, 25.04.2025 | 16:00 – 22:00 Uhr\nSa.\, 26.04.2025 | 12:00 – 22:00 Uhr\nSo.\, 27.04.2025 | 12:00 – 20:00 Uhr \nWo? \nOskar-Jäger Straße 192\, 50825 Köln \nEintritt:  4\,00 € \nkomplettes Wochenende freier Eintritt mit c/o Pop Festivalbändchen \nMenschen mit Schwerbehindertenausweis (+1 Begleitperson) und Kinder unter 12 Jahren können kostenlos das Street Food Festival besuchen. \nLink zu unserer Facebook-Veranstaltung: https://www.facebook.com/events/472198565974777/ \n\nDieser Eintrag wird Ihnen zur Verfügung gestellt vom Kölner BilderBogen – eines der beliebtesten Stadtmagazine in Köln. Ihr Termin fehlt? Einfach kostenlos einreichen: www.bilderbogen.de/eventeintrag
URL:https://mein-weiss.de/event/street-food-festival-koeln-ehrenfeld/
LOCATION:Oskar-Jäger-Straße 192\, 50825 Köln
ATTACH;FMTTYPE=image/png:https://mein-weiss.de/wp-content/uploads/2025/03/Bildschirmfoto-2025-03-26-um-12.31.36-1024x541-1.png
END:VEVENT
BEGIN:VEVENT
DTSTART;TZID=Europe/Berlin:20250426T110000
DTEND;TZID=Europe/Berlin:20250426T130000
DTSTAMP:20260423T131250
CREATED:20250407T090045Z
LAST-MODIFIED:20250407T090045Z
UID:4257-1745665200-1745672400@mein-weiss.de
SUMMARY:Grundlagen der Computerreparatur
DESCRIPTION:Viele kennen diese Probleme\, wenn Computer oder Laptop kaputt sind: Wie rette ich die Daten von der Festplatte? Was mache ich\, wenn die Garantie bereits abgelaufen ist? Was kann ich noch tun\, wenn ich mir kein neues Gerät zulegen möchte? \nFrederik Labonté zeigt Ihnen in diesem Workshop\, wie Sie wichtige Daten retten können und wie Sie möglichst günstig und schnell drei der häufigsten Probleme\, defekte Festplatte\, ausgelasteter Arbeitsspeicher oder fehlerhaftes Betriebssystem\, selbst an Ihrem Gerät beheben können. \nBitte verzichten Sie darauf\, Ihre privaten Geräte mitzubringen\, da eine Reparatur vor Ort nicht möglich ist. Vorkenntnisse sind nicht erforderlich. \nAnmeldung erforderlich unter www.stbib-koeln.de/buchung \nBildquelle: Stadtteil-Bibliothek Rodenkirchen \n\nDieser Eintrag wird Ihnen zur Verfügung gestellt vom Kölner BilderBogen – eines der beliebtesten Stadtmagazine in Köln. Ihr Termin fehlt? Einfach kostenlos einreichen: www.bilderbogen.de/eventeintrag
URL:https://mein-weiss.de/event/grundlagen-der-computerreparatur/
LOCATION:Stadtteil-Bibliothek Rodenkirchen\, Schillingsrotter Str. 38\, Köln\, NRW\, 50996\, Deutschland
END:VEVENT
BEGIN:VEVENT
DTSTART;TZID=Europe/Berlin:20250426T140000
DTEND;TZID=Europe/Berlin:20250426T220000
DTSTAMP:20260423T131250
CREATED:20250113T120051Z
LAST-MODIFIED:20250312T110056Z
UID:2895-1745676000-1745704800@mein-weiss.de
SUMMARY:Jeck Jevv Jas – Kartcenter Cologne
DESCRIPTION:Den Termin muss man sich unbedingt merken: Am 26. April 2025 verwandelt sich das Kartcenter Cologne im Kölner-Süden in eine Rennstrecke der besonderen Art. Kölner Karnevalisten steigen aufs Gas – und das alles für den guten Zweck. Das große Charity-Kartrennen kommt dem Schul-Veedelszoch zugute und verspricht ein unvergessliches Spektakel für Groß und Klein zu werden. \nDer Schul- und Veedelzoch steht bekanntlich auf wackeligen Beinen\, wenn es um die Finanzierung und dessen Erhalt geht. Grund genug die Ärmel hochzukrempeln – so entstand die Idee bei den Inhabern der Kart-Bahn\, Jason Kramer (Alt-Köllen)\, seiner Frau Marissa (Alt-Köllen) und Marcel Orlowski mit Spaß & Freude etwas zu tun. Geboren war die Idee eines Kartrennens mit attraktivem Rahmenprogramm von und für Karnevalisten. \nInsgesamt treten am 26. April 2025 zwölf Renn-Teams mit jeweils 4 Fahrern (1 Team = eine Karnevalsgesellschaft) auf der spektakulären Rennstrecke\, die ihr 30-jähriges Jubiläum feiert\, gegeneinander an. Mitmachen kann jeder\, der Lust auf rasanten Renn-Spaß hat: Ein/e Fahrer/in ist ab 111 Euro je Kart dabei. Spannung garantiert das spektakuläre Warm-Up\, gefolgt von einem packenden Qualifying und dem großen Rennen – das Adrenalin fließt garantiert in Strömen! \nDoch nicht nur die Fahrer kommen auf ihre Kosten. Das Rahmenprogramm hat für alle Besucher etwas zu bieten: Auf der Bühne sorgen Kölner Künstler wie z.B. die Räuber und Simon Schwieren für beste Unterhaltung. Auch für die kleinen Gäste ist bestens gesorgt – mit ganztägiger Kinderanimation und einem aufregenden Bobbycar-Rennen auf der echten Rennstrecke. \nFür das leibliche Wohl ist selbstverständlich bestens gesorgt\, und wer das Event live erleben möchte\, kann sich für einen Eintrittspreis von nur 11 Euro ins Getümmel stürzen (Kinder bis 12 Jahre Eintritt frei). Das Event beginnt um 14:00 Uhr und endet um 22:00 Uhr – acht Stunden voller Action\, Spaß und Gemeinschaftsgefühl. \nAlso\, Kalender raus und den Termin notieren! Gemeinsam Gas geben für den guten Zweck – das wird ein Tag\, den man so schnell nicht vergisst. Der Kartenvorverkauf startet ab Aschermittwoch und solange der Vorrat reicht. \nFahrer- und Teambewerbungen können bis Weiberfastnacht an jeck@kartcenter-cologne.de abgegeben werden. \nSämtliche Erlöse gehen unter notarieller Aufsicht zu Gunsten des Schul- und Veedelzochs. \nTicket kaufen \n  \nPräsentiert von: \n \n\nDieser Eintrag wird Ihnen zur Verfügung gestellt vom Kölner BilderBogen – eines der beliebtesten Stadtmagazine in Köln. Ihr Termin fehlt? Einfach kostenlos einreichen: www.bilderbogen.de/eventeintrag
URL:https://mein-weiss.de/event/jeck-jevv-jas-kartcenter-cologne/
LOCATION:Kartcenter Rodenkirchen\, Kelvinstr. 5-7\, Köln\, 50996\, Germany
CATEGORIES:Kinder
ATTACH;FMTTYPE=image/png:https://mein-weiss.de/wp-content/uploads/2025/03/final_logo_charity_kartcenter_quad-1024x1015-1.png
END:VEVENT
BEGIN:VEVENT
DTSTART;TZID=Europe/Berlin:20250426T153000
DTEND;TZID=Europe/Berlin:20250426T173000
DTSTAMP:20260423T131250
CREATED:20250414T080106Z
LAST-MODIFIED:20250414T140055Z
UID:4290-1745681400-1745688600@mein-weiss.de
SUMMARY:Maibaum-Aktion\, Maternusplatz
DESCRIPTION:Dieser Eintrag wird Ihnen zur Verfügung gestellt vom Kölner BilderBogen – eines der beliebtesten Stadtmagazine in Köln. Ihr Termin fehlt? Einfach kostenlos einreichen: www.bilderbogen.de/eventeintrag
URL:https://mein-weiss.de/event/maibaum-aktion-maternusplatz/
LOCATION:Matenusplatz Rodenkirchen
ATTACH;FMTTYPE=image/jpeg:https://mein-weiss.de/wp-content/uploads/2025/04/489780551_705490915339629_9014510064942859892_n-658x1024-1.jpg
END:VEVENT
BEGIN:VEVENT
DTSTART;TZID=Europe/Berlin:20250426T200000
DTEND;TZID=Europe/Berlin:20250426T220000
DTSTAMP:20260423T131250
CREATED:20250317T120047Z
LAST-MODIFIED:20250317T120047Z
UID:3977-1745697600-1745704800@mein-weiss.de
SUMMARY:Beyond Blond – Das wird wieder Mix! Musikkabarett
DESCRIPTION:Beyond Blond – drüber\, drunter und durch! Das sind Natascha Fiedler & Laura Dietrich\, die eine begnadete Steptänzerin und Sängerin\, die andere upgedatete Chansonette und Pianistin.\nAls sie all ihre Talente zusammenwerfen stellen sie erleuchtet fest: \nDas wird wieder Mix! \nUnheimlich begabt aber NOCH nicht preisgekrönt erklären die quirligen Kreuzbergerinnen ihr Scheitern zum Programm.\nSie schleppen Maurice Ravel auf eine Technoparty und verwandeln dich und deine Sitzreihe in einen Pop-Chor! Mutig packen sie das Projekt „Dating im 21. Jahrhundert“ an – der interessanteste Mann des Abends bleibt jedoch der Eisverkäufer.\nSie versuchen sich an klimafreundlichem Gesang und Kochkünsten und bringen mit musikalischer Varianz und einem Schrank voller Outfits Stimmung in die Bude! \nEin gut gemixtes Programm mit rasanten Steptanzeinlagen\, coolen Pianogrooves\, charmanten Streitigkeiten und der besten Musik der letzten hundert Jahre. \n\n\n\nTheater 509\n\n\nAK 23\,- €/ 17\,- € (erm) / VVK 18\,- € / 13 € (erm) (+Gebühren)\n\n\n\n\n\n\n  \nBildquelle: BeyondBlond \n\nDieser Eintrag wird Ihnen zur Verfügung gestellt vom Kölner BilderBogen – eines der beliebtesten Stadtmagazine in Köln. Ihr Termin fehlt? Einfach kostenlos einreichen: www.bilderbogen.de/eventeintrag
URL:https://mein-weiss.de/event/beyond-blond-das-wird-wieder-mix-musikkabarett/
LOCATION:Theater509 Bürgerhaus Stollwerck\, Dreikönigenstraße 23\, Köln\, 50678
ATTACH;FMTTYPE=image/png:https://mein-weiss.de/wp-content/uploads/2025/03/Bildschirmfoto-2025-03-17-um-11.32.53.png
END:VEVENT
END:VCALENDAR